{"text_format":"1","workbook":"xlsx","n_sheets":55,"sheets":["Т0","Admin","Калкулатор"," Помош - Каталог на намени","А1-I","А1-II","А2","А3","А4","Б1","Б2","Б3","Б4","Б5","Б6","В1-I","В1-II","В2-I","В2-II","В2-III","В2-IV","В2-V","В3-I","В3-II","В3-III","В3-IV","В4","В5","В6-I-А","В6-I-Б","В6-I-В","В6-I-Г","В6-I-Д","В6-I-Е","В6-II","В7-I","В7-II","Г1-I","Г1-II","Г2-I","Г2-II","Г3-I","Г3-II","Г4-I","Г4-II","Г5-I","Г5-II","Д1-I","Д1-II","Д2","Д3-I","Д3-II","Д4","Е2","Е3"],"not_rendered":{"charts":0,"images":0,"macros":1,"external_links":0,"defined_names":109,"comments":0,"pivot_tables":0},"unopened":[],"bounds":{"document_bytes":16777216,"sheet_cells":100000,"rows_first":2000,"rows_last":500,"rows_between":2000,"halvings":0,"cell_chars":16384,"cell_head_chars":4096},"cells_cut":0,"cells_raw":0,"read":"whole","date_system":"1900"}

{"sheet":"Т0","index":0,"n_rows":49,"n_cols":18,"rows_kept":49,"cut":false,"hidden":true,"merged":[[24,5,24,6],[24,7,24,8],[24,9,24,10],[24,11,24,12],[4,2,4,14],[15,3,15,5],[15,6,15,7],[16,3,16,5],[16,6,16,7],[17,3,17,5],[22,5,23,6],[22,7,22,8],[22,9,23,10],[22,11,22,12],[22,13,23,13],[22,14,23,14],[14,9,14,12],[23,7,23,8],[23,11,23,12],[13,6,13,7],[18,9,18,12],[20,5,21,8],[20,9,20,12],[16,9,16,12],[15,9,15,12],[20,13,21,14],[21,9,21,12],[17,6,17,7],[18,3,18,5],[18,6,18,7],[17,9,17,12],[10,3,10,5],[10,6,10,7],[11,9,11,12],[12,9,12,12],[13,9,13,12],[10,9,10,12],[11,3,11,5],[11,6,11,7],[12,3,12,5],[12,6,12,7],[2,3,2,14],[7,9,7,12],[7,13,7,14],[8,9,8,12],[9,9,9,12],[9,3,9,5],[9,6,9,7],[8,6,8,7],[5,2,5,14]]}
[]
[]
[null,null,"Табела 1.А.","Табела 1.Б."]
[]
[null,null,"Табела 1.В."]
[null,null,"*Напомена: Одредувањето на цената за проектирање на секој од објектите се одредува според неговата основна намена. Доколку некој објект нема специфична јасно одредена класа на намена, цената за проектирање се одредува според групата на објекти во кои е класифициран"]
[]
[null,null,"Површина на градба",null,null,null,"m²","(варијабла)",null,"Вид на инженерска услуга",null,null,null,"Минимална вкупна цена"]
[null,null,null,null,null,null,null,null,null,"1. Изработка на проектна документација (1.1.+1.2)"]
[null,null,"Просечна цена на изведба за 1 m²",null,null,null,"Табела 1.Г.",null,null,"1.1. Изработка на основен проект"]
[null,null,null,null,null,null,null,null,null,"1.2. Изработка на идеен проект"]
[null,null,"Вкупна инвестициона градежна  вредност"]
[null,null,null,null,null,null,null,null,null,"2. Ревизија на проектна документација (2.1.+2.2.)"]
[null,null,"Вредност на евро валута",1,"=",62,null,null,null,"2.1. Ревизија на основен проект"]
[null,null,null,null,null,null,null,null,null,"2.2. Ревизија на идеен проект"]
[null,null,"Изработка на Основен проект","Ревизија на Основен проект",null,null,"Надзор на изградба"]
[null,null,{"$f":"G49/G10","v":{"$error":"#VALUE!"}},{"$f":"K49/G10","v":{"$error":"#VALUE!"}},null,null,{"$f":"N49","v":"-"},null,null,"3. Надзор на градба (3.1.+3.2.)"]
[null,null,"Изработка на Идеен проект","Ревизија на Идеен проект",null,null,"Проектантски надзор",null,null,"3.1. Надзор на градба"]
[null,null,{"$f":"I49/G10","v":{"$error":"#VALUE!"}},{"$f":"M49/G10","v":{"$error":"#VALUE!"}},null,null,{"$f":"O49","v":"-"},null,null,"3.2. Проектантски надзор"]
[]
[null,null,null,null,null,"Изработка на проектна документација",null,null,null,"Ревизија на проектна документација",null,null,null,"Надзор на изградба"]
[null,null,null,null,null,null,null,null,null,"(15% од вредноста на Изработка на проектна документација)"]
[null,null,null,null,null,"Основен проект",null,"Идеен проект",null,"Основен проект",null,"Идеен проект",null,"Надзор на изградба","Проектантски надзор"]
[null,null,null,null,null,null,null,"(30% од вредноста на основниот проект)",null,null,null,"(30% од вредноста на ревизија на основниот проект)"]
[null,null,"Вид на проект","Удел",null,"Минимална цена",null,"Минимална цена",null,"Минимална цена",null,"Минимална цена",null,"Минимален процент од инвестиција","Минимален процент од инвестиција"]
[null,null,"(според намената)","[%]",null,"[денари/m²]","[€/m²]","[денари/m²]","[€/m²]","[денари/m²]","[€/m²]","[денари/m²]","[€/m²]","[%]","[%]"]
[]
[null,null,"Архитектонски проект"]
[null,null,"Градежно-конструктивен проект"]
[null,null,"Електротехнички проект"]
[null,null,"Хидротехнички проект"]
[null,null,"Проект за водовод и канализација"]
[null,null,"Термотехнички проект"]
[null,null,"Машински проект"]
[null,null,"Проект за телекомуникациски инсталации"]
[null,null,"Технолошки проект"]
[null,null,"Сообраќаен проект"]
[null,null,"Елаборат за заштита од пожари"]
[null,null,"Елаборат за заштита при работа"]
[null,null,"Елаборат за геомеханика"]
[null,null,"Елаборат за заштита од бучава"]
[null,null,"Елаборат за енергетска ефикасност"]
[null,null,"Елаборат за заштита на животната средина"]
[null,null,"Проект за  партерно уредување и сообраќај"]
[null,null,"Проект за сценска технологија и акустика"]
[]
[null,null,"Координација на проект"]
[]
[null,null,"Вкупно:","-",null,{"$f":"SUM(F28:F47)","v":0},"-",{"$f":"SUM(H28:H47)","v":0},"-",{"$f":"SUM(J28:J47)","v":0},"-",{"$f":"SUM(L28:L47)","v":0},"-","-","-",null,null,{"$f":"(O9+O13+O17)/G12","v":{"$error":"#DIV/0!"}}]

{"sheet":"Admin","index":1,"n_rows":34,"n_cols":2,"rows_kept":34,"cut":false,"hidden":true,"merged":[]}
[]
[]
[]
[null,{"$f":"' Помош - Каталог на намени'!D3","v":"Основна класа на намена"}]
[null,"[намена]"]
[null," Помош - Каталог на намени"]
[null,"А1"]
[null,"А2"]
[null,"А3"]
[null,"А4"]
[null,"Б1"]
[null,"Б2"]
[null,"Б3"]
[null,"Б4"]
[null,"Б5"]
[null,"Б6"]
[null,"В1"]
[null,"В2"]
[null,"В3"]
[null,"В4"]
[null,"В5"]
[null,"В6"]
[null,"В7"]
[null,"Г1"]
[null,"Г2"]
[null,"Г3"]
[null,"Г4"]
[null,"Г5"]
[null,"Д1"]
[null,"Д2"]
[null,"Д3"]
[null,"Д4"]
[null,"Е2"]
[null,"Е3"]

{"sheet":"Калкулатор","index":2,"n_rows":13,"n_cols":5,"rows_kept":13,"cut":false,"hidden":false,"merged":[[2,2,2,4],[4,2,4,4],[6,2,6,4],[10,3,10,4],[12,2,12,4]]}
[]
[]
[null,null,"Калкулатор"]
[]
[null,null,"Со овој Калкулатор брзо може да се дојде до цената на чинење на Изработка и Ревизија на проектна документација, како и Надзор на изградба за соодветна намена."]
[]
[null,null,"Упатство за употреба на калкулаторот:\n\n1. Внесете ја бруто површината за градење во полето означено за тоа.\n\n2. Изберете ја намената на градбата во полето означено за тоа.\n\n3. Веднаш до листот (Sheet) „Калкулатор“ ќе Ви се појават нови листови (Sheets), релевантни за намената што сте ја избрале.\n\n4. Изберете го соодветниот лист (Sheet) каде детално се изразени вредностите за Изработка и Ревизија на проектна документација, односно за Надзор над изградба според намената што сте ја избрале.\n\n4. Доколку Ви е потребна помош околу изборот на соодветна намена, во полето за намена на градбата изберете „Помош - Каталог на намени“. Откако ќе изберете - ќе Ви се појави нов лист (Sheet) од каде можете да ја отчитате соодветната намена. Потоа вратете се во листот (Sheet) „Калкулатор“ и повторете ја постпката со избор на соодветната намена."]
[]
[null,null,"Колку изнесува бруто површината за градење?",null,"[m²]"]
[]
[null,null,"Која е намената на градбата?","[намена]"]
[]
[null,null,"Изберете го соодветниот лист (Sheet) подолу:"]

{"sheet":" Помош - Каталог на намени","index":3,"n_rows":63,"n_cols":7,"rows_kept":63,"cut":false,"hidden":true,"merged":[[59,3,60,3],[59,4,60,4],[59,6,60,6],[50,3,50,6],[58,3,58,6],[4,2,8,2],[3,3,3,6],[9,3,9,6],[16,3,16,6],[39,3,39,6]]}
[]
[]
[null,null,null,"Основна класа на намена","Наслов на намена","Опис на намена","Просечна цена на изведба за 1 m²"]
[]
[null,null,null,"А1-I","ДОМУВАЊЕ ВО КУЌИ\n(I ГРУПА)","А1.1. - Станбени куќи - слободностоечки\nА1.2. - Станбени куќи со споен ѕид на меѓа – двокуќи\nА1.3. - Станбени куќи со споени ѕидови на меѓа од двете страни – куќи во низови\nА1.4. - Станбени куќи со повеќе споени ѕидови на меѓа – атриумски куќи\nА1.5. - Станбени куќи во состав на селски стопански двор",{"$f":"465","v":465}]
[null,null,null,"А1-II","ДОМУВАЊЕ ВО КУЌИ\n(II ГРУПА)","А1.6. - Други станбени куќи – вили и слично",{"$f":"610","v":610}]
[null,null,null,"А2","ДОМУВАЊЕ ВО ЗГРАДИ","А2.1. - Станбени згради – слободностоечки блокови и кули\nА2.2. - Станбено-деловни згради – слободностоечки, во низи, во периметрална формација и други\nА2.3. - Станбени згради во состав на сложени градби со други намени",{"$f":"545","v":545}]
[null,null,null,"А3","ЗАЕДНИЧКО (ГРУПНО) ДОМУВАЊЕ","А3.1. - Згради за престој на ученици\nА3.2. - Згради за престој на студенти\nА3.3. - Згради за престој на пензионери, стари и немоќни лица\nА3.4. - Згради за престој на самци\nА3.5. - Згради за престој на деца без родители\nА3.6. - Згради за престој на незгрижени лица и бездомници\nА3.7. - Згради за престој на бегалци, мигранти, баратели на азил и други",{"$f":"650","v":650}]
[null,null,null,"А4","ВРЕМЕН ПРЕСТОЈ","А4.1. - Хостели, пансиони и згради со апартмани и студија\nА4.2. - Мотели\nА4.3. - Викенд куќи и други објекти за времено сместување\nА4.4. - Планинарски домови\nА4.5. - Ловни домови, шумски куќи и истражувачки куќи\nА4.6. - Кампови - Спортски кампови, автокампови, детски и младински кампови\nА4.7. - Традиционални куќи за потреби на туризмот (селски, планински, езерски)",650]
[]
[null,null,null,"Б1","МАЛИ ЕДИНИЦИ ЗА КОМЕРЦИЈАЛНИ И ДЕЛОВНИ ДЕЈНОСТИ (ДО 200 m² И П + 1 КАТ)","Б1.1. - Дуќани, занаетчиски дуќани, продавници за мали прибори, опрема, делови и потреби за домаќинство\nБ1.2. - Работилници за поправка на предмети и уреди, сервиси за чистење облека и други сервиси\nБ1.3. - Продавници за храна, минимаркети, гранапи и други продавници\nБ1.4. - Продавници за машини и опрема за домаќинство\nБ1.5. - Ресторани, кантини, кафеани, кебапчилници, сендвичари\nБ1.6. - Кафулиња, мали барови, бифеа, бистроа, пивници и пивски подруми, винарии и вински подруми\nБ1.7. - Слаткарници, патисерии, продавници на бели печива, мали пекари и фурни\nБ1.8. - Банкарски експозитури, канцеларии за финансиски услуги, менувачници\nБ1.9. - Пошти, поштенски канцеларии, канцеларии за прием на пратки\nБ1.10. - Канцеларии за консалтинг и интелектуални услуги\nБ1.11. - Адвокатски, нотарски и извршителски канцеларии\nБ1.12. - Аптеки, продавници за козметика\nБ1.13. - Мали ординации од сите медицински и стоматолошки области (стоматолошки, физиотерапевтски и слично)\nБ1.14. - Продавници за предмети, уреди, салони за мебел и други мали специјализирани продавници\nБ1.15. - Козметички салони, студија за нега на телото и слично",{"$f":"815","v":815}]
[null,null,null,"Б2","ГОЛЕМИ ЕДИНИЦИ ЗА ТРГОВИЈА (НАД 200 m² И/ИЛИ ПОВЕЌЕ ОД П + 1 КАТ)","Б2.1. - Отворени и затворени пазари\nБ2.2. - Трговски центри\nБ2.3. - Стоковни куќи\nБ2.4. - Супермаркети, хипермаркети и други големи маркети\nБ2.5. - Големи специјализирани продавници, автосалони, салони за мебел и други\nБ2.6. - Големи сали, хали, складови и магацини за потребите на трговијата",{"$f":"825","v":825}]
[null,null,null,"Б3","ГОЛЕМИ ЕДИНИЦИ ЗА УГОСТИТЕЛСКА ДЕЈНОСТ","Б3.1. - Ресторани\nБ3.2. - Таверни\nБ3.3. - Ноќни клубови\nБ3.4. - Казина\nБ3.5. - Дискотеки",{"$f":"825","v":825}]
[null,null,null,"Б4","ДЕЛОВНИ И КОМЕРЦИЈАЛНИ ДЕЈНОСТИ ВО ГОЛЕМИ КАНЦЕЛАРИСКИ ЗГРАДИ","Б4.1. - Деловни згради со канцеларии\nБ4.2. - Корпорациски згради и акционерски друштва\nБ4.3. - Управни згради и администрации со шалтерски сали\nБ4.4. - Згради за професионални сервиси, телекомуникации и осигурителни компании\nБ4.5. - Банки и други деловни згради за финансиски сервиси\nБ4.6. - Комплекси и згради за конференциски и деловни центри",{"$f":"675*1.2","v":810}]
[null,null,null,"Б5","ХОТЕЛИ И ХОТЕЛСКИ КОМПЛЕКСИ","Б5.1. - Хотелски комплекси\nБ5.2. - Хотели, градски хотели, станични хотели, аеродромски хотели\nБ5.3. - Хотели во состав на деловни, конференциски и трговски комплекси",{"$f":"815","v":815}]
[null,null,null,"Б6","ПРОСТОРИ ЗА СОБИРИ И ПУБЛИКА","Б6.1. - Стадиони и арени за фудбал, атлетика и манифестации\nБ6.2. - Спортски сали за атлетски дисциплини, кошарка, ракомет, тенис, покриени базени, отворени базени со трибини и други спортови\nБ6.3. - Повеќенаменски сали за спортови, собири и манифестации\nБ6.4. - Саемски сали\nБ6.5. - Конгресни и конференциски сали",{"$f":"935","v":935}]
[]
[null,null,null,"В1-I","ОБРАЗОВАНИЕ И НАУКА\n(I ГРУПА)","В1.1. - Основно образование: основни училишта, училишта за ученици со посебни образовни потреби\nВ1.2. - Средно образование: средни училишта, гимназии, технички, индустриски и други стручни училишта",{"$f":"810","v":810}]
[null,null,null,"В1-II","ОБРАЗОВАНИЕ И НАУКА\n(II ГРУПА)","В1.3. - Високо образование: универзитетски кампуси, универзитети, академии, факултети, институти, високи училишта\nВ1.4. - Континуирано и дополнително образование и усовршување, оспособување и учење за возрасни лица\nВ1.5. - Научно-истражувачки центри, лаборатории, институти и други образовни и научни институции\nВ1.6. - Опсерватории и други истражувачки објекти",{"$f":"940","v":940}]
[null,null,null,"В2-I","ЗДРАВСТВЕНА И СОЦИЈАЛНА ЗАШТИТА\n(I ГРУПА)","В2.1. - Клинички центри, универзитетски и клинички болници од терцијарната здравствена заштита\n",{"$f":"1290","v":1290}]
[null,null,null,"В2-II","ЗДРАВСТВЕНА И СОЦИЈАЛНА ЗАШТИТА\n(II ГРУПА)","В2.3. - Установи од секундарната здравствена заштита: поликлиники, клиники и амбуланти од специјалистичка медицина и стоматологија, лаборатории и сл.\nВ2.4. - Општи и специјални болници од секундарната здравствена заштита\nВ2.6. - Санаториуми, лечилишта и други установи за престој и нега",{"$f":"1225","v":1225}]
[null,null,null,"В2-III","ЗДРАВСТВЕНА И СОЦИЈАЛНА ЗАШТИТА\n(III ГРУПА)","В2.2. - Амбуланти од општа медицина и стоматологија, лаборатории и други од примарната здравствена заштита\nВ2.5. - Установи од примарната здравствена заштита: центри за јавно здравје, епидемиолошки заводи и здравствени домови",{"$f":"1100","v":1100}]
[null,null,null,"В2-IV","ЗДРАВСТВЕНА И СОЦИЈАЛНА ЗАШТИТА\n(IV ГРУПА)","В2.7. - Институции за социјална грижа\nВ2.8. - Установи за згрижување на деца од претшколска возраст – детски градинки, јасли и сл.",{"$f":"910","v":910}]
[null,null,null,"В2-V","ЗДРАВСТВЕНА И СОЦИЈАЛНА ЗАШТИТА\n(V ГРУПА)","В2.9. - Згради за ветеринарна заштита: болници, станици, стационари и ординации за домашни миленичиња",{"$f":"1225","v":1225}]
[null,null,null,"В3-I","КУЛТУРА\n(I ГРУПА)","В3.1. - Кина, кинотеки, синеплекси или кино комплекси\nВ3.3. - Музеи, музејски комплекси, специјализирани музеи\nВ3.4. - Изложбени галерии, уметнички галерии, простори за мултимедиски настани\nВ3.5. - Кинотеки, библиотеки, информативно-документарни центри\nВ3.6. - Домови на културата, комбинирани културни центри",{"$f":"980","v":980}]
[null,null,null,"В3-II","КУЛТУРА\n(II ГРУПА)","В3.2. - Театри\nВ3.7. - Филхармонија, концертни сали\nВ3.8. - Опери, балети",{"$f":"1290","v":1290}]
[null,null,null,"В3-III","КУЛТУРА\n(III ГРУПА)","В3.9. - Циркуси, вариетеи, забавни центри, сали за играње и танцови",{"$f":"825","v":825}]
[null,null,null,"В3-IV","КУЛТУРА\n(IV ГРУПА)","В3.10. - Зоолошки градини во градби, забавни и тематски паркови со градби и опрема и други објекти од култура",{"$f":"825","v":825}]
[null,null,null,"В4","ДРЖАВНИ АДМИНИСТРАЦИИ И ИНСТИТУЦИИ","В4.1. - Згради на органите на извршната власт: згради на владата, министерства, згради на владини тела, државно-протоколарни комплекси, згради и резиденции и сл.\nВ4.2. - Згради на судската власт - судови\nВ4.3. - Згради на законодавната власт - собрание\nВ4.4. - Згради на јавните обвинителства и државно правобранителство\nВ4.5. - Згради на други државни институции: уставен суд, народната банка, регулаторни тела и други\nВ4.6. - Управи, дирекции, агенции, заводи, архиви, институции за чување на архивска граѓа\nВ4.7. - Згради и комплекси на амбасади и дипломатски претставништва\nВ4.8. - Згради на органите на локалната самоуправа\nВ4.9. - Згради на меѓународни организации",{"$f":"925","v":925}]
[null,null,null,"В5","ВЕРСКИ ИНСТИТУЦИИ","В5.1. - Цркви\nВ5.2. - Џамии\nВ5.3. - Синагоги\nВ5.4. - Манастири\nВ5.5. - Текиња\nВ5.6. - Други верски институции",{"$f":"960","v":960}]
[null,null,null,"В6-I-А","ЗАШТИТЕНИ СПОМЕНИЦИ НА КУЛТУРАТА\n(I-А ГРУПА)","Градби со основна класа на намена од групата на класи на намена „А“ во состав на:\n\nВ.6.1. - Aрхеолошки локалитети и градби\nВ.6.2. - Културни целини: заштитени делови од населени места\nВ.6.3. - Предисториски градби, наоѓалишта, пештери",{"$f":"610","v":610}]
[null,null,null,"В6-I-Б","ЗАШТИТЕНИ СПОМЕНИЦИ НА КУЛТУРАТА\n(I-Б ГРУПА)","Градби со основна класа на намена од групата на класи на намена „Б“ во состав на:\n\nВ.6.1. - Aрхеолошки локалитети и градби\nВ.6.2. - Културни целини: заштитени делови од населени места\nВ.6.3. - Предисториски градби, наоѓалишта, пештери",{"$f":"825","v":825}]
[null,null,null,"В6-I-В","ЗАШТИТЕНИ СПОМЕНИЦИ НА КУЛТУРАТА\n(I-В ГРУПА)","Градби со основна класа на намена од групата на класи на намена „В“ во состав на:\n\nВ.6.1. - Aрхеолошки локалитети и градби\nВ.6.2. - Културни целини: заштитени делови од населени места\nВ.6.3. - Предисториски градби, наоѓалишта, пештери",{"$f":"980","v":980}]
[null,null,null,"В6-I-Г","ЗАШТИТЕНИ СПОМЕНИЦИ НА КУЛТУРАТА\n(I-Г ГРУПА)","Градби со основна класа на намена од групата на класи на намена „Г“ во состав на:\n\nВ.6.1. - Aрхеолошки локалитети и градби\nВ.6.2. - Културни целини: заштитени делови од населени места\nВ.6.3. - Предисториски градби, наоѓалишта, пештери",{"$f":"670","v":670}]
[null,null,null,"В6-I-Д","ЗАШТИТЕНИ СПОМЕНИЦИ НА КУЛТУРАТА\n(I-Д ГРУПА)","Градби со основна класа на намена од групата на класи на намена „Д“ во состав на:\n\nВ.6.1. - Aрхеолошки локалитети и градби\nВ.6.2. - Културни целини: заштитени делови од населени места\nВ.6.3. - Предисториски градби, наоѓалишта, пештери",{"$f":"920","v":920}]
[null,null,null,"В6-I-Е","ЗАШТИТЕНИ СПОМЕНИЦИ НА КУЛТУРАТА\n(I-Е ГРУПА)","Градби со основна класа на намена од групата на класи на намена „Е“ во состав на:\n\nВ.6.1. - Aрхеолошки локалитети и градби\nВ.6.2. - Културни целини: заштитени делови од населени места\nВ.6.3. - Предисториски градби, наоѓалишта, пештери",{"$f":"800*1.2","v":960}]
[null,null,null,"В6-II","ЗАШТИТЕНИ СПОМЕНИЦИ НА КУЛТУРАТА\n(II ГРУПА)","В.6.4. - Споменици, меморијални комплекси",{"$f":"475","v":475}]
[null,null,null,"В7-I","ДРЖАВНИ ИНСТИТУЦИИ ЗА ПРЕСТОЈ НА ЛУЃЕ ВО СПЕЦИЈАЛЕН РЕЖИМ\n(I ГРУПА)","В7.1. - Касарниски комплекси, сместување и престој на војска, згради за резервен состав, караули и стражарски пунктови\nВ7.2. - Затвори и казненопоправни установи, притворни затвори, затвори со посебно обезбедување\nВ7.3. - Полициски станици, згради за сместување на полиција, специјални полициски единици",{"$f":"945","v":945}]
[null,null,null,"В7-II","ДРЖАВНИ ИНСТИТУЦИИ ЗА ПРЕСТОЈ НА ЛУЃЕ ВО СПЕЦИЈАЛЕН РЕЖИМ\n(II ГРУПА)","В7.4. - Противпожарни станици",{"$f":"980","v":980}]
[]
[null,null,null,"Г1-I","ПРОИЗВОДСТВО НА ЕНЕРГИЈА И ТЕШКА И ЗАГАДУВАЧКА ИНДУСТРИЈА\n(I ГРУПА)","Г1.1. - Рударство и вадење на нафта и гас: градби и постројки за површински и подземни копови, каменоломи\nГ1.9. - Големи електрични централи: хидроелектрични централи, термоелектрични централи на јаглен, мазут, природен гас, јаловишта и пепелишта, нуклеарни електрани",{"$f":"675","v":675}]
[null,null,null,"Г1-II","ПРОИЗВОДСТВО НА ЕНЕРГИЈА И ТЕШКА И ЗАГАДУВАЧКА ИНДУСТРИЈА\n(II ГРУПА)","Г1.2. - Базна и преработувачка хемиска индустрија: петрохемиска индустрија, рафинерии, коксари и плинари, производство на бои, производство на пестициди и вештачки ѓубрива, производство на биогориво, радиоизотопи\nГ1.3. - Црна и обоена металургија: железарници, валавници, ливници, топилници на железо и челик, производство на лимови, кабли од цинк, бакар, алуминиум и легури\nГ1.4. - Тешка градежна индустрија и производство на неметали: циглани, ќерамидници, гипсари, цементари, производство на керамика и други неметали, производи од азбест, преработка на дрво, целулоза и хартија\nГ1.5. - Индустрија за преработка на кожа, текстилна индустрија за преработка и боење на предиво\nГ1.6. - Индустрија за преработка на каучук и гума, експлозивни производи и муниција\nГ1.7. - Прехранбена индустрија: производство на месо и меснати производи, кланици, млечни производи, производство на екстрахирани масла, желатин, шеќер\nГ1.8. - Базична фармацевтска индустрија, производство на сапун и детергенти",{"$f":"675","v":675}]
[null,null,null,"Г2-I","ЛЕСНА ПРЕРАБОТУВАЧКА И ПОМАЛКУ ЗАГАДУВАЧКА ИНДУСТРИЈА\n(I ГРУПА)","Г2.1. - Лесна градежна индустрија со производство на градежни елементи и производи, погони и бази за производство на асфалт и бетон\nГ2.2. - Лесна фармацевтска индустрија и производство на храна, кондиторски производи, безалкохолни пијалоци, вода, преработка на градинарски производи и овошје, тутун и други\nГ2.4. - Текстилна индустрија за ткаење на волна, памук и синтетички ткаења, индустрија за конфекционирање на кожна облека и обувки\nГ2.5. - Индустрија за автомобили, автомобилски делови и монтажа\nГ2.6. - Индустија за бела техника, електрични апарати, фотоволтаични панели, системи за климатизација\nГ2.7. - Производство на мебел од дрво, метал, пластика\nГ2.8. - Топлани за комунално греење\nГ2.9. - Индустија за вино, пиво, пекарска индустрија, фурни",{"$f":"675","v":675}]
[null,null,null,"Г2-II","ЛЕСНА ПРЕРАБОТУВАЧКА И ПОМАЛКУ ЗАГАДУВАЧКА ИНДУСТРИЈА\n(II ГРУПА)","Г2.3. - Млинови, дробилици, отпади за метал со преси",{"$f":"675","v":675}]
[null,null,null,"Г3-I","ИНДУСТРИЈА ЗА СКЛОПУВАЊЕ НА ФИНАЛНИ ПРОИЗВОДИ, СЕРВИСНИ УСЛУГИ И ПРОИЗВОДСТВО НА ЕНЕРГИЈА ОД ОБНОВЛИВИ ИЗВОРИ (I ГРУПА)","Г3.1. - Индустриски сервиси, сервиси за одржување на моторни возила, сервиси за ремонт на шински возила, сервиси за земјоделска и градежна механизација\nГ3.2. - Сервиси за одржување и поправка на машини, бела техника, електроника, апарати за домаќинство\nГ3.3. - Сервиси за одржување на специјализирана опрема, алати, инструменти, сервиси за вградена опрема и инсталации во градби\nГ3.4. - Сервиси за чистење и перење на килими, хемиско чистење\nГ3.5. - Производство на велосипеди, алатки, ножеви и прибор за јадење, опрема за деца, спортски справи и опрема, склопување и асемблирање на готови приозводи\nГ3.6. - Производство на инструменти, електроника и предмети за домаќинство, накит од племенити метали, музички инструменти, кроење и шиење облека, мануфактури за прецизни работи, печатници",{"$f":"675","v":675}]
[null,null,null,"Г3-II","ИНДУСТРИЈА ЗА СКЛОПУВАЊЕ НА ФИНАЛНИ ПРОИЗВОДИ, СЕРВИСНИ УСЛУГИ И ПРОИЗВОДСТВО НА ЕНЕРГИЈА ОД ОБНОВЛИВИ ИЗВОРИ (II ГРУПА)","Г3.7. - Ветерни електрани, концентрациони сончеви електрани, мали хидроелектрани, електрани на биогориво",{"$f":"675","v":675}]
[null,null,null,"Г4-I","СТОВАРИШТА, СКЛАДОВИ И ОТПАДИ\n(I ГРУПА)","Г4.1. - Отворени, полузатворени и затворени складишта за индустриска стока\nГ4.2. - Отворени и полузатворени отпади, специјализирани отпади\nГ4.3. - Автопазари\nГ4.4. - Градби за складирање на експлозивни средства",{"$f":"610","v":610}]
[null,null,null,"Г4-II","СТОВАРИШТА, СКЛАДОВИ И ОТПАДИ\n(II ГРУПА)","Г4.5. - Складишта, резервоари и цистерни за нафта, течен гас и нафтени деривати, хемиски соединенија\nГ4.6. - Силоси за цемент и други суви агрегати, индустриски ладилници, резервоари и цистерни",{"$f":"675","v":675}]
[null,null,null,"Г5-I","ЗЕМЈОДЕЛСКО И СТОЧАРСКО ПРОИЗВОДСТВО\n(I ГРУПА)","Г5.1. - Одгледување на животни: штали за ситни грла - свињи, овци и перната живина, штали за крупни грла – говеда и коњи, специјализирани штали за молзење и слично\nГ5.2. - Објекти за примарна обработка на земјоделски производи\nГ5.3. - Стационари, ветеринарни станици и амбуланти, кафилерии за потребите на земјоделството\nГ5.4. - Хангари за механизација, амбари, трапови, сило-јами и други помошни објекти за потребите на земјоделството и сточарството\nГ5.5. - Складишта за земјоделски производи, ладилници за земјоделски производи, вкопани, полувкопани и надземни ќелиски складови, силоси, складишта за материјали за земјоделско производство",{"$f":"675","v":675}]
[null,null,null,"Г5-II","ЗЕМЈОДЕЛСКО И СТОЧАРСКО ПРОИЗВОДСТВО\n(II ГРУПА)","Г5.6. - Рибници: езерски, базенски и проточни рибници\nГ5.7. - Оранжерии",{"$f":"675","v":675}]
[]
[null,null,null,"Д1-I","ПАРКОВСКО И ПЕЈЗАЖНО ЗЕЛЕНИЛО\n(I ГРУПА)","Д1.1. - Јавни градски паркови, зелени скверови\nД1.2. - Јавно урбано зеленило\nД1.3. - Урбани парк-шуми, приградски парк-шуми\nД1.5. - Урбани ледини, тревнати терени",205]
[null,null,null,"Д1-II","ПАРКОВСКО И ПЕЈЗАЖНО ЗЕЛЕНИЛО\n(II ГРУПА)","Д1.4. - Арборетуми, ботанички бавчи, градини",{"$f":"245","v":245}]
[null,null,null,"Д2","ЗАШТИТНО И СООБРАЌАЈНО ЗЕЛЕНИЛО","Д2.1. - Линиско сообраќајно зеленило, разделно зеленило, заштитно сообраќајно зеленило на крстосници и јазли\nД2.2. - Зелени тампон зони помеѓу некомпатибилни наменски зони\nД2.3. - Индустриски зелени тампон појаси",{"$f":"170","v":170}]
[null,null,null,"Д3-I","СПОРТ И РЕКРЕАЦИЈА НА ЗЕЛЕНИ ПОВРШИНИ\n(I ГРУПА)","Д3.1. - Спортски терени на отворено, на трева, за тенис, фудбал и други спортови, без трибини",{"$f":"550","v":550}]
[null,null,null,"Д3-II","СПОРТ И РЕКРЕАЦИЈА НА ЗЕЛЕНИ ПОВРШИНИ\n(II ГРУПА)","Д3.2. - Спортски терени на големи зелени површини: голф, тренинг паркови, скијачки терени и патеки, јавачки патеки, хиподроми, трим терени и патеки\nД3.3. - Отворени базени за пливање без трибини во зеленило, рекреативни езера\nД3.4. - Рекреативни паркови и тематски паркови без градби, зоолошки градини на отворено (без градби)",{"$f":"585","v":585}]
[null,null,null,"Д4","МЕМОРИЈАЛНИ ЗЕЛЕНИ ПРОСТОРИ И ГРОБИШТА","Д4.1. - Меморијални паркови\nД4.2. - Меморијални простори со паметници во зеленило\nД4.3. - Озеленети простори за гробишта, гробишта",{"$f":"365","v":365}]
[null,null,null,"Д5","ПОЛУПРИРОДНИ ЗЕЛЕНИ ХАБИТАТИ*                                            /НЕ Е ДЕЛ ОД ОБЛАСТА ВИСОКОГРАДБА/","Д5.1. - Водени подрачја, отворени водотеци, мочуришта, блатии, калишта\nД5.2. - Шумски подрачја, листопадни шуми, четинарски шуми, мешани шуми\nД5.3. - Други зелени хабитати, тресетишта, тревни полјани, ливади","/"]
[]
[null,null,null,"Е1","СООБРАЌАЈНИ, ЛИНИСКИ И ДРУГИ ИНФРАСТРУКТУРИ*                                            /НЕ Е ДЕЛ ОД ОБЛАСТА ВИСОКОГРАДБА/","E1.1. - Сообраќајни патни инфраструктури: Јавни патишта со пратечките градби и инсталации, меѓународни автопати, државни автопати, експресни, регионални и локални (општински) патишта, примарни и секундарни улични мрежи во населени места, со градбите што припаѓаат на патната инфраструктура, јавни паркиралишта, паркинзи, патеки, пристапни улици и интегрирани сообраќајни површини, велосипедски патеки, пешачки простори, улици и патеки, земјоделски и шумски земјани патишта, мостови, вијадукти, тунели и подземни пролази, крстосници, одлагалишта за вишок земјан материјал, времени бази за асфалт и бетон и друго\nE1.2. - Железнички и шински инфраструктури: железнички пруги од меѓународни сообраќајни коридори, главни меѓуградски железнички пруги, споредни колосеци,ранжирни станици, товарни станици, градски железници, градски подземни железници, трамвајски пруги, индустриски пруги, туристички пруги, мостови, вијадукти, тунели и подземни пролази\nE1.3. - Инфраструктури на воздушниот сообраќај без аеродромски згради: аеродромски писти за меѓународни аеродроми, локални аеродроми, карго аеродроми, воени аеродроми, земјоделски аеродроми, спортски аеродроми, писти за хелиодроми\nE1.4. - Хидротехнички инфраструктури: езерски и речни пристаништа, марини, докови, молови, пловни канали, речни и каналски регулации – изградени брегови, бетонски и земјани брани за акумулациони езера и за регулација на водотеци, заштитни брани и насипи, ретенциони езера\nE1.5. - Инфраструктури на водоснабдувањето: градби за зафаќање на водата, каптажи, бунари, акумулациски водозафати, таложници, пумпни станици, станици за пречистување и дезинфекција, собирни и прекидни комори, шахти, резервоари, доводни канали, доводни гравитациони и пумпни цевководи, водоводни мрежи во населени места и цевководи за транспорт на вода, цевководи за транспот на вода за индустриска, енегетска и друга специјална намена, инфраструктури за наводнување\nE1.6. - Канализациски инфраструктури: фекални и атмосферски комунални канализациски мрежи, примарни и секундарни канализациски мрежи, канализациски колектори, пумпни и пречистителни станици, ревизиони шахти, преливници, таложници, ретенциони базени, премини под патни и железнички линии, септички јами","/"]
[null,null,null,null,null,"E1.7. - Топловоди и пароводи: цевководи за транспорт на топла вода, пумпни станици и шахти за топловоди, цевководи за пареа и пратечки станици, постројки и шахти\nE1.8. - Инфраструктури за пренос на електрична енергија: меѓународни високонапонски надземни електрични водови, меѓуградски високо и среднонапонски надземни и подземни електрични водови и средно и нисконапонски водови од дистрибутивните мрежи со пратечките далноводски пилони столбови, трансформаторски станици, и помошни инсталации\nE1.9. - Телекомуникациски водови: меѓународни и меѓуградски телекомуникациски водови со надземни или подземни телекомуникациски водови и мрежи, релејни системи и телекомуникациски столбови, кули и антени, локални телекомуникациски водови со надземни и подземни водови и мрежи и помошни инсталации (столбови, бандери, шахти, антени и сл)\nE1.10. - Цевни водови и продуктоводи: меѓународни и меѓуградски надземни, подземни или подводни нафтоводи со црпни станици и сладишта за нафта и нафтни производи, меѓународни, меѓуградски и градски високопритисни и дистрибутивни нископритисни гасоводни водови и мрежи со главни и градски мерни станици и припадни постројки и опрема, хемиски и други продуктоводи со припадните постројки\nE1.11. - Инфраструктури за одводнување: каналски мрежи за одводнување на земјоделски површини, главни, ободни, дренажни и собирни одводни канали и пратечки пумпни станици, премини, сифони и натеги\nE1.12. - Инфраструктури за наводнување: доводни канали и гравитациони и пумпни цевководи, каналски и цевковни мрежи за наводнување, каптажи, бунари, речни, каналски и акумулациски водозафати, пумпни станици, хидрофори, градби за филтрирање на водата, со пратечките патни и железнички премини, комори и шахти\nE1.13. - Површински соларни и фотоволтаични електрани"]
[null,null,null,"Е2","ЗГРАДИ И КОМПЛЕКСИ НА ИНФРАСТРУКТУРНИТЕ СИСТЕМИ","E2.1. - Згради и комплекси на патниот сообраќај: автобуски станици, шпедиции, згради за изнајмување на автомобили, такси компании, катни и подземни гаражи, технички преглед на автомобили, гранични премини, царински терминали, бензински пумпи\nE2.2. - Згради и комплекси на железничкиот сообраќај: железнички станици, товарни станици, ранжирни станици, ремизи за локомотиви и вагони, железничарски сервиси и ремонт центри\nE2.3. - Згради и комплекси на жичниот сообраќај: станични згради на жичари со кабини, станични згради на седечки жичари, жичарнички депоа\nE3.4.- Згради и комплекси на воздушниот сообраќај: цивилни аеродроми, воени аеродроми, карго аеродроми, спортски аеродроми, земјоделски аеродроми, контролни кули, хангари\nE3.5. - Згради и комплекси на водениот сообраќај: пристанишни терминали, хангари за пловилата\nE3.6. - Згради и комплекси на поштенскиот сообраќај: пошти, диспечерски центри, центри за експедиција\nE3.7. - Згради и комплекси на телекомуникациите: телекомуникациски центри, телефонски централи, згради за радио и телевизиска продукција и емитување, атенски и релејни станици, згради за сателитска комуникација\nE3.8. - Гробишни градби - капели, мртовечници, крематориуми",{"$f":"980","v":980}]
[null,null,null,"Е3","СПЕЦИЈАЛНИ НЕКЛАСИФИКУВАНИ ИНФРАСТРУКТУРИ","Е3.1. - Депонии и преработка на неопасен отпад: регионални и локални депонии за одлагање на неопасен отпад, постројки за термички, физичко-хемиски и хемиски третман на неопасен отпад, неопасни јаловишта и пепелишта\nЕ3.2. - Специјализирани депонии за одлагање на опасен отпад, постројки за термички, физичко-хемиски и хемиски третман на опасен отпад, складиштење на радиоактивни супстанци и опасни јаловишта, пепелишта, и отпадни материи\nЕ3.3. - Специјални инфраструктури за воени потреби: воени утврдувања, бункерски пунктови, воени стрелишта и полигони, подземни и надземни складишта за муниција и експлозивни средства",{"$f":"915","v":915}]

{"sheet":"А1-I","index":4,"n_rows":36,"n_cols":15,"rows_kept":36,"cut":false,"hidden":true,"merged":[[23,5,23,6],[23,7,23,8],[23,9,23,10],[23,11,23,12],[4,2,4,14],[16,3,16,5],[16,6,16,7],[21,5,22,6],[21,7,21,8],[21,9,22,10],[21,11,21,12],[21,13,22,13],[21,14,22,14],[22,7,22,8],[22,11,22,12],[12,6,12,7],[19,5,20,8],[19,9,19,12],[19,13,20,14],[20,9,20,12],[17,3,17,5],[17,6,17,7],[15,9,15,12],[11,3,11,5],[11,6,11,7],[17,9,17,12],[16,9,16,12],[15,3,15,5],[15,6,15,7],[14,6,14,7],[14,9,14,12],[14,3,14,5],[13,9,13,12],[9,3,9,5],[9,6,9,7],[10,9,10,12],[11,9,11,12],[12,9,12,12],[9,9,9,12],[10,3,10,5],[10,6,10,7],[2,3,2,14],[6,9,6,12],[6,13,6,14],[7,9,7,12],[8,9,8,12],[7,6,7,7],[8,3,8,5],[8,6,8,7]]}
[]
[]
[null,null,{"$f":"' Помош - Каталог на намени'!D5","v":"А1-I"},{"$f":"' Помош - Каталог на намени'!E5","v":"ДОМУВАЊЕ ВО КУЌИ\n(I ГРУПА)"}]
[]
[null,null,{"$f":"' Помош - Каталог на намени'!F5","v":"А1.1. - Станбени куќи - слободностоечки\nА1.2. - Станбени куќи со споен ѕид на меѓа – двокуќи\nА1.3. - Станбени куќи со споени ѕидови на меѓа од двете страни – куќи во низови\nА1.4. - Станбени куќи со повеќе споени ѕидови на меѓа – атриумски куќи\nА1.5. - Станбени куќи во состав на селски стопански двор"}]
[]
[null,null,{"$f":"Т0!C8","v":"Површина на градба"},null,null,{"$f":"Калкулатор!D9","v":0},{"$f":"Т0!G8","v":"m²"},{"$f":"Т0!H8","v":"(варијабла)"},null,{"$f":"Т0!J8","v":"Вид на инженерска услуга"},null,null,null,{"$f":"Т0!N8","v":"Минимална вкупна цена"}]
[null,null,null,null,null,null,null,null,null,{"$f":"Т0!J9","v":"1. Изработка на проектна документација (1.1.+1.2)"},null,null,null,{"$f":"SUM(N9:N10)","v":0},{"$f":"SUM(O9:O10)","v":0}]
[null,null,{"$f":"Т0!C10","v":"Просечна цена на изведба за 1 m²"},{"$f":"G9*F13","v":28830},null,null,{"$f":"' Помош - Каталог на намени'!G5","v":465},null,null,{"$f":"Т0!J10","v":"1.1. Изработка на основен проект"},null,null,null,{"$f":"F7*F36","v":0},{"$f":"N9/F13","v":0}]
[null,null,null,null,null,null,null,null,null,{"$f":"Т0!J11","v":"1.2. Изработка на идеен проект"},null,null,null,{"$f":"F7*H36","v":0},{"$f":"N10/F13","v":0}]
[null,null,{"$f":"Т0!C12","v":"Вкупна инвестициона градежна  вредност"},{"$f":"F7*D9","v":0},null,null,{"$f":"D11/F13","v":0}]
[null,null,null,null,null,null,null,null,null,{"$f":"Т0!J13","v":"2. Ревизија на проектна документација (2.1.+2.2.)"},null,null,null,{"$f":"SUM(N13:N14)","v":0},{"$f":"SUM(O13:O14)","v":0}]
[null,null,{"$f":"Т0!C14","v":"Вредност на евро валута"},{"$f":"Т0!D14","v":1},{"$f":"Т0!E14","v":"="},{"$f":"Т0!F14","v":62},null,null,null,{"$f":"Т0!J14","v":"2.1. Ревизија на основен проект"},null,null,null,{"$f":"F7*J36","v":0},{"$f":"N13/F13","v":0}]
[null,null,null,null,null,null,null,null,null,{"$f":"Т0!J15","v":"2.2. Ревизија на идеен проект"},null,null,null,{"$f":"F7*L36","v":0},{"$f":"N14/F13","v":0}]
[null,null,{"$f":"Т0!C16","v":"Изработка на Основен проект"},{"$f":"Т0!D16:F16","v":"Ревизија на Основен проект"},null,null,{"$f":"Т0!G16:H16","v":"Надзор на изградба"}]
[null,null,{"$f":"G36/G9","v":3.7789583219234354E-2},{"$f":"K36/G9","v":5.668437482885153E-3},null,null,{"$f":"N36","v":2.5000000000000001E-2},null,null,{"$f":"Т0!J17","v":"3. Надзор на градба (3.1.+3.2.)"},null,null,null,{"$f":"SUM(N17:N18)","v":0},{"$f":"SUM(O17:O18)","v":0}]
[null,null,{"$f":"Т0!C18","v":"Изработка на Идеен проект"},{"$f":"Т0!D18:F18","v":"Ревизија на Идеен проект"},null,null,{"$f":"Т0!G18:H18","v":"Проектантски надзор"},null,null,{"$f":"Т0!J18","v":"3.1. Надзор на градба"},null,null,null,{"$f":"F7*D9*N36","v":0},{"$f":"N17/F13","v":0}]
[null,null,{"$f":"I36/G9","v":1.1336874965770306E-2},{"$f":"M36/G9","v":1.7005312448655459E-3},null,null,{"$f":"O36","v":0.01},null,null,{"$f":"Т0!J19","v":"3.2. Проектантски надзор"},null,null,null,{"$f":"F7*D9*O36","v":0},{"$f":"N18/F13","v":0}]
[]
[null,null,null,null,null,{"$f":"Т0!F21","v":"Изработка на проектна документација"},null,null,null,{"$f":"Т0!J21","v":"Ревизија на проектна документација"},null,null,null,{"$f":"Т0!N21","v":"Надзор на изградба"}]
[null,null,null,null,null,null,null,null,null,{"$f":"Т0!J22","v":"(15% од вредноста на Изработка на проектна документација)"}]
[null,null,null,null,null,{"$f":"Т0!F23","v":"Основен проект"},null,{"$f":"Т0!H23","v":"Идеен проект"},null,{"$f":"Т0!J23","v":"Основен проект"},null,{"$f":"Т0!L23","v":"Идеен проект"},null,{"$f":"Т0!N23","v":"Надзор на изградба"},{"$f":"Т0!O23","v":"Проектантски надзор"}]
[null,null,null,null,null,null,null,{"$f":"Т0!H24","v":"(30% од вредноста на основниот проект)"},null,null,null,{"$f":"Т0!L24","v":"(30% од вредноста на ревизија на основниот проект)"}]
[null,null,{"$f":"Т0!C25","v":"Вид на проект"},{"$f":"Т0!D25","v":"Удел"},null,{"$f":"Т0!F25","v":"Минимална цена"},null,{"$f":"Т0!H25","v":"Минимална цена"},null,{"$f":"Т0!J25","v":"Минимална цена"},null,{"$f":"Т0!L25","v":"Минимална цена"},null,{"$f":"Т0!N25","v":"Минимален процент од инвестиција"},{"$f":"Т0!O25","v":"Минимален процент од инвестиција"}]
[null,null,{"$f":"Т0!C26","v":"(според намената)"},{"$f":"Т0!D26","v":"[%]"},null,{"$f":"Т0!F26","v":"[денари/m²]"},{"$f":"Т0!G26","v":"[€/m²]"},{"$f":"Т0!H26","v":"[денари/m²]"},{"$f":"Т0!I26","v":"[€/m²]"},{"$f":"Т0!J26","v":"[денари/m²]"},{"$f":"Т0!K26","v":"[€/m²]"},{"$f":"Т0!L26","v":"[денари/m²]"},{"$f":"Т0!M26","v":"[€/m²]"},{"$f":"Т0!N26","v":"[%]"},"[%]"]
[]
[null,null,{"$f":"Т0!C28","v":"Архитектонски проект"},{"$f":"F27/F36","v":0.41304347826086951},null,450,{"$f":"F27/F13","v":7.258064516129032},{"$f":"F27*0.3","v":135},{"$f":"H27/F13","v":2.1774193548387095},{"$f":"F27*0.15","v":67.5},{"$f":"J27/F13","v":1.0887096774193548},{"$f":"J27*0.3","v":20.25},{"$f":"L27/F13","v":0.32661290322580644},{"$f":"N$36*(F27/$F$36*100)","v":1.0326086956521738},{"$f":"O$36*(F27/$F$36*100)","v":0.41304347826086957}]
[null,null,{"$f":"Т0!C29","v":"Градежно-конструктивен проект"},{"$f":"F28/F36","v":0.25241545893719802},null,275,{"$f":"F28/F13","v":4.435483870967742},82.5,{"$f":"H28/F13","v":1.3306451612903225},41.25,{"$f":"J28/F13","v":0.66532258064516125},12.375,{"$f":"L28/F13","v":0.19959677419354838},0.63103864734299508,0.25241545893719802]
[null,null,{"$f":"Т0!C30","v":"Електротехнички проект"},{"$f":"F29/F36","v":0.11289855072463767},null,123,{"$f":"F29/F13","v":1.9838709677419355},36.9,{"$f":"H29/F13","v":0.59516129032258058},18.45,{"$f":"J29/F13","v":0.29758064516129029},5.5349999999999993,{"$f":"L29/F13","v":8.9274193548387087E-2},0.2822463768115942,0.11289855072463768]
[null,null,{"$f":"Т0!C32","v":"Проект за водовод и канализација"},{"$f":"F30/F36","v":6.6086956521739126E-2},null,72,{"$f":"F30/F13","v":1.1612903225806452},21.599999999999998,{"$f":"H30/F13","v":0.34838709677419349},10.799999999999999,{"$f":"J30/F13","v":0.17419354838709675},3.2399999999999998,{"$f":"L30/F13","v":5.2258064516129028E-2},0.16521739130434782,6.6086956521739126E-2]
[null,null,{"$f":"Т0!C33","v":"Термотехнички проект"},{"$f":"F31/F36","v":8.2608695652173908E-2},null,90,{"$f":"F31/F13","v":1.4516129032258065},27,{"$f":"H31/F13","v":0.43548387096774194},13.5,{"$f":"J31/F13","v":0.21774193548387097},4.05,{"$f":"L31/F13","v":6.5322580645161291E-2},0.20652173913043478,8.2608695652173908E-2]
[null,null,{"$f":"Т0!C42","v":"Елаборат за енергетска ефикасност"},{"$f":"F32/F36","v":2.294685990338164E-2},null,25,{"$f":"F32/F13","v":0.40322580645161288},7.5,{"$f":"H32/F13","v":0.12096774193548387},3.75,{"$f":"J32/F13","v":6.0483870967741937E-2},1.125,{"$f":"L32/F13","v":1.8145161290322582E-2},{"$f":"N$36*(F32/$F$36*100)","v":5.7367149758454111E-2},{"$f":"O$36*(F32/$F$36*100)","v":2.2946859903381644E-2}]
[]
[null,null,{"$f":"Т0!C47","v":"Координација на проект"},{"$f":"F34/F36","v":5.0000000000000135E-2},null,{"$f":"SUM(F27:F32)/0.95-SUM(F27:F32)","v":54.473684210526471},{"$f":"F34/F13","v":0.8786078098472011},{"$f":"SUM(H27:H32)/0.95-SUM(H27:H32)","v":16.342105263157919},{"$f":"H34/F13","v":0.26358234295416},{"$f":"F34*0.15","v":8.17105263157897},{"$f":"J34/F13","v":0.13179117147708017},{"$f":"SUM(L27:L32)/0.95-SUM(L27:L32)","v":2.4513157894736892},{"$f":"L34/F13","v":3.9537351443124022E-2},{"$f":"N$36*(F34/$F$36*100)","v":0.12500000000000033},{"$f":"O$36*(F34/$F$36*100)","v":5.0000000000000135E-2}]
[]
[null,null,{"$f":"Т0!C49","v":"Вкупно:"},{"$f":"SUM(D27:D34)","v":0.99999999999999989},null,{"$f":"SUM(F27:F34)","v":1089.4736842105265},{"$f":"F36/F13","v":17.572156196943975},{"$f":"SUM(H27:H34)","v":326.84210526315792},{"$f":"H36/F13","v":5.2716468590831926},{"$f":"SUM(J27:J34)","v":163.42105263157896},{"$f":"J36/F13","v":2.6358234295415963},{"$f":"SUM(L27:L34)","v":49.026315789473685},{"$f":"L36/F13","v":0.79074702886247883},2.5000000000000001E-2,0.01]

{"sheet":"А1-II","index":5,"n_rows":36,"n_cols":15,"rows_kept":36,"cut":false,"hidden":true,"merged":[[23,5,23,6],[23,7,23,8],[23,9,23,10],[23,11,23,12],[4,2,4,14],[7,6,7,7],[14,3,14,5],[14,6,14,7],[15,3,15,5],[15,6,15,7],[21,5,22,6],[21,7,21,8],[21,9,22,10],[21,11,21,12],[21,13,22,13],[21,14,22,14],[13,9,13,12],[22,7,22,8],[22,11,22,12],[12,6,12,7],[17,9,17,12],[19,5,20,8],[19,9,19,12],[15,9,15,12],[14,9,14,12],[19,13,20,14],[20,9,20,12],[16,3,16,5],[16,6,16,7],[17,3,17,5],[17,6,17,7],[16,9,16,12],[9,3,9,5],[9,6,9,7],[10,9,10,12],[11,9,11,12],[12,9,12,12],[9,9,9,12],[10,3,10,5],[10,6,10,7],[11,3,11,5],[11,6,11,7],[2,3,2,14],[6,9,6,12],[6,13,6,14],[7,9,7,12],[8,9,8,12],[8,3,8,5],[8,6,8,7]]}
[]
[]
[null,null,{"$f":"' Помош - Каталог на намени'!D6","v":"А1-II"},{"$f":"' Помош - Каталог на намени'!E6","v":"ДОМУВАЊЕ ВО КУЌИ\n(II ГРУПА)"}]
[]
[null,null,{"$f":"' Помош - Каталог на намени'!F6","v":"А1.6. - Други станбени куќи – вили и слично"}]
[]
[null,null,{"$f":"Т0!C8","v":"Површина на градба"},null,null,{"$f":"Калкулатор!D9","v":0},{"$f":"Т0!G8","v":"m²"},{"$f":"Т0!H8","v":"(варијабла)"},null,{"$f":"Т0!J8","v":"Вид на инженерска услуга"},null,null,null,{"$f":"Т0!N8","v":"Минимална вкупна цена"}]
[null,null,null,null,null,null,null,null,null,{"$f":"Т0!J9","v":"1. Изработка на проектна документација (1.1.+1.2)"},null,null,null,{"$f":"SUM(N9:N10)","v":0},{"$f":"SUM(O9:O10)","v":0}]
[null,null,{"$f":"Т0!C10","v":"Просечна цена на изведба за 1 m²"},{"$f":"G9*F13","v":37820},null,null,{"$f":"' Помош - Каталог на намени'!G6","v":610},null,null,{"$f":"Т0!J10","v":"1.1. Изработка на основен проект"},null,null,null,{"$f":"F7*F36","v":0},{"$f":"N9/F13","v":0}]
[null,null,null,null,null,null,null,null,null,{"$f":"Т0!J11","v":"1.2. Изработка на идеен проект"},null,null,null,{"$f":"F7*H36","v":0},{"$f":"N10/F13","v":0}]
[null,null,{"$f":"Т0!C12","v":"Вкупна инвестициона градежна  вредност"},{"$f":"F7*D9","v":0},null,null,{"$f":"D11/F13","v":0}]
[null,null,null,null,null,null,null,null,null,{"$f":"Т0!J13","v":"2. Ревизија на проектна документација (2.1.+2.2.)"},null,null,null,{"$f":"SUM(N13:N14)","v":0},{"$f":"SUM(O13:O14)","v":0}]
[null,null,{"$f":"Т0!C14","v":"Вредност на евро валута"},{"$f":"Т0!D14","v":1},{"$f":"Т0!E14","v":"="},{"$f":"Т0!F14","v":62},null,null,null,{"$f":"Т0!J14","v":"2.1. Ревизија на основен проект"},null,null,null,{"$f":"F7*J36","v":0},{"$f":"N13/F13","v":0}]
[null,null,null,null,null,null,null,null,null,{"$f":"Т0!J15","v":"2.2. Ревизија на идеен проект"},null,null,null,{"$f":"F7*L36","v":0},{"$f":"N14/F13","v":0}]
[null,null,{"$f":"Т0!C16","v":"Изработка на Основен проект"},{"$f":"Т0!D16:F16","v":"Ревизија на Основен проект"},null,null,{"$f":"Т0!G16:H16","v":"Надзор на изградба"}]
[null,null,{"$f":"G36/G9","v":3.2786885245901641E-2},{"$f":"K36/G9","v":4.9180327868852463E-3},null,null,{"$f":"N36","v":2.5000000000000001E-2},null,null,{"$f":"Т0!J17","v":"3. Надзор на градба (3.1.+3.2.)"},null,null,null,{"$f":"SUM(N17:N18)","v":0},{"$f":"SUM(O17:O18)","v":0}]
[null,null,{"$f":"Т0!C18","v":"Изработка на Идеен проект"},{"$f":"Т0!D18:F18","v":"Ревизија на Идеен проект"},null,null,{"$f":"Т0!G18:H18","v":"Проектантски надзор"},null,null,{"$f":"Т0!J18","v":"3.1. Надзор на градба"},null,null,null,{"$f":"F7*D9*N36","v":0},{"$f":"N17/F13","v":0}]
[null,null,{"$f":"I36/G9","v":9.8360655737704927E-3},{"$f":"M36/G9","v":1.4754098360655736E-3},null,null,{"$f":"O36","v":0.01},null,null,{"$f":"Т0!J19","v":"3.2. Проектантски надзор"},null,null,null,{"$f":"F7*D9*O36","v":0},{"$f":"N18/F13","v":0}]
[]
[null,null,null,null,null,{"$f":"Т0!F21","v":"Изработка на проектна документација"},null,null,null,{"$f":"Т0!J21","v":"Ревизија на проектна документација"},null,null,null,{"$f":"Т0!N21","v":"Надзор на изградба"}]
[null,null,null,null,null,null,null,null,null,{"$f":"Т0!J22","v":"(15% од вредноста на Изработка на проектна документација)"}]
[null,null,null,null,null,{"$f":"Т0!F23","v":"Основен проект"},null,{"$f":"Т0!H23","v":"Идеен проект"},null,{"$f":"Т0!J23","v":"Основен проект"},null,{"$f":"Т0!L23","v":"Идеен проект"},null,{"$f":"Т0!N23","v":"Надзор на изградба"},{"$f":"Т0!O23","v":"Проектантски надзор"}]
[null,null,null,null,null,null,null,{"$f":"Т0!H24","v":"(30% од вредноста на основниот проект)"},null,null,null,{"$f":"Т0!L24","v":"(30% од вредноста на ревизија на основниот проект)"}]
[null,null,{"$f":"Т0!C25","v":"Вид на проект"},{"$f":"Т0!D25","v":"Удел"},null,{"$f":"Т0!F25","v":"Минимална цена"},null,{"$f":"Т0!H25","v":"Минимална цена"},null,{"$f":"Т0!J25","v":"Минимална цена"},null,{"$f":"Т0!L25","v":"Минимална цена"},null,{"$f":"Т0!N25","v":"Минимален процент од инвестиција"},{"$f":"Т0!O25","v":"Минимален процент од инвестиција"}]
[null,null,{"$f":"Т0!C26","v":"(според намената)"},{"$f":"Т0!D26","v":"[%]"},null,{"$f":"Т0!F26","v":"[денари/m²]"},{"$f":"Т0!G26","v":"[€/m²]"},{"$f":"Т0!H26","v":"[денари/m²]"},{"$f":"Т0!I26","v":"[€/m²]"},{"$f":"Т0!J26","v":"[денари/m²]"},{"$f":"Т0!K26","v":"[€/m²]"},{"$f":"Т0!L26","v":"[денари/m²]"},{"$f":"Т0!M26","v":"[€/m²]"},{"$f":"Т0!N26","v":"[%]"},"[%]"]
[]
[null,null,{"$f":"Т0!C28","v":"Архитектонски проект"},{"$f":"F27/F36","v":0.38951612903225807},null,483,{"$f":"F27/F13","v":7.790322580645161},{"$f":"F27*0.3","v":144.9},{"$f":"H27/F13","v":2.3370967741935487},{"$f":"F27*0.15","v":72.45},{"$f":"J27/F13","v":1.1685483870967743},{"$f":"J27*0.3","v":21.734999999999999},{"$f":"L27/F13","v":0.35056451612903222},{"$f":"N$36*(F27/$F$36*100)","v":0.97379032258064524},{"$f":"O$36*(F27/$F$36*100)","v":0.38951612903225807}]
[null,null,{"$f":"Т0!C29","v":"Градежно-конструктивен проект"},{"$f":"F28/F36","v":0.24596774193548387},null,305,{"$f":"F28/F13","v":4.919354838709677},91.5,{"$f":"H28/F13","v":1.4758064516129032},45.75,{"$f":"J28/F13","v":0.73790322580645162},13.725,{"$f":"L28/F13","v":0.22137096774193549},0.61491935483870974,0.24596774193548387]
[null,null,{"$f":"Т0!C30","v":"Електротехнички проект"},{"$f":"F29/F36","v":0.12096774193548387},null,150,{"$f":"F29/F13","v":2.4193548387096775},45,{"$f":"H29/F13","v":0.72580645161290325},22.5,{"$f":"J29/F13","v":0.36290322580645162},6.75,{"$f":"L29/F13","v":0.10887096774193548},0.30241935483870974,0.12096774193548389]
[null,null,{"$f":"Т0!C32","v":"Проект за водовод и канализација"},{"$f":"F30/F36","v":7.2580645161290328E-2},null,90,{"$f":"F30/F13","v":1.4516129032258065},27,{"$f":"H30/F13","v":0.43548387096774194},13.5,{"$f":"J30/F13","v":0.21774193548387097},4.05,{"$f":"L30/F13","v":6.5322580645161291E-2},0.18145161290322584,7.2580645161290328E-2]
[null,null,{"$f":"Т0!C33","v":"Термотехнички проект"},{"$f":"F31/F36","v":0.10080645161290322},null,125,{"$f":"F31/F13","v":2.0161290322580645},37.5,{"$f":"H31/F13","v":0.60483870967741937},18.75,{"$f":"J31/F13","v":0.30241935483870969},5.625,{"$f":"L31/F13","v":9.0725806451612906E-2},0.25201612903225806,0.10080645161290322]
[null,null,{"$f":"Т0!C42","v":"Елаборат за енергетска ефикасност"},{"$f":"F32/F36","v":2.0161290322580645E-2},null,25,{"$f":"F32/F13","v":0.40322580645161288},7.5,{"$f":"H32/F13","v":0.12096774193548387},3.75,{"$f":"J32/F13","v":6.0483870967741937E-2},1.125,{"$f":"L32/F13","v":1.8145161290322582E-2},{"$f":"N$36*(F32/$F$36*100)","v":5.0403225806451617E-2},{"$f":"O$36*(F32/$F$36*100)","v":2.0161290322580645E-2}]
[]
[null,null,{"$f":"Т0!C47","v":"Координација на проект"},{"$f":"F34/F36","v":0.05},null,{"$f":"SUM(F27:F32)/0.95-SUM(F27:F32)","v":62},{"$f":"F34/F13","v":1},{"$f":"SUM(H27:H32)/0.95-SUM(H27:H32)","v":18.600000000000023},{"$f":"H34/F13","v":0.30000000000000038},{"$f":"F34*0.15","v":9.2999999999999989},{"$f":"J34/F13","v":0.15},{"$f":"SUM(L27:L32)/0.95-SUM(L27:L32)","v":2.7899999999999991},{"$f":"L34/F13","v":4.4999999999999984E-2},{"$f":"N$36*(F34/$F$36*100)","v":0.125},{"$f":"O$36*(F34/$F$36*100)","v":0.05}]
[]
[null,null,{"$f":"Т0!C49","v":"Вкупно:"},{"$f":"SUM(D27:D34)","v":1},null,{"$f":"SUM(F27:F34)","v":1240},{"$f":"F36/F13","v":20},{"$f":"SUM(H27:H34)","v":372},{"$f":"H36/F13","v":6},{"$f":"SUM(J27:J34)","v":186},{"$f":"J36/F13","v":3},{"$f":"SUM(L27:L34)","v":55.8},{"$f":"L36/F13","v":0.89999999999999991},2.5000000000000001E-2,0.01]

{"sheet":"А2","index":6,"n_rows":40,"n_cols":15,"rows_kept":40,"cut":false,"hidden":true,"merged":[[4,2,4,14],[7,6,7,7],[10,9,10,12],[11,9,11,12],[2,3,2,14],[6,9,6,12],[6,13,6,14],[7,9,7,12],[8,9,8,12],[10,3,10,5],[10,6,10,7],[12,9,12,12],[8,3,8,5],[8,6,8,7],[9,3,9,5],[9,6,9,7],[9,9,9,12],[11,3,11,5],[11,6,11,7],[21,13,22,13],[16,9,16,12],[15,3,15,5],[15,6,15,7],[16,3,16,5],[16,6,16,7],[21,14,22,14],[22,7,22,8],[22,11,22,12],[12,6,12,7],[17,9,17,12],[19,5,20,8],[19,9,19,12],[19,13,20,14],[20,9,20,12],[17,3,17,5],[17,6,17,7],[15,9,15,12],[14,9,14,12],[14,3,14,5],[14,6,14,7],[13,9,13,12],[23,5,23,6],[23,7,23,8],[23,9,23,10],[23,11,23,12],[21,5,22,6],[21,7,21,8],[21,9,22,10],[21,11,21,12]]}
[]
[]
[null,null,{"$f":"' Помош - Каталог на намени'!D7","v":"А2"},{"$f":"' Помош - Каталог на намени'!E7","v":"ДОМУВАЊЕ ВО ЗГРАДИ"}]
[]
[null,null,{"$f":"' Помош - Каталог на намени'!F7","v":"А2.1. - Станбени згради – слободностоечки блокови и кули\nА2.2. - Станбено-деловни згради – слободностоечки, во низи, во периметрална формација и други\nА2.3. - Станбени згради во состав на сложени градби со други намени"}]
[]
[null,null,{"$f":"Т0!C8","v":"Површина на градба"},null,null,{"$f":"Калкулатор!D9","v":0},{"$f":"Т0!G8","v":"m²"},{"$f":"Т0!H8","v":"(варијабла)"},null,{"$f":"Т0!J8","v":"Вид на инженерска услуга"},null,null,null,{"$f":"Т0!N8","v":"Минимална вкупна цена"}]
[null,null,null,null,null,null,null,null,null,{"$f":"Т0!J9","v":"1. Изработка на проектна документација (1.1.+1.2)"},null,null,null,{"$f":"SUM(N9:N10)","v":0},{"$f":"SUM(O9:O10)","v":0}]
[null,null,{"$f":"Т0!C10","v":"Просечна цена на изведба за 1 m²"},{"$f":"G9*F13","v":33790},null,null,{"$f":"' Помош - Каталог на намени'!G7","v":545},null,null,{"$f":"Т0!J10","v":"1.1. Изработка на основен проект"},null,null,null,{"$f":"F7*F40","v":0},{"$f":"N9/F13","v":0}]
[null,null,null,null,null,null,null,null,null,{"$f":"Т0!J11","v":"1.2. Изработка на идеен проект"},null,null,null,{"$f":"F7*H40","v":0},{"$f":"N10/F13","v":0}]
[null,null,{"$f":"Т0!C12","v":"Вкупна инвестициона градежна  вредност"},{"$f":"F7*D9","v":0},null,null,{"$f":"D11/F13","v":0}]
[null,null,null,null,null,null,null,null,null,{"$f":"Т0!J13","v":"2. Ревизија на проектна документација (2.1.+2.2.)"},null,null,null,{"$f":"SUM(N13:N14)","v":0},{"$f":"SUM(O13:O14)","v":0}]
[null,null,{"$f":"Т0!C14","v":"Вредност на евро валута"},{"$f":"Т0!D14","v":1},{"$f":"Т0!E14","v":"="},{"$f":"Т0!F14","v":62},null,null,null,{"$f":"Т0!J14","v":"2.1. Ревизија на основен проект"},null,null,null,{"$f":"F7*J40","v":0},{"$f":"N13/F13","v":0}]
[null,null,null,null,null,null,null,null,null,{"$f":"Т0!J15","v":"2.2. Ревизија на идеен проект"},null,null,null,{"$f":"F7*L40","v":0},{"$f":"N14/F13","v":0}]
[null,null,{"$f":"Т0!C16","v":"Изработка на Основен проект"},{"$f":"Т0!D16:F16","v":"Ревизија на Основен проект"},null,null,{"$f":"Т0!G16:H16","v":"Надзор на изградба"}]
[null,null,{"$f":"G40/G9","v":3.105870625068146E-2},{"$f":"K40/G9","v":4.6588059376022192E-3},null,null,{"$f":"N40","v":2.5000000000000001E-2},null,null,{"$f":"Т0!J17","v":"3. Надзор на градба (3.1.+3.2.)"},null,null,null,{"$f":"SUM(N17:N18)","v":0},{"$f":"SUM(O17:O18)","v":0}]
[null,null,{"$f":"Т0!C18","v":"Изработка на Идеен проект"},{"$f":"Т0!D18:F18","v":"Ревизија на Идеен проект"},null,null,{"$f":"Т0!G18:H18","v":"Проектантски надзор"},null,null,{"$f":"Т0!J18","v":"3.1. Надзор на градба"},null,null,null,{"$f":"F7*D9*N40","v":0},{"$f":"N17/F13","v":0}]
[null,null,{"$f":"I40/G9","v":9.3082662263827675E-3},{"$f":"M40/G9","v":1.3962399339574147E-3},null,null,{"$f":"O40","v":0.01},null,null,{"$f":"Т0!J19","v":"3.2. Проектантски надзор"},null,null,null,{"$f":"F7*D9*O40","v":0},{"$f":"N18/F13","v":0}]
[]
[null,null,null,null,null,{"$f":"Т0!F21","v":"Изработка на проектна документација"},null,null,null,{"$f":"Т0!J21","v":"Ревизија на проектна документација"},null,null,null,{"$f":"Т0!N21","v":"Надзор на изградба"}]
[null,null,null,null,null,null,null,null,null,{"$f":"Т0!J22","v":"(15% од вредноста на Изработка на проектна документација)"}]
[null,null,null,null,null,{"$f":"Т0!F23","v":"Основен проект"},null,{"$f":"Т0!H23","v":"Идеен проект"},null,{"$f":"Т0!J23","v":"Основен проект"},null,{"$f":"Т0!L23","v":"Идеен проект"},null,{"$f":"Т0!N23","v":"Надзор на изградба"},{"$f":"Т0!O23","v":"Проектантски надзор"}]
[null,null,null,null,null,null,null,{"$f":"Т0!H24","v":"(30% од вредноста на основниот проект)"},null,null,null,{"$f":"Т0!L24","v":"(30% од вредноста на ревизија на основниот проект)"}]
[null,null,{"$f":"Т0!C25","v":"Вид на проект"},{"$f":"Т0!D25","v":"Удел"},null,{"$f":"Т0!F25","v":"Минимална цена"},null,{"$f":"Т0!H25","v":"Минимална цена"},null,{"$f":"Т0!J25","v":"Минимална цена"},null,{"$f":"Т0!L25","v":"Минимална цена"},null,{"$f":"Т0!N25","v":"Минимален процент од инвестиција"},{"$f":"Т0!O25","v":"Минимален процент од инвестиција"}]
[null,null,{"$f":"Т0!C26","v":"(според намената)"},{"$f":"Т0!D26","v":"[%]"},null,{"$f":"Т0!F26","v":"[денари/m²]"},{"$f":"Т0!G26","v":"[€/m²]"},{"$f":"Т0!H26","v":"[денари/m²]"},{"$f":"Т0!I26","v":"[€/m²]"},{"$f":"Т0!J26","v":"[денари/m²]"},{"$f":"Т0!K26","v":"[€/m²]"},{"$f":"Т0!L26","v":"[денари/m²]"},{"$f":"Т0!M26","v":"[€/m²]"},{"$f":"Т0!N26","v":"[%]"},"[%]"]
[]
[null,null,{"$f":"Т0!C28","v":"Архитектонски проект"},{"$f":"F27/F40","v":0.44784353059177529},null,470,{"$f":"F27/F13","v":7.580645161290323},{"$f":"F27*0.3","v":141},{"$f":"H27/F13","v":2.274193548387097},{"$f":"F27*0.15","v":70.5},{"$f":"J27/F13","v":1.1370967741935485},{"$f":"J27*0.3","v":21.15},{"$f":"L27/F13","v":0.34112903225806451},{"$f":"N$40*(F27/$F$40*100)","v":1.1196088264794382},{"$f":"O$40*(F27/$F$40*100)","v":0.44784353059177529}]
[null,null,{"$f":"Т0!C29","v":"Градежно-конструктивен проект"},{"$f":"F28/F40","v":0.24107321965897691},null,253,{"$f":"F28/F13","v":4.080645161290323},75.899999999999991,{"$f":"H28/F13","v":1.2241935483870967},37.949999999999996,{"$f":"J28/F13","v":0.61209677419354835},11.384999999999998,{"$f":"L28/F13","v":0.18362903225806448},0.60268304914744231,0.24107321965897691]
[null,null,{"$f":"Т0!C30","v":"Електротехнички проект"},{"$f":"F29/F40","v":6.2888665997993975E-2},null,66,{"$f":"F29/F13","v":1.064516129032258},19.8,{"$f":"H29/F13","v":0.31935483870967746},9.9,{"$f":"J29/F13","v":0.15967741935483873},2.97,{"$f":"L29/F13","v":4.7903225806451614E-2},0.15722166499498494,6.2888665997993975E-2]
[null,null,{"$f":"Т0!C32","v":"Проект за водовод и канализација"},{"$f":"F30/F40","v":5.3360080240722162E-2},null,56,{"$f":"F30/F13","v":0.90322580645161288},16.8,{"$f":"H30/F13","v":0.2709677419354839},8.4,{"$f":"J30/F13","v":0.13548387096774195},2.52,{"$f":"L30/F13","v":4.0645161290322578E-2},0.13340020060180541,5.3360080240722162E-2]
[null,null,{"$f":"Т0!C33","v":"Термотехнички проект"},{"$f":"F31/F40","v":5.9077231695085247E-2},null,62,{"$f":"F31/F13","v":1},18.599999999999998,{"$f":"H31/F13","v":0.3},9.2999999999999989,{"$f":"J31/F13","v":0.15},2.7899999999999996,{"$f":"L31/F13","v":4.4999999999999991E-2},0.1476930792377131,5.9077231695085247E-2]
[null,null,{"$f":"Т0!C44","v":"Проект за  партерно уредување и сообраќај"},{"$f":"F32/F40","v":2.8585757271815442E-2},null,30,{"$f":"F32/F13","v":0.4838709677419355},9,{"$f":"H32/F13","v":0.14516129032258066},4.5,{"$f":"J32/F13","v":7.2580645161290328E-2},1.3499999999999999,{"$f":"L32/F13","v":2.1774193548387093E-2},7.1464393179538607E-2,2.8585757271815442E-2]
[null,null,{"$f":"Т0!C38","v":"Елаборат за заштита од пожари"},{"$f":"F33/F40","v":1.9057171514543628E-2},null,20,{"$f":"F33/F13","v":0.32258064516129031},6,{"$f":"H33/F13","v":9.6774193548387094E-2},3,{"$f":"J33/F13","v":4.8387096774193547E-2},0.89999999999999991,{"$f":"L33/F13","v":1.4516129032258063E-2},4.7642928786359069E-2,1.9057171514543628E-2]
[null,null,{"$f":"Т0!C42","v":"Елаборат за енергетска ефикасност"},{"$f":"F34/F40","v":1.9057171514543628E-2},null,20,{"$f":"F34/F13","v":0.32258064516129031},6,{"$f":"H34/F13","v":9.6774193548387094E-2},3,{"$f":"J34/F13","v":4.8387096774193547E-2},0.89999999999999991,{"$f":"L34/F13","v":1.4516129032258063E-2},{"$f":"N$40*(F34/$F$40*100)","v":4.7642928786359069E-2},{"$f":"O$40*(F34/$F$40*100)","v":1.9057171514543628E-2}]
[null,null,{"$f":"Т0!C37","v":"Сообраќаен проект"},{"$f":"F35/F40","v":1.9057171514543628E-2},null,20,{"$f":"F35/F13","v":0.32258064516129031},{"$f":"F35*0.3","v":6},{"$f":"H35/F13","v":9.6774193548387094E-2},{"$f":"F35*0.15","v":3},{"$f":"J35/F13","v":4.8387096774193547E-2},{"$f":"J35*0.3","v":0.89999999999999991},{"$f":"L35/F13","v":1.4516129032258063E-2},{"$f":"N$40*(F35/$F$40*100)","v":4.7642928786359069E-2},{"$f":"O$40*(F35/$F$40*100)","v":1.9057171514543628E-2}]
[]
[]
[null,null,{"$f":"Т0!C47","v":"Координација на проект"},{"$f":"F38/F40","v":5.0000000000000142E-2},null,{"$f":"SUM(F27:F35)/0.95-SUM(F27:F35)","v":52.473684210526471},{"$f":"F38/F13","v":0.8463497453310721},{"$f":"SUM(H27:H34)/0.95-SUM(H27:H34)","v":15.426315789473676},{"$f":"H38/F13","v":0.2488115449915109},{"$f":"F38*0.15","v":7.8710526315789702},{"$f":"J38/F13","v":0.1269524617996608},{"$f":"SUM(L27:L34)/0.95-SUM(L27:L34)","v":2.3139473684210543},{"$f":"L38/F13","v":3.7321731748726682E-2},{"$f":"N$40*(F38/$F$40*100)","v":0.12500000000000036},{"$f":"O$40*(F38/$F$40*100)","v":5.0000000000000142E-2}]
[]
[null,null,{"$f":"Т0!C49","v":"Вкупно:"},{"$f":"SUM(D27:D38)","v":1.0000000000000002},null,{"$f":"SUM(F26:F39)","v":1049.4736842105265},{"$f":"F40/F13","v":16.926994906621395},{"$f":"SUM(H27:H38)","v":314.5263157894737},{"$f":"H40/F13","v":5.0730050933786082},{"$f":"SUM(J27:J38)","v":157.42105263157899},{"$f":"J40/F13","v":2.5390492359932093},{"$f":"SUM(L27:L38)","v":47.178947368421049},{"$f":"L40/F13","v":0.76095076400679107},2.5000000000000001E-2,0.01]

{"sheet":"А3","index":7,"n_rows":41,"n_cols":15,"rows_kept":41,"cut":false,"hidden":true,"merged":[[4,2,4,14],[7,6,7,7],[10,9,10,12],[11,9,11,12],[2,3,2,14],[6,9,6,12],[6,13,6,14],[7,9,7,12],[8,9,8,12],[10,3,10,5],[10,6,10,7],[12,9,12,12],[8,3,8,5],[8,6,8,7],[9,3,9,5],[9,6,9,7],[9,9,9,12],[11,3,11,5],[11,6,11,7],[21,13,22,13],[16,9,16,12],[15,3,15,5],[15,6,15,7],[16,3,16,5],[16,6,16,7],[21,14,22,14],[22,7,22,8],[22,11,22,12],[12,6,12,7],[17,9,17,12],[19,5,20,8],[19,9,19,12],[19,13,20,14],[20,9,20,12],[17,3,17,5],[17,6,17,7],[15,9,15,12],[14,9,14,12],[14,3,14,5],[14,6,14,7],[13,9,13,12],[23,5,23,6],[23,7,23,8],[23,9,23,10],[23,11,23,12],[21,5,22,6],[21,7,21,8],[21,9,22,10],[21,11,21,12]]}
[]
[]
[null,null,{"$f":"' Помош - Каталог на намени'!D8","v":"А3"},{"$f":"' Помош - Каталог на намени'!E8","v":"ЗАЕДНИЧКО (ГРУПНО) ДОМУВАЊЕ"}]
[]
[null,null,{"$f":"' Помош - Каталог на намени'!F8","v":"А3.1. - Згради за престој на ученици\nА3.2. - Згради за престој на студенти\nА3.3. - Згради за престој на пензионери, стари и немоќни лица\nА3.4. - Згради за престој на самци\nА3.5. - Згради за престој на деца без родители\nА3.6. - Згради за престој на незгрижени лица и бездомници\nА3.7. - Згради за престој на бегалци, мигранти, баратели на азил и други"}]
[]
[null,null,{"$f":"Т0!C8","v":"Површина на градба"},null,null,{"$f":"Калкулатор!D9","v":0},{"$f":"Т0!G8","v":"m²"},{"$f":"Т0!H8","v":"(варијабла)"},null,{"$f":"Т0!J8","v":"Вид на инженерска услуга"},null,null,null,{"$f":"Т0!N8","v":"Минимална вкупна цена"}]
[null,null,null,null,null,null,null,null,null,{"$f":"Т0!J9","v":"1. Изработка на проектна документација (1.1.+1.2)"},null,null,null,{"$f":"SUM(N9:N10)","v":0},{"$f":"SUM(O9:O10)","v":0}]
[null,null,{"$f":"Т0!C10","v":"Просечна цена на изведба за 1 m²"},{"$f":"G9*F13","v":40300},null,null,{"$f":"' Помош - Каталог на намени'!G8","v":650},null,null,{"$f":"Т0!J10","v":"1.1. Изработка на основен проект"},null,null,null,{"$f":"F7*F41","v":0},{"$f":"N9/F13","v":0}]
[null,null,null,null,null,null,null,null,null,{"$f":"Т0!J11","v":"1.2. Изработка на идеен проект"},null,null,null,{"$f":"F7*H41","v":0},{"$f":"N10/F13","v":0}]
[null,null,{"$f":"Т0!C12","v":"Вкупна инвестициона градежна  вредност"},{"$f":"F7*D9","v":0},null,null,{"$f":"D11/F13","v":0}]
[null,null,null,null,null,null,null,null,null,{"$f":"Т0!J13","v":"2. Ревизија на проектна документација (2.1.+2.2.)"},null,null,null,{"$f":"SUM(N13:N14)","v":0},{"$f":"SUM(O13:O14)","v":0}]
[null,null,{"$f":"Т0!C14","v":"Вредност на евро валута"},{"$f":"Т0!D14","v":1},{"$f":"Т0!E14","v":"="},{"$f":"Т0!F14","v":62},null,null,null,{"$f":"Т0!J14","v":"2.1. Ревизија на основен проект"},null,null,null,{"$f":"F7*J41","v":0},{"$f":"N13/F13","v":0}]
[null,null,null,null,null,null,null,null,null,{"$f":"Т0!J15","v":"2.2. Ревизија на идеен проект"},null,null,null,{"$f":"F7*L41","v":0},{"$f":"N14/F13","v":0}]
[null,null,{"$f":"Т0!C16","v":"Изработка на Основен проект"},{"$f":"Т0!D16:F16","v":"Ревизија на Основен проект"},null,null,{"$f":"Т0!G16:H16","v":"Надзор на изградба"}]
[null,null,{"$f":"G41/G9","v":2.8496800313438684E-2},{"$f":"K41/G9","v":4.2745200470158022E-3},null,null,{"$f":"N41","v":2.5000000000000001E-2},null,null,{"$f":"Т0!J17","v":"3. Надзор на градба (3.1.+3.2.)"},null,null,null,{"$f":"SUM(N17:N18)","v":0},{"$f":"SUM(O17:O18)","v":0}]
[null,null,{"$f":"Т0!C18","v":"Изработка на Идеен проект"},{"$f":"Т0!D18:F18","v":"Ревизија на Идеен проект"},null,null,{"$f":"Т0!G18:H18","v":"Проектантски надзор"},null,null,{"$f":"Т0!J18","v":"3.1. Надзор на градба"},null,null,null,{"$f":"F7*D9*N41","v":0},{"$f":"N17/F13","v":0}]
[null,null,{"$f":"I41/G9","v":8.5353271516259641E-3},{"$f":"M41/G9","v":1.2802990727438942E-3},null,null,{"$f":"O41","v":0.01},null,null,{"$f":"Т0!J19","v":"3.2. Проектантски надзор"},null,null,null,{"$f":"F7*D9*O41","v":0},{"$f":"N18/F13","v":0}]
[]
[null,null,null,null,null,{"$f":"Т0!F21","v":"Изработка на проектна документација"},null,null,null,{"$f":"Т0!J21","v":"Ревизија на проектна документација"},null,null,null,{"$f":"Т0!N21","v":"Надзор на изградба"}]
[null,null,null,null,null,null,null,null,null,{"$f":"Т0!J22","v":"(15% од вредноста на Изработка на проектна документација)"}]
[null,null,null,null,null,{"$f":"Т0!F23","v":"Основен проект"},null,{"$f":"Т0!H23","v":"Идеен проект"},null,{"$f":"Т0!J23","v":"Основен проект"},null,{"$f":"Т0!L23","v":"Идеен проект"},null,{"$f":"Т0!N23","v":"Надзор на изградба"},{"$f":"Т0!O23","v":"Проектантски надзор"}]
[null,null,null,null,null,null,null,{"$f":"Т0!H24","v":"(30% од вредноста на основниот проект)"},null,null,null,{"$f":"Т0!L24","v":"(30% од вредноста на ревизија на основниот проект)"}]
[null,null,{"$f":"Т0!C25","v":"Вид на проект"},{"$f":"Т0!D25","v":"Удел"},null,{"$f":"Т0!F25","v":"Минимална цена"},null,{"$f":"Т0!H25","v":"Минимална цена"},null,{"$f":"Т0!J25","v":"Минимална цена"},null,{"$f":"Т0!L25","v":"Минимална цена"},null,{"$f":"Т0!N25","v":"Минимален процент од инвестиција"},{"$f":"Т0!O25","v":"Минимален процент од инвестиција"}]
[null,null,{"$f":"Т0!C26","v":"(според намената)"},{"$f":"Т0!D26","v":"[%]"},null,{"$f":"Т0!F26","v":"[денари/m²]"},{"$f":"Т0!G26","v":"[€/m²]"},{"$f":"Т0!H26","v":"[денари/m²]"},{"$f":"Т0!I26","v":"[€/m²]"},{"$f":"Т0!J26","v":"[денари/m²]"},{"$f":"Т0!K26","v":"[€/m²]"},{"$f":"Т0!L26","v":"[денари/m²]"},{"$f":"Т0!M26","v":"[€/m²]"},{"$f":"Т0!N26","v":"[%]"},"[%]"]
[]
[null,null,{"$f":"Т0!C28","v":"Архитектонски проект"},{"$f":"F27/F41","v":0.38748854262144822},null,445,{"$f":"F27/F13","v":7.17741935483871},{"$f":"F27*0.3","v":133.5},{"$f":"H27/F13","v":2.153225806451613},{"$f":"F27*0.15","v":66.75},{"$f":"J27/F13","v":1.0766129032258065},{"$f":"J27*0.3","v":20.024999999999999},{"$f":"L27/F13","v":0.32298387096774189},{"$f":"N$41*(F27/$F$41*100)","v":0.96872135655362068},{"$f":"O$41*(F27/$F$41*100)","v":0.38748854262144827}]
[null,null,{"$f":"Т0!C29","v":"Градежно-конструктивен проект"},{"$f":"F28/F41","v":0.23945921173235563},null,275,{"$f":"F28/F13","v":4.435483870967742},82.5,{"$f":"H28/F13","v":1.3306451612903225},41.25,{"$f":"J28/F13","v":0.66532258064516125},12.375,{"$f":"L28/F13","v":0.19959677419354838},0.59864802933088901,0.23945921173235563]
[null,null,{"$f":"Т0!C30","v":"Електротехнички проект"},{"$f":"F29/F41","v":8.5334555453712185E-2},null,98,{"$f":"F29/F13","v":1.5806451612903225},29.4,{"$f":"H29/F13","v":0.47419354838709676},14.7,{"$f":"J29/F13","v":0.23709677419354838},4.4099999999999993,{"$f":"L29/F13","v":7.1129032258064509E-2},0.21333638863428048,8.5334555453712185E-2]
[null,null,{"$f":"Т0!C32","v":"Проект за водовод и канализација"},{"$f":"F30/F41","v":5.921173235563703E-2},null,68,{"$f":"F30/F13","v":1.096774193548387},20.399999999999999,{"$f":"H30/F13","v":0.32903225806451608},10.199999999999999,{"$f":"J30/F13","v":0.16451612903225804},3.0599999999999996,{"$f":"L30/F13","v":4.9354838709677412E-2},0.14802933088909259,5.9211732355637037E-2]
[null,null,{"$f":"Т0!C33","v":"Термотехнички проект"},{"$f":"F31/F41","v":7.4014665444546282E-2},null,85,{"$f":"F31/F13","v":1.3709677419354838},25.5,{"$f":"H31/F13","v":0.41129032258064518},12.75,{"$f":"J31/F13","v":0.20564516129032259},3.8249999999999997,{"$f":"L31/F13","v":6.1693548387096772E-2},0.18503666361136573,7.4014665444546282E-2]
[null,null,{"$f":"Т0!C44","v":"Проект за  партерно уредување и сообраќај"},{"$f":"F32/F41","v":2.6122823098075159E-2},null,30,{"$f":"F32/F13","v":0.4838709677419355},9,{"$f":"H32/F13","v":0.14516129032258066},4.5,{"$f":"J32/F13","v":7.2580645161290328E-2},1.3499999999999999,{"$f":"L32/F13","v":2.1774193548387093E-2},6.5307057745187899E-2,2.6122823098075162E-2]
[null,null,{"$f":"Т0!C38","v":"Елаборат за заштита од пожари"},{"$f":"F33/F41","v":1.7415215398716773E-2},null,20,{"$f":"F33/F13","v":0.32258064516129031},6,{"$f":"H33/F13","v":9.6774193548387094E-2},3,{"$f":"J33/F13","v":4.8387096774193547E-2},0.89999999999999991,{"$f":"L33/F13","v":1.4516129032258063E-2},4.3538038496791935E-2,1.7415215398716773E-2]
[null,null,{"$f":"Т0!C39","v":"Елаборат за заштита при работа"},{"$f":"F34/F41","v":1.3061411549037579E-2},null,15,{"$f":"F34/F13","v":0.24193548387096775},4.5,{"$f":"H34/F13","v":7.2580645161290328E-2},2.25,{"$f":"J34/F13","v":3.6290322580645164E-2},0.67499999999999993,{"$f":"L34/F13","v":1.0887096774193547E-2},3.265352887259395E-2,1.3061411549037581E-2]
[null,null,{"$f":"Т0!C42","v":"Елаборат за енергетска ефикасност"},{"$f":"F35/F41","v":1.7415215398716773E-2},null,20,{"$f":"F35/F13","v":0.32258064516129031},6,{"$f":"H35/F13","v":9.6774193548387094E-2},{"$f":"F35*0.15","v":3},{"$f":"J35/F13","v":4.8387096774193547E-2},{"$f":"J35*0.3","v":0.89999999999999991},{"$f":"L35/F13","v":1.4516129032258063E-2},{"$f":"N$41*(F35/$F$41*100)","v":4.3538038496791935E-2},{"$f":"O$41*(F35/$F$41*100)","v":1.7415215398716773E-2}]
[null,null,{"$f":"Т0!C43","v":"Елаборат за заштита на животната средина"},{"$f":"F36/F41","v":1.3061411549037579E-2},null,15,{"$f":"F36/F13","v":0.24193548387096775},{"$f":"F36*0.3","v":4.5},{"$f":"H36/F13","v":7.2580645161290328E-2},2.25,{"$f":"J36/F13","v":3.6290322580645164E-2},0.67499999999999993,{"$f":"L36/F13","v":1.0887096774193547E-2},3.265352887259395E-2,{"$f":"O$41*(F36/$F$41*100)","v":1.3061411549037581E-2}]
[null,null,{"$f":"Т0!C37","v":"Сообраќаен проект"},{"$f":"F37/F41","v":1.7415215398716773E-2},null,20,{"$f":"F37/F13","v":0.32258064516129031},{"$f":"F37*0.3","v":6},{"$f":"H37/F13","v":9.6774193548387094E-2},{"$f":"F37*0.15","v":3},{"$f":"J37/F13","v":4.8387096774193547E-2},{"$f":"J37*0.3","v":0.89999999999999991},{"$f":"L37/F13","v":1.4516129032258063E-2},4.3983110485573546E-2,1.7593244194229418E-2]
[]
[null,null,{"$f":"Т0!C47","v":"Координација на проект"},{"$f":"F39/F41","v":5.000000000000001E-2},null,{"$f":"SUM(F27:F37)/0.95-SUM(F27:F37)","v":57.421052631578959},{"$f":"F39/F13","v":0.92614601018675746},{"$f":"SUM(H27:H35)/0.95-SUM(H27:H35)","v":16.673684210526346},{"$f":"H39/F13","v":0.26893039049236045},{"$f":"F39*0.15","v":8.6131578947368439},{"$f":"J39/F13","v":0.13892190152801362},{"$f":"SUM(L27:L35)/0.95-SUM(L27:L35)","v":2.5010526315789505},{"$f":"L39/F13","v":4.0339558573854038E-2},{"$f":"N$41*(F39/$F$41*100)","v":0.12500000000000003},{"$f":"O$41*(F39/$F$41*100)","v":5.000000000000001E-2}]
[]
[null,null,{"$f":"Т0!C49","v":"Вкупно:"},{"$f":"SUM(D27:D39)","v":1},null,{"$f":"SUM(F26:F40)","v":1148.421052631579},{"$f":"F41/F13","v":18.522920203735143},{"$f":"SUM(H27:H39)","v":343.97368421052636},{"$f":"H41/F13","v":5.5479626485568767},{"$f":"SUM(J27:J39)","v":172.26315789473685},{"$f":"J41/F13","v":2.7784380305602716},{"$f":"SUM(L27:L39)","v":51.596052631578942},{"$f":"L41/F13","v":0.83219439728353128},2.5000000000000001E-2,0.01]

{"sheet":"А4","index":8,"n_rows":41,"n_cols":15,"rows_kept":41,"cut":false,"hidden":true,"merged":[[4,2,4,14],[7,6,7,7],[10,9,10,12],[11,9,11,12],[2,3,2,14],[6,9,6,12],[6,13,6,14],[7,9,7,12],[8,9,8,12],[10,3,10,5],[10,6,10,7],[12,9,12,12],[8,3,8,5],[8,6,8,7],[9,3,9,5],[9,6,9,7],[9,9,9,12],[11,3,11,5],[11,6,11,7],[21,13,22,13],[16,9,16,12],[15,3,15,5],[15,6,15,7],[16,3,16,5],[16,6,16,7],[21,14,22,14],[22,7,22,8],[22,11,22,12],[12,6,12,7],[17,9,17,12],[19,5,20,8],[19,9,19,12],[19,13,20,14],[20,9,20,12],[17,3,17,5],[17,6,17,7],[15,9,15,12],[14,9,14,12],[14,3,14,5],[14,6,14,7],[13,9,13,12],[23,5,23,6],[23,7,23,8],[23,9,23,10],[23,11,23,12],[21,5,22,6],[21,7,21,8],[21,9,22,10],[21,11,21,12]]}
[]
[]
[null,null,{"$f":"' Помош - Каталог на намени'!D9","v":"А4"},{"$f":"' Помош - Каталог на намени'!E9","v":"ВРЕМЕН ПРЕСТОЈ"}]
[]
[null,null,{"$f":"' Помош - Каталог на намени'!F9","v":"А4.1. - Хостели, пансиони и згради со апартмани и студија\nА4.2. - Мотели\nА4.3. - Викенд куќи и други објекти за времено сместување\nА4.4. - Планинарски домови\nА4.5. - Ловни домови, шумски куќи и истражувачки куќи\nА4.6. - Кампови - Спортски кампови, автокампови, детски и младински кампови\nА4.7. - Традиционални куќи за потреби на туризмот (селски, планински, езерски)"}]
[]
[null,null,{"$f":"Т0!C8","v":"Површина на градба"},null,null,{"$f":"Калкулатор!D9","v":0},{"$f":"Т0!G8","v":"m²"},{"$f":"Т0!H8","v":"(варијабла)"},null,{"$f":"Т0!J8","v":"Вид на инженерска услуга"},null,null,null,{"$f":"Т0!N8","v":"Минимална вкупна цена"}]
[null,null,null,null,null,null,null,null,null,{"$f":"Т0!J9","v":"1. Изработка на проектна документација (1.1.+1.2)"},null,null,null,{"$f":"SUM(N9:N10)","v":0},{"$f":"SUM(O9:O10)","v":0}]
[null,null,{"$f":"Т0!C10","v":"Просечна цена на изведба за 1 m²"},{"$f":"G9*F13","v":40300},null,null,{"$f":"' Помош - Каталог на намени'!G9","v":650},null,null,{"$f":"Т0!J10","v":"1.1. Изработка на основен проект"},null,null,null,{"$f":"F7*F41","v":0},{"$f":"N9/F13","v":0}]
[null,null,null,null,null,null,null,null,null,{"$f":"Т0!J11","v":"1.2. Изработка на идеен проект"},null,null,null,{"$f":"F7*H41","v":0},{"$f":"N10/F13","v":0}]
[null,null,{"$f":"Т0!C12","v":"Вкупна инвестициона градежна  вредност"},{"$f":"F7*D9","v":0},null,null,{"$f":"D11/F13","v":0}]
[null,null,null,null,null,null,null,null,null,{"$f":"Т0!J13","v":"2. Ревизија на проектна документација (2.1.+2.2.)"},null,null,null,{"$f":"SUM(N13:N14)","v":0},{"$f":"SUM(O13:O14)","v":0}]
[null,null,{"$f":"Т0!C14","v":"Вредност на евро валута"},{"$f":"Т0!D14","v":1},{"$f":"Т0!E14","v":"="},{"$f":"Т0!F14","v":62},null,null,null,{"$f":"Т0!J14","v":"2.1. Ревизија на основен проект"},null,null,null,{"$f":"F7*J41","v":0},{"$f":"N13/F13","v":0}]
[null,null,null,null,null,null,null,null,null,{"$f":"Т0!J15","v":"2.2. Ревизија на идеен проект"},null,null,null,{"$f":"F7*L41","v":0},{"$f":"N14/F13","v":0}]
[null,null,{"$f":"Т0!C16","v":"Изработка на Основен проект"},{"$f":"Т0!D16:F16","v":"Ревизија на Основен проект"},null,null,{"$f":"Т0!G16:H16","v":"Надзор на изградба"}]
[null,null,{"$f":"G41/G9","v":2.8470680423142224E-2},{"$f":"K41/G9","v":4.2706020634713333E-3},null,null,{"$f":"N41","v":2.5000000000000001E-2},null,null,{"$f":"Т0!J17","v":"3. Надзор на градба (3.1.+3.2.)"},null,null,null,{"$f":"SUM(N17:N18)","v":0},{"$f":"SUM(O17:O18)","v":0}]
[null,null,{"$f":"Т0!C18","v":"Изработка на Идеен проект"},{"$f":"Т0!D18:F18","v":"Ревизија на Идеен проект"},null,null,{"$f":"Т0!G18:H18","v":"Проектантски надзор"},null,null,{"$f":"Т0!J18","v":"3.1. Надзор на градба"},null,null,null,{"$f":"F7*D9*N41","v":0},{"$f":"N17/F13","v":0}]
[null,null,{"$f":"I41/G9","v":8.5274911845370262E-3},{"$f":"M41/G9","v":1.2791236776805534E-3},null,null,{"$f":"O41","v":0.01},null,null,{"$f":"Т0!J19","v":"3.2. Проектантски надзор"},null,null,null,{"$f":"F7*D9*O41","v":0},{"$f":"N18/F13","v":0}]
[]
[null,null,null,null,null,{"$f":"Т0!F21","v":"Изработка на проектна документација"},null,null,null,{"$f":"Т0!J21","v":"Ревизија на проектна документација"},null,null,null,{"$f":"Т0!N21","v":"Надзор на изградба"}]
[null,null,null,null,null,null,null,null,null,{"$f":"Т0!J22","v":"(15% од вредноста на Изработка на проектна документација)"}]
[null,null,null,null,null,{"$f":"Т0!F23","v":"Основен проект"},null,{"$f":"Т0!H23","v":"Идеен проект"},null,{"$f":"Т0!J23","v":"Основен проект"},null,{"$f":"Т0!L23","v":"Идеен проект"},null,{"$f":"Т0!N23","v":"Надзор на изградба"},{"$f":"Т0!O23","v":"Проектантски надзор"}]
[null,null,null,null,null,null,null,{"$f":"Т0!H24","v":"(30% од вредноста на основниот проект)"},null,null,null,{"$f":"Т0!L24","v":"(30% од вредноста на ревизија на основниот проект)"}]
[null,null,{"$f":"Т0!C25","v":"Вид на проект"},{"$f":"Т0!D25","v":"Удел"},null,{"$f":"Т0!F25","v":"Минимална цена"},null,{"$f":"Т0!H25","v":"Минимална цена"},null,{"$f":"Т0!J25","v":"Минимална цена"},null,{"$f":"Т0!L25","v":"Минимална цена"},null,{"$f":"Т0!N25","v":"Минимален процент од инвестиција"},{"$f":"Т0!O25","v":"Минимален процент од инвестиција"}]
[null,null,{"$f":"Т0!C26","v":"(според намената)"},{"$f":"Т0!D26","v":"[%]"},null,{"$f":"Т0!F26","v":"[денари/m²]"},{"$f":"Т0!G26","v":"[€/m²]"},{"$f":"Т0!H26","v":"[денари/m²]"},{"$f":"Т0!I26","v":"[€/m²]"},{"$f":"Т0!J26","v":"[денари/m²]"},{"$f":"Т0!K26","v":"[€/m²]"},{"$f":"Т0!L26","v":"[денари/m²]"},{"$f":"Т0!M26","v":"[€/m²]"},{"$f":"Т0!N26","v":"[%]"},"[%]"]
[]
[null,null,{"$f":"Т0!C28","v":"Архитектонски проект"},{"$f":"F27/F41","v":0.38784403669724765},null,445,{"$f":"F27/F13","v":7.17741935483871},{"$f":"F27*0.3","v":133.5},{"$f":"H27/F13","v":2.153225806451613},{"$f":"F27*0.15","v":66.75},{"$f":"J27/F13","v":1.0766129032258065},{"$f":"J27*0.3","v":20.024999999999999},{"$f":"L27/F13","v":0.32298387096774189},{"$f":"N$41*(F27/$F$41*100)","v":0.96961009174311918},{"$f":"O$41*(F27/$F$41*100)","v":0.38784403669724771}]
[null,null,{"$f":"Т0!C29","v":"Градежно-конструктивен проект"},{"$f":"F28/F41","v":0.23967889908256879},null,275,{"$f":"F28/F13","v":4.435483870967742},82.5,{"$f":"H28/F13","v":1.3306451612903225},41.25,{"$f":"J28/F13","v":0.66532258064516125},12.375,{"$f":"L28/F13","v":0.19959677419354838},0.59919724770642202,0.23967889908256879]
[null,null,{"$f":"Т0!C30","v":"Електротехнички проект"},{"$f":"F29/F41","v":8.366972477064219E-2},null,96,{"$f":"F29/F13","v":1.5483870967741935},28.799999999999997,{"$f":"H29/F13","v":0.46451612903225803},14.399999999999999,{"$f":"J29/F13","v":0.23225806451612901},4.3199999999999994,{"$f":"L29/F13","v":6.9677419354838704E-2},0.20917431192660552,8.3669724770642204E-2]
[null,null,{"$f":"Т0!C32","v":"Проект за водовод и канализација"},{"$f":"F30/F41","v":5.7522935779816507E-2},null,66,{"$f":"F30/F13","v":1.064516129032258},19.8,{"$f":"H30/F13","v":0.31935483870967746},9.9,{"$f":"J30/F13","v":0.15967741935483873},2.97,{"$f":"L30/F13","v":4.7903225806451614E-2},0.14380733944954127,5.7522935779816507E-2]
[null,null,{"$f":"Т0!C33","v":"Термотехнички проект"},{"$f":"F31/F41","v":6.7981651376146784E-2},null,78,{"$f":"F31/F13","v":1.2580645161290323},23.4,{"$f":"H31/F13","v":0.37741935483870964},11.7,{"$f":"J31/F13","v":0.18870967741935482},3.51,{"$f":"L31/F13","v":5.6612903225806449E-2},0.16995412844036697,6.7981651376146784E-2]
[null,null,{"$f":"Т0!C44","v":"Проект за  партерно уредување и сообраќај"},{"$f":"F32/F41","v":3.4862385321100912E-2},null,40,{"$f":"F32/F13","v":0.64516129032258063},12,{"$f":"H32/F13","v":0.19354838709677419},6,{"$f":"J32/F13","v":9.6774193548387094E-2},1.7999999999999998,{"$f":"L32/F13","v":2.9032258064516127E-2},8.7155963302752285E-2,3.4862385321100912E-2]
[null,null,{"$f":"Т0!C38","v":"Елаборат за заштита од пожари"},{"$f":"F33/F41","v":1.7431192660550456E-2},null,20,{"$f":"F33/F13","v":0.32258064516129031},6,{"$f":"H33/F13","v":9.6774193548387094E-2},3,{"$f":"J33/F13","v":4.8387096774193547E-2},0.89999999999999991,{"$f":"L33/F13","v":1.4516129032258063E-2},4.3577981651376142E-2,1.7431192660550456E-2]
[null,null,{"$f":"Т0!C39","v":"Елаборат за заштита при работа"},{"$f":"F34/F41","v":1.3073394495412843E-2},null,15,{"$f":"F34/F13","v":0.24193548387096775},4.5,{"$f":"H34/F13","v":7.2580645161290328E-2},2.25,{"$f":"J34/F13","v":3.6290322580645164E-2},0.67499999999999993,{"$f":"L34/F13","v":1.0887096774193547E-2},3.2683486238532108E-2,1.3073394495412843E-2]
[null,null,{"$f":"Т0!C42","v":"Елаборат за енергетска ефикасност"},{"$f":"F35/F41","v":1.7431192660550456E-2},null,20,{"$f":"F35/F13","v":0.32258064516129031},6,{"$f":"H35/F13","v":9.6774193548387094E-2},{"$f":"F35*0.15","v":3},{"$f":"J35/F13","v":4.8387096774193547E-2},{"$f":"J35*0.3","v":0.89999999999999991},{"$f":"L35/F13","v":1.4516129032258063E-2},{"$f":"N$41*(F35/$F$41*100)","v":4.3577981651376142E-2},{"$f":"O$41*(F35/$F$41*100)","v":1.7431192660550456E-2}]
[null,null,{"$f":"Т0!C43","v":"Елаборат за заштита на животната средина"},{"$f":"F36/F41","v":1.3073394495412843E-2},null,15,{"$f":"F36/F13","v":0.24193548387096775},{"$f":"F36*0.3","v":4.5},{"$f":"H36/F13","v":7.2580645161290328E-2},2.25,{"$f":"J36/F13","v":3.6290322580645164E-2},0.67499999999999993,{"$f":"L36/F13","v":1.0887096774193547E-2},3.2683486238532108E-2,1.3073394495412843E-2]
[null,null,{"$f":"Т0!C37","v":"Сообраќаен проект"},{"$f":"F37/F41","v":1.7431192660550456E-2},null,20,{"$f":"F37/F13","v":0.32258064516129031},{"$f":"F37*0.3","v":6},{"$f":"H37/F13","v":9.6774193548387094E-2},{"$f":"F37*0.15","v":3},{"$f":"J37/F13","v":4.8387096774193547E-2},{"$f":"J37*0.3","v":0.89999999999999991},{"$f":"L37/F13","v":1.4516129032258063E-2},{"$f":"N$41*(F37/$F$41*100)","v":4.3577981651376142E-2},{"$f":"O$41*(F37/$F$41*100)","v":1.7431192660550456E-2}]
[]
[null,null,{"$f":"Т0!C47","v":"Координација на проект"},{"$f":"F39/F41","v":5.0000000000000079E-2},null,{"$f":"SUM(F27:F37)/0.95-SUM(F27:F37)","v":57.368421052631675},{"$f":"F39/F13","v":0.92529711375212376},{"$f":"SUM(H27:H35)/0.95-SUM(H27:H35)","v":16.657894736842138},{"$f":"H39/F13","v":0.26867572156196995},{"$f":"F39*0.15","v":8.6052631578947505},{"$f":"J39/F13","v":0.13879456706281856},{"$f":"SUM(L27:L35)/0.95-SUM(L27:L35)","v":2.4986842105263207},{"$f":"L39/F13","v":4.0301358234295495E-2},{"$f":"N$41*(F39/$F$41*100)","v":0.12500000000000019},{"$f":"O$41*(F39/$F$41*100)","v":5.0000000000000079E-2}]
[]
[null,null,{"$f":"Т0!C49","v":"Вкупно:"},{"$f":"SUM(D27:D39)","v":1},null,{"$f":"SUM(F26:F40)","v":1147.3684210526317},{"$f":"F41/F13","v":18.505942275042447},{"$f":"SUM(H27:H39)","v":343.65789473684214},{"$f":"H41/F13","v":5.5428692699490671},{"$f":"SUM(J27:J39)","v":172.10526315789474},{"$f":"J41/F13","v":2.7758913412563668},{"$f":"SUM(L27:L39)","v":51.548684210526304},{"$f":"L41/F13","v":0.83143039049235978},2.5000000000000001E-2,0.01]

{"sheet":"Б1","index":9,"n_rows":41,"n_cols":15,"rows_kept":41,"cut":false,"hidden":true,"merged":[[4,2,4,14],[7,6,7,7],[10,9,10,12],[11,9,11,12],[2,3,2,14],[6,9,6,12],[6,13,6,14],[7,9,7,12],[8,9,8,12],[10,3,10,5],[10,6,10,7],[12,9,12,12],[8,3,8,5],[8,6,8,7],[9,3,9,5],[9,6,9,7],[9,9,9,12],[11,3,11,5],[11,6,11,7],[21,13,22,13],[16,9,16,12],[15,3,15,5],[15,6,15,7],[16,3,16,5],[16,6,16,7],[21,14,22,14],[22,7,22,8],[22,11,22,12],[12,6,12,7],[17,9,17,12],[19,5,20,8],[19,9,19,12],[19,13,20,14],[20,9,20,12],[17,3,17,5],[17,6,17,7],[15,9,15,12],[14,9,14,12],[14,3,14,5],[14,6,14,7],[13,9,13,12],[23,5,23,6],[23,7,23,8],[23,9,23,10],[23,11,23,12],[21,5,22,6],[21,7,21,8],[21,9,22,10],[21,11,21,12]]}
[]
[]
[null,null,{"$f":"' Помош - Каталог на намени'!D11","v":"Б1"},{"$f":"' Помош - Каталог на намени'!E11","v":"МАЛИ ЕДИНИЦИ ЗА КОМЕРЦИЈАЛНИ И ДЕЛОВНИ ДЕЈНОСТИ (ДО 200 m² И П + 1 КАТ)"}]
[]
[null,null,{"$f":"' Помош - Каталог на намени'!F11","v":"Б1.1. - Дуќани, занаетчиски дуќани, продавници за мали прибори, опрема, делови и потреби за домаќинство\nБ1.2. - Работилници за поправка на предмети и уреди, сервиси за чистење облека и други сервиси\nБ1.3. - Продавници за храна, минимаркети, гранапи и други продавници\nБ1.4. - Продавници за машини и опрема за домаќинство\nБ1.5. - Ресторани, кантини, кафеани, кебапчилници, сендвичари\nБ1.6. - Кафулиња, мали барови, бифеа, бистроа, пивници и пивски подруми, винарии и вински подруми\nБ1.7. - Слаткарници, патисерии, продавници на бели печива, мали пекари и фурни\nБ1.8. - Банкарски експозитури, канцеларии за финансиски услуги, менувачници\nБ1.9. - Пошти, поштенски канцеларии, канцеларии за прием на пратки\nБ1.10. - Канцеларии за консалтинг и интелектуални услуги\nБ1.11. - Адвокатски, нотарски и извршителски канцеларии\nБ1.12. - Аптеки, продавници за козметика\nБ1.13. - Мали ординации од сите медицински и стоматолошки области (стоматолошки, физиотерапевтски и слично)\nБ1.14. - Продавници за предмети, уреди, салони за мебел и други мали специјализирани продавници\nБ1.15. - Козметички салони, студија за нега на телото и слично"}]
[]
[null,null,{"$f":"Т0!C8","v":"Површина на градба"},null,null,{"$f":"Калкулатор!D9","v":0},{"$f":"Т0!G8","v":"m²"},{"$f":"Т0!H8","v":"(варијабла)"},null,{"$f":"Т0!J8","v":"Вид на инженерска услуга"},null,null,null,{"$f":"Т0!N8","v":"Минимална вкупна цена"}]
[null,null,null,null,null,null,null,null,null,{"$f":"Т0!J9","v":"1. Изработка на проектна документација (1.1.+1.2)"},null,null,null,{"$f":"SUM(N9:N10)","v":0},{"$f":"SUM(O9:O10)","v":0}]
[null,null,{"$f":"Т0!C10","v":"Просечна цена на изведба за 1 m²"},{"$f":"G9*F13","v":50530},null,null,{"$f":"' Помош - Каталог на намени'!G11","v":815},null,null,{"$f":"Т0!J10","v":"1.1. Изработка на основен проект"},null,null,null,{"$f":"F7*F41","v":0},{"$f":"N9/F13","v":0}]
[null,null,null,null,null,null,null,null,null,{"$f":"Т0!J11","v":"1.2. Изработка на идеен проект"},null,null,null,{"$f":"F7*H41","v":0},{"$f":"N10/F13","v":0}]
[null,null,{"$f":"Т0!C12","v":"Вкупна инвестициона градежна  вредност"},{"$f":"F7*D9","v":0},null,null,{"$f":"D11/F13","v":0}]
[null,null,null,null,null,null,null,null,null,{"$f":"Т0!J13","v":"2. Ревизија на проектна документација (2.1.+2.2.)"},null,null,null,{"$f":"SUM(N13:N14)","v":0},{"$f":"SUM(O13:O14)","v":0}]
[null,null,{"$f":"Т0!C14","v":"Вредност на евро валута"},{"$f":"Т0!D14","v":1},{"$f":"Т0!E14","v":"="},{"$f":"Т0!F14","v":62},null,null,null,{"$f":"Т0!J14","v":"2.1. Ревизија на основен проект"},null,null,null,{"$f":"F7*J41","v":0},{"$f":"N13/F13","v":0}]
[null,null,null,null,null,null,null,null,null,{"$f":"Т0!J15","v":"2.2. Ревизија на идеен проект"},null,null,null,{"$f":"F7*L41","v":0},{"$f":"N14/F13","v":0}]
[null,null,{"$f":"Т0!C16","v":"Изработка на Основен проект"},{"$f":"Т0!D16:F16","v":"Ревизија на Основен проект"},null,null,{"$f":"Т0!G16:H16","v":"Надзор на изградба"}]
[null,null,{"$f":"G41/G9","v":2.4748195444082202E-2},{"$f":"K41/G9","v":3.7122293166123302E-3},null,null,{"$f":"N41","v":2.5000000000000001E-2},null,null,{"$f":"Т0!J17","v":"3. Надзор на градба (3.1.+3.2.)"},null,null,null,{"$f":"SUM(N17:N18)","v":0},{"$f":"SUM(O17:O18)","v":0}]
[null,null,{"$f":"Т0!C18","v":"Изработка на Идеен проект"},{"$f":"Т0!D18:F18","v":"Ревизија на Идеен проект"},null,null,{"$f":"Т0!G18:H18","v":"Проектантски надзор"},null,null,{"$f":"Т0!J18","v":"3.1. Надзор на градба"},null,null,null,{"$f":"F7*D9*N41","v":0},{"$f":"N17/F13","v":0}]
[null,null,{"$f":"I41/G9","v":7.4150843167685686E-3},{"$f":"M41/G9","v":1.1122626475152848E-3},null,null,{"$f":"O41","v":0.01},null,null,{"$f":"Т0!J19","v":"3.2. Проектантски надзор"},null,null,null,{"$f":"F7*D9*O41","v":0},{"$f":"N18/F13","v":0}]
[]
[null,null,null,null,null,{"$f":"Т0!F21","v":"Изработка на проектна документација"},null,null,null,{"$f":"Т0!J21","v":"Ревизија на проектна документација"},null,null,null,{"$f":"Т0!N21","v":"Надзор на изградба"}]
[null,null,null,null,null,null,null,null,null,{"$f":"Т0!J22","v":"(15% од вредноста на Изработка на проектна документација)"}]
[null,null,null,null,null,{"$f":"Т0!F23","v":"Основен проект"},null,{"$f":"Т0!H23","v":"Идеен проект"},null,{"$f":"Т0!J23","v":"Основен проект"},null,{"$f":"Т0!L23","v":"Идеен проект"},null,{"$f":"Т0!N23","v":"Надзор на изградба"},{"$f":"Т0!O23","v":"Проектантски надзор"}]
[null,null,null,null,null,null,null,{"$f":"Т0!H24","v":"(30% од вредноста на основниот проект)"},null,null,null,{"$f":"Т0!L24","v":"(30% од вредноста на ревизија на основниот проект)"}]
[null,null,{"$f":"Т0!C25","v":"Вид на проект"},{"$f":"Т0!D25","v":"Удел"},null,{"$f":"Т0!F25","v":"Минимална цена"},null,{"$f":"Т0!H25","v":"Минимална цена"},null,{"$f":"Т0!J25","v":"Минимална цена"},null,{"$f":"Т0!L25","v":"Минимална цена"},null,{"$f":"Т0!N25","v":"Минимален процент од инвестиција"},{"$f":"Т0!O25","v":"Минимален процент од инвестиција"}]
[null,null,{"$f":"Т0!C26","v":"(според намената)"},{"$f":"Т0!D26","v":"[%]"},null,{"$f":"Т0!F26","v":"[денари/m²]"},{"$f":"Т0!G26","v":"[€/m²]"},{"$f":"Т0!H26","v":"[денари/m²]"},{"$f":"Т0!I26","v":"[€/m²]"},{"$f":"Т0!J26","v":"[денари/m²]"},{"$f":"Т0!K26","v":"[€/m²]"},{"$f":"Т0!L26","v":"[денари/m²]"},{"$f":"Т0!M26","v":"[€/m²]"},{"$f":"Т0!N26","v":"[%]"},"[%]"]
[]
[null,null,{"$f":"Т0!C28","v":"Архитектонски проект"},{"$f":"F27/F41","v":0.38383838383838381},null,480,{"$f":"F27/F13","v":7.741935483870968},{"$f":"F27*0.3","v":144},{"$f":"H27/F13","v":2.3225806451612905},{"$f":"F27*0.15","v":72},{"$f":"J27/F13","v":1.1612903225806452},{"$f":"J27*0.3","v":21.599999999999998},{"$f":"L27/F13","v":0.34838709677419349},{"$f":"N$41*(F27/$F$41*100)","v":0.95959595959595956},{"$f":"O$41*(F27/$F$41*100)","v":0.38383838383838381}]
[null,null,{"$f":"Т0!C29","v":"Градежно-конструктивен проект"},{"$f":"F28/F41","v":0.24629629629629629},null,308,{"$f":"F28/F13","v":4.967741935483871},92.399999999999991,{"$f":"H28/F13","v":1.4903225806451612},46.199999999999996,{"$f":"J28/F13","v":0.74516129032258061},13.859999999999998,{"$f":"L28/F13","v":0.22354838709677416},0.61574074074074081,0.24629629629629629]
[null,null,{"$f":"Т0!C30","v":"Електротехнички проект"},{"$f":"F29/F41","v":9.5959595959595953E-2},null,120,{"$f":"F29/F13","v":1.935483870967742},36,{"$f":"H29/F13","v":0.58064516129032262},18,{"$f":"J29/F13","v":0.29032258064516131},5.3999999999999995,{"$f":"L29/F13","v":8.7096774193548374E-2},0.23989898989898989,9.5959595959595953E-2]
[null,null,{"$f":"Т0!C32","v":"Проект за водовод и канализација"},{"$f":"F30/F41","v":5.5976430976430971E-2},null,70,{"$f":"F30/F13","v":1.1290322580645162},21,{"$f":"H30/F13","v":0.33870967741935482},10.5,{"$f":"J30/F13","v":0.16935483870967741},3.15,{"$f":"L30/F13","v":5.0806451612903224E-2},0.13994107744107742,5.5976430976430971E-2]
[null,null,{"$f":"Т0!C33","v":"Термотехнички проект"},{"$f":"F31/F41","v":7.5968013468013462E-2},null,95,{"$f":"F31/F13","v":1.532258064516129},28.5,{"$f":"H31/F13","v":0.45967741935483869},14.25,{"$f":"J31/F13","v":0.22983870967741934},4.2749999999999995,{"$f":"L31/F13","v":6.8951612903225795E-2},0.18992003367003366,7.5968013468013462E-2]
[null,null,{"$f":"Т0!C44","v":"Проект за  партерно уредување и сообраќај"},{"$f":"F32/F41","v":1.5993265993265993E-2},null,20,{"$f":"F32/F13","v":0.32258064516129031},6,{"$f":"H32/F13","v":9.6774193548387094E-2},3,{"$f":"J32/F13","v":4.8387096774193547E-2},0.89999999999999991,{"$f":"L32/F13","v":1.4516129032258063E-2},3.9983164983164982E-2,1.5993265993265993E-2]
[null,null,{"$f":"Т0!C38","v":"Елаборат за заштита од пожари"},{"$f":"F33/F41","v":2.3989898989898988E-2},null,30,{"$f":"F33/F13","v":0.4838709677419355},9,{"$f":"H33/F13","v":0.14516129032258066},4.5,{"$f":"J33/F13","v":7.2580645161290328E-2},1.3499999999999999,{"$f":"L33/F13","v":2.1774193548387093E-2},5.9974747474747472E-2,2.3989898989898988E-2]
[null,null,{"$f":"Т0!C39","v":"Елаборат за заштита при работа"},{"$f":"F34/F41","v":1.5993265993265993E-2},null,20,{"$f":"F34/F13","v":0.32258064516129031},6,{"$f":"H34/F13","v":9.6774193548387094E-2},3,{"$f":"J34/F13","v":4.8387096774193547E-2},0.89999999999999991,{"$f":"L34/F13","v":1.4516129032258063E-2},3.9983164983164982E-2,1.5993265993265993E-2]
[null,null,{"$f":"Т0!C42","v":"Елаборат за енергетска ефикасност"},{"$f":"F35/F41","v":1.1994949494949494E-2},null,15,{"$f":"F35/F13","v":0.24193548387096775},4.5,{"$f":"H35/F13","v":7.2580645161290328E-2},{"$f":"F35*0.15","v":2.25},{"$f":"J35/F13","v":3.6290322580645164E-2},{"$f":"J35*0.3","v":0.67499999999999993},{"$f":"L35/F13","v":1.0887096774193547E-2},{"$f":"N$41*(F35/$F$41*100)","v":2.9987373737373736E-2},{"$f":"O$41*(F35/$F$41*100)","v":1.1994949494949494E-2}]
[null,null,{"$f":"Т0!C43","v":"Елаборат за заштита на животната средина"},{"$f":"F36/F41","v":1.1994949494949494E-2},null,15,{"$f":"F36/F13","v":0.24193548387096775},{"$f":"F36*0.3","v":4.5},{"$f":"H36/F13","v":7.2580645161290328E-2},2.25,{"$f":"J36/F13","v":3.6290322580645164E-2},0.67499999999999993,{"$f":"L36/F13","v":1.0887096774193547E-2},2.9987373737373736E-2,1.1994949494949494E-2]
[null,null,{"$f":"Т0!C37","v":"Сообраќаен проект"},{"$f":"F37/F41","v":1.1994949494949494E-2},null,15,{"$f":"F37/F13","v":0.24193548387096775},{"$f":"F37*0.3","v":4.5},{"$f":"H37/F13","v":7.2580645161290328E-2},{"$f":"F37*0.15","v":2.25},{"$f":"J37/F13","v":3.6290322580645164E-2},{"$f":"J37*0.3","v":0.67499999999999993},{"$f":"L37/F13","v":1.0887096774193547E-2},3.0448197466709976E-2,1.217927898668399E-2]
[]
[null,null,{"$f":"Т0!C47","v":"Координација на проект"},{"$f":"F39/F41","v":5.0000000000000051E-2},null,{"$f":"SUM(F27:F37)/0.95-SUM(F27:F37)","v":62.526315789473756},{"$f":"F39/F13","v":1.0084889643463508},{"$f":"SUM(H27:H35)/0.95-SUM(H27:H35)","v":18.284210526315803},{"$f":"H39/F13","v":0.29490662139219037},{"$f":"F39*0.15","v":9.3789473684210627},{"$f":"J39/F13","v":0.15127334465195263},{"$f":"SUM(L27:L35)/0.95-SUM(L27:L35)","v":2.7426315789473676},{"$f":"L39/F13","v":4.4235993208828511E-2},{"$f":"N$41*(F39/$F$41*100)","v":0.12500000000000014},{"$f":"O$41*(F39/$F$41*100)","v":5.0000000000000051E-2}]
[]
[null,null,{"$f":"Т0!C49","v":"Вкупно:"},{"$f":"SUM(D27:D39)","v":1.0000000000000002},null,{"$f":"SUM(F26:F40)","v":1250.5263157894738},{"$f":"F41/F13","v":20.169779286926996},{"$f":"SUM(H27:H39)","v":374.68421052631578},{"$f":"H41/F13","v":6.0432937181663835},{"$f":"SUM(J27:J39)","v":187.57894736842104},{"$f":"J41/F13","v":3.0254668930390491},{"$f":"SUM(L27:L39)","v":56.202631578947347},{"$f":"L41/F13","v":0.90649405772495717},2.5000000000000001E-2,0.01]

{"sheet":"Б2","index":10,"n_rows":41,"n_cols":15,"rows_kept":41,"cut":false,"hidden":true,"merged":[[4,2,4,14],[7,6,7,7],[10,9,10,12],[11,9,11,12],[2,3,2,14],[6,9,6,12],[6,13,6,14],[7,9,7,12],[8,9,8,12],[10,3,10,5],[10,6,10,7],[12,9,12,12],[8,3,8,5],[8,6,8,7],[9,3,9,5],[9,6,9,7],[9,9,9,12],[11,3,11,5],[11,6,11,7],[21,13,22,13],[16,9,16,12],[15,3,15,5],[15,6,15,7],[16,3,16,5],[16,6,16,7],[21,14,22,14],[22,7,22,8],[22,11,22,12],[12,6,12,7],[17,9,17,12],[19,5,20,8],[19,9,19,12],[19,13,20,14],[20,9,20,12],[17,3,17,5],[17,6,17,7],[15,9,15,12],[14,9,14,12],[14,3,14,5],[14,6,14,7],[13,9,13,12],[23,5,23,6],[23,7,23,8],[23,9,23,10],[23,11,23,12],[21,5,22,6],[21,7,21,8],[21,9,22,10],[21,11,21,12]]}
[]
[]
[null,null,{"$f":"' Помош - Каталог на намени'!D12","v":"Б2"},{"$f":"' Помош - Каталог на намени'!E12","v":"ГОЛЕМИ ЕДИНИЦИ ЗА ТРГОВИЈА (НАД 200 m² И/ИЛИ ПОВЕЌЕ ОД П + 1 КАТ)"}]
[]
[null,null,{"$f":"' Помош - Каталог на намени'!F12","v":"Б2.1. - Отворени и затворени пазари\nБ2.2. - Трговски центри\nБ2.3. - Стоковни куќи\nБ2.4. - Супермаркети, хипермаркети и други големи маркети\nБ2.5. - Големи специјализирани продавници, автосалони, салони за мебел и други\nБ2.6. - Големи сали, хали, складови и магацини за потребите на трговијата"}]
[]
[null,null,{"$f":"Т0!C8","v":"Површина на градба"},null,null,{"$f":"Калкулатор!D9","v":0},{"$f":"Т0!G8","v":"m²"},{"$f":"Т0!H8","v":"(варијабла)"},null,{"$f":"Т0!J8","v":"Вид на инженерска услуга"},null,null,null,{"$f":"Т0!N8","v":"Минимална вкупна цена"}]
[null,null,null,null,null,null,null,null,null,{"$f":"Т0!J9","v":"1. Изработка на проектна документација (1.1.+1.2)"},null,null,null,{"$f":"SUM(N9:N10)","v":0},{"$f":"SUM(O9:O10)","v":0}]
[null,null,{"$f":"Т0!C10","v":"Просечна цена на изведба за 1 m²"},{"$f":"G9*F13","v":51150},null,null,{"$f":"' Помош - Каталог на намени'!G12","v":825},null,null,{"$f":"Т0!J10","v":"1.1. Изработка на основен проект"},null,null,null,{"$f":"F7*F41","v":0},{"$f":"N9/F13","v":0}]
[null,null,null,null,null,null,null,null,null,{"$f":"Т0!J11","v":"1.2. Изработка на идеен проект"},null,null,null,{"$f":"F7*H41","v":0},{"$f":"N10/F13","v":0}]
[null,null,{"$f":"Т0!C12","v":"Вкупна инвестициона градежна  вредност"},{"$f":"F7*D9","v":0},null,null,{"$f":"D11/F13","v":0}]
[null,null,null,null,null,null,null,null,null,{"$f":"Т0!J13","v":"2. Ревизија на проектна документација (2.1.+2.2.)"},null,null,null,{"$f":"SUM(N13:N14)","v":0},{"$f":"SUM(O13:O14)","v":0}]
[null,null,{"$f":"Т0!C14","v":"Вредност на евро валута"},{"$f":"Т0!D14","v":1},{"$f":"Т0!E14","v":"="},{"$f":"Т0!F14","v":62},null,null,null,{"$f":"Т0!J14","v":"2.1. Ревизија на основен проект"},null,null,null,{"$f":"F7*J41","v":0},{"$f":"N13/F13","v":0}]
[null,null,null,null,null,null,null,null,null,{"$f":"Т0!J15","v":"2.2. Ревизија на идеен проект"},null,null,null,{"$f":"F7*L41","v":0},{"$f":"N14/F13","v":0}]
[null,null,{"$f":"Т0!C16","v":"Изработка на Основен проект"},{"$f":"Т0!D16:F16","v":"Ревизија на Основен проект"},null,null,{"$f":"Т0!G16:H16","v":"Надзор на изградба"}]
[null,null,{"$f":"G41/G9","v":2.4448217317487267E-2},{"$f":"K41/G9","v":3.6672325976230898E-3},null,null,{"$f":"N41","v":2.5000000000000001E-2},null,null,{"$f":"Т0!J17","v":"3. Надзор на градба (3.1.+3.2.)"},null,null,null,{"$f":"SUM(N17:N18)","v":0},{"$f":"SUM(O17:O18)","v":0}]
[null,null,{"$f":"Т0!C18","v":"Изработка на Идеен проект"},{"$f":"Т0!D18:F18","v":"Ревизија на Идеен проект"},null,null,{"$f":"Т0!G18:H18","v":"Проектантски надзор"},null,null,{"$f":"Т0!J18","v":"3.1. Надзор на градба"},null,null,null,{"$f":"F7*D9*N41","v":0},{"$f":"N17/F13","v":0}]
[null,null,{"$f":"I41/G9","v":7.3236610588053707E-3},{"$f":"M41/G9","v":1.0985491588208053E-3},null,null,{"$f":"O41","v":0.01},null,null,{"$f":"Т0!J19","v":"3.2. Проектантски надзор"},null,null,null,{"$f":"F7*D9*O41","v":0},{"$f":"N18/F13","v":0}]
[]
[null,null,null,null,null,{"$f":"Т0!F21","v":"Изработка на проектна документација"},null,null,null,{"$f":"Т0!J21","v":"Ревизија на проектна документација"},null,null,null,{"$f":"Т0!N21","v":"Надзор на изградба"}]
[null,null,null,null,null,null,null,null,null,{"$f":"Т0!J22","v":"(15% од вредноста на Изработка на проектна документација)"}]
[null,null,null,null,null,{"$f":"Т0!F23","v":"Основен проект"},null,{"$f":"Т0!H23","v":"Идеен проект"},null,{"$f":"Т0!J23","v":"Основен проект"},null,{"$f":"Т0!L23","v":"Идеен проект"},null,{"$f":"Т0!N23","v":"Надзор на изградба"},{"$f":"Т0!O23","v":"Проектантски надзор"}]
[null,null,null,null,null,null,null,{"$f":"Т0!H24","v":"(30% од вредноста на основниот проект)"},null,null,null,{"$f":"Т0!L24","v":"(30% од вредноста на ревизија на основниот проект)"}]
[null,null,{"$f":"Т0!C25","v":"Вид на проект"},{"$f":"Т0!D25","v":"Удел"},null,{"$f":"Т0!F25","v":"Минимална цена"},null,{"$f":"Т0!H25","v":"Минимална цена"},null,{"$f":"Т0!J25","v":"Минимална цена"},null,{"$f":"Т0!L25","v":"Минимална цена"},null,{"$f":"Т0!N25","v":"Минимален процент од инвестиција"},{"$f":"Т0!O25","v":"Минимален процент од инвестиција"}]
[null,null,{"$f":"Т0!C26","v":"(според намената)"},{"$f":"Т0!D26","v":"[%]"},null,{"$f":"Т0!F26","v":"[денари/m²]"},{"$f":"Т0!G26","v":"[€/m²]"},{"$f":"Т0!H26","v":"[денари/m²]"},{"$f":"Т0!I26","v":"[€/m²]"},{"$f":"Т0!J26","v":"[денари/m²]"},{"$f":"Т0!K26","v":"[€/m²]"},{"$f":"Т0!L26","v":"[денари/m²]"},{"$f":"Т0!M26","v":"[€/m²]"},{"$f":"Т0!N26","v":"[%]"},"[%]"]
[]
[null,null,{"$f":"Т0!C28","v":"Архитектонски проект"},{"$f":"F27/F41","v":0.38383838383838381},null,480,{"$f":"F27/F13","v":7.741935483870968},{"$f":"F27*0.3","v":144},{"$f":"H27/F13","v":2.3225806451612905},{"$f":"F27*0.15","v":72},{"$f":"J27/F13","v":1.1612903225806452},{"$f":"J27*0.3","v":21.599999999999998},{"$f":"L27/F13","v":0.34838709677419349},{"$f":"N$41*(F27/$F$41*100)","v":0.95959595959595956},{"$f":"O$41*(F27/$F$41*100)","v":0.38383838383838381}]
[null,null,{"$f":"Т0!C29","v":"Градежно-конструктивен проект"},{"$f":"F28/F41","v":0.21031144781144781},null,263,{"$f":"F28/F13","v":4.241935483870968},78.899999999999991,{"$f":"H28/F13","v":1.2725806451612902},39.449999999999996,{"$f":"J28/F13","v":0.63629032258064511},11.834999999999999,{"$f":"L28/F13","v":0.19088709677419352},0.5257786195286196,0.21031144781144784]
[null,null,{"$f":"Т0!C30","v":"Електротехнички проект"},{"$f":"F29/F41","v":0.11994949494949494},null,150,{"$f":"F29/F13","v":2.4193548387096775},45,{"$f":"H29/F13","v":0.72580645161290325},22.5,{"$f":"J29/F13","v":0.36290322580645162},6.75,{"$f":"L29/F13","v":0.10887096774193548},0.2998737373737374,0.11994949494949494]
[null,null,{"$f":"Т0!C32","v":"Проект за водовод и канализација"},{"$f":"F30/F41","v":5.1978114478114477E-2},null,65,{"$f":"F30/F13","v":1.0483870967741935},19.5,{"$f":"H30/F13","v":0.31451612903225806},9.75,{"$f":"J30/F13","v":0.15725806451612903},2.9249999999999998,{"$f":"L30/F13","v":4.7177419354838705E-2},0.1299452861952862,5.1978114478114484E-2]
[null,null,{"$f":"Т0!C33","v":"Термотехнички проект"},{"$f":"F31/F41","v":8.7962962962962951E-2},null,110,{"$f":"F31/F13","v":1.7741935483870968},33,{"$f":"H31/F13","v":0.532258064516129},16.5,{"$f":"J31/F13","v":0.2661290322580645},4.95,{"$f":"L31/F13","v":7.9838709677419364E-2},0.21990740740740741,8.7962962962962965E-2]
[null,null,{"$f":"Т0!C44","v":"Проект за  партерно уредување и сообраќај"},{"$f":"F32/F41","v":2.3989898989898988E-2},null,30,{"$f":"F32/F13","v":0.4838709677419355},9,{"$f":"H32/F13","v":0.14516129032258066},4.5,{"$f":"J32/F13","v":7.2580645161290328E-2},1.3499999999999999,{"$f":"L32/F13","v":2.1774193548387093E-2},5.9974747474747472E-2,2.3989898989898988E-2]
[null,null,{"$f":"Т0!C38","v":"Елаборат за заштита од пожари"},{"$f":"F33/F41","v":1.5993265993265993E-2},null,20,{"$f":"F33/F13","v":0.32258064516129031},6,{"$f":"H33/F13","v":9.6774193548387094E-2},3,{"$f":"J33/F13","v":4.8387096774193547E-2},0.89999999999999991,{"$f":"L33/F13","v":1.4516129032258063E-2},3.9983164983164982E-2,1.5993265993265993E-2]
[null,null,{"$f":"Т0!C39","v":"Елаборат за заштита при работа"},{"$f":"F34/F41","v":1.1994949494949494E-2},null,15,{"$f":"F34/F13","v":0.24193548387096775},4.5,{"$f":"H34/F13","v":7.2580645161290328E-2},2.25,{"$f":"J34/F13","v":3.6290322580645164E-2},0.67499999999999993,{"$f":"L34/F13","v":1.0887096774193547E-2},2.9987373737373736E-2,1.1994949494949494E-2]
[null,null,{"$f":"Т0!C42","v":"Елаборат за енергетска ефикасност"},{"$f":"F35/F41","v":1.5993265993265993E-2},null,20,{"$f":"F35/F13","v":0.32258064516129031},6,{"$f":"H35/F13","v":9.6774193548387094E-2},{"$f":"F35*0.15","v":3},{"$f":"J35/F13","v":4.8387096774193547E-2},{"$f":"J35*0.3","v":0.89999999999999991},{"$f":"L35/F13","v":1.4516129032258063E-2},{"$f":"N$41*(F35/$F$41*100)","v":3.9983164983164982E-2},{"$f":"O$41*(F35/$F$41*100)","v":1.5993265993265993E-2}]
[null,null,{"$f":"Т0!C43","v":"Елаборат за заштита на животната средина"},{"$f":"F36/F41","v":1.1994949494949494E-2},null,15,{"$f":"F36/F13","v":0.24193548387096775},{"$f":"F36*0.3","v":4.5},{"$f":"H36/F13","v":7.2580645161290328E-2},2.25,{"$f":"J36/F13","v":3.6290322580645164E-2},0.67499999999999993,{"$f":"L36/F13","v":1.0887096774193547E-2},2.9987373737373736E-2,1.1994949494949494E-2]
[null,null,{"$f":"Т0!C37","v":"Сообраќаен проект"},{"$f":"F37/F41","v":1.5993265993265993E-2},null,20,{"$f":"F37/F13","v":0.32258064516129031},{"$f":"F37*0.3","v":6},{"$f":"H37/F13","v":9.6774193548387094E-2},{"$f":"F37*0.15","v":3},{"$f":"J37/F13","v":4.8387096774193547E-2},{"$f":"J37*0.3","v":0.89999999999999991},{"$f":"L37/F13","v":1.4516129032258063E-2},{"$f":"N$41*(F37/$F$41*100)","v":3.9983164983164982E-2},{"$f":"O$41*(F37/$F$41*100)","v":1.5993265993265993E-2}]
[]
[null,null,{"$f":"Т0!C47","v":"Координација на проект"},{"$f":"F39/F41","v":5.0000000000000051E-2},null,{"$f":"SUM(F27:F37)/0.95-SUM(F27:F37)","v":62.526315789473756},{"$f":"F39/F13","v":1.0084889643463508},{"$f":"SUM(H27:H35)/0.95-SUM(H27:H35)","v":18.205263157894763},{"$f":"H39/F13","v":0.29363327674023809},{"$f":"F39*0.15","v":9.3789473684210627},{"$f":"J39/F13","v":0.15127334465195263},{"$f":"SUM(L27:L35)/0.95-SUM(L27:L35)","v":2.7307894736842115},{"$f":"L39/F13","v":4.4044991511035671E-2},{"$f":"N$41*(F39/$F$41*100)","v":0.12500000000000014},{"$f":"O$41*(F39/$F$41*100)","v":5.0000000000000051E-2}]
[]
[null,null,{"$f":"Т0!C49","v":"Вкупно:"},{"$f":"SUM(D27:D39)","v":1},null,{"$f":"SUM(F26:F40)","v":1250.5263157894738},{"$f":"F41/F13","v":20.169779286926996},{"$f":"SUM(H27:H39)","v":374.60526315789474},{"$f":"H41/F13","v":6.0420203735144309},{"$f":"SUM(J27:J39)","v":187.57894736842104},{"$f":"J41/F13","v":3.0254668930390491},{"$f":"SUM(L27:L39)","v":56.190789473684198},{"$f":"L41/F13","v":0.90630305602716443},2.5000000000000001E-2,0.01]

{"sheet":"Б3","index":11,"n_rows":41,"n_cols":15,"rows_kept":41,"cut":false,"hidden":true,"merged":[[7,6,7,7],[4,2,4,14],[10,9,10,12],[11,9,11,12],[2,3,2,14],[6,9,6,12],[6,13,6,14],[7,9,7,12],[8,9,8,12],[10,3,10,5],[10,6,10,7],[12,9,12,12],[8,3,8,5],[8,6,8,7],[9,3,9,5],[9,6,9,7],[9,9,9,12],[11,3,11,5],[11,6,11,7],[21,13,22,13],[16,9,16,12],[15,3,15,5],[15,6,15,7],[16,3,16,5],[16,6,16,7],[21,14,22,14],[22,7,22,8],[22,11,22,12],[12,6,12,7],[17,9,17,12],[19,5,20,8],[19,9,19,12],[19,13,20,14],[20,9,20,12],[17,3,17,5],[17,6,17,7],[15,9,15,12],[14,9,14,12],[14,3,14,5],[14,6,14,7],[13,9,13,12],[23,5,23,6],[23,7,23,8],[23,9,23,10],[23,11,23,12],[21,5,22,6],[21,7,21,8],[21,9,22,10],[21,11,21,12]]}
[]
[]
[null,null,{"$f":"' Помош - Каталог на намени'!D13","v":"Б3"},{"$f":"' Помош - Каталог на намени'!E13","v":"ГОЛЕМИ ЕДИНИЦИ ЗА УГОСТИТЕЛСКА ДЕЈНОСТ"}]
[]
[null,null,{"$f":"' Помош - Каталог на намени'!F13","v":"Б3.1. - Ресторани\nБ3.2. - Таверни\nБ3.3. - Ноќни клубови\nБ3.4. - Казина\nБ3.5. - Дискотеки"}]
[]
[null,null,{"$f":"Т0!C8","v":"Површина на градба"},null,null,{"$f":"Калкулатор!D9","v":0},{"$f":"Т0!G8","v":"m²"},{"$f":"Т0!H8","v":"(варијабла)"},null,{"$f":"Т0!J8","v":"Вид на инженерска услуга"},null,null,null,{"$f":"Т0!N8","v":"Минимална вкупна цена"}]
[null,null,null,null,null,null,null,null,null,{"$f":"Т0!J9","v":"1. Изработка на проектна документација (1.1.+1.2)"},null,null,null,{"$f":"SUM(N9:N10)","v":0},{"$f":"SUM(O9:O10)","v":0}]
[null,null,{"$f":"Т0!C10","v":"Просечна цена на изведба за 1 m²"},{"$f":"G9*F13","v":51150},null,null,{"$f":"' Помош - Каталог на намени'!G13","v":825},null,null,{"$f":"Т0!J10","v":"1.1. Изработка на основен проект"},null,null,null,{"$f":"F7*F41","v":0},{"$f":"N9/F13","v":0}]
[null,null,null,null,null,null,null,null,null,{"$f":"Т0!J11","v":"1.2. Изработка на идеен проект"},null,null,null,{"$f":"F7*H41","v":0},{"$f":"N10/F13","v":0}]
[null,null,{"$f":"Т0!C12","v":"Вкупна инвестициона градежна  вредност"},{"$f":"F7*D9","v":0},null,null,{"$f":"D11/F13","v":0}]
[null,null,null,null,null,null,null,null,null,{"$f":"Т0!J13","v":"2. Ревизија на проектна документација (2.1.+2.2.)"},null,null,null,{"$f":"SUM(N13:N14)","v":0},{"$f":"SUM(O13:O14)","v":0}]
[null,null,{"$f":"Т0!C14","v":"Вредност на евро валута"},{"$f":"Т0!D14","v":1},{"$f":"Т0!E14","v":"="},{"$f":"Т0!F14","v":62},null,null,null,{"$f":"Т0!J14","v":"2.1. Ревизија на основен проект"},null,null,null,{"$f":"F7*J41","v":0},{"$f":"N13/F13","v":0}]
[null,null,null,null,null,null,null,null,null,{"$f":"Т0!J15","v":"2.2. Ревизија на идеен проект"},null,null,null,{"$f":"F7*L41","v":0},{"$f":"N14/F13","v":0}]
[null,null,{"$f":"Т0!C16","v":"Изработка на Основен проект"},{"$f":"Т0!D16:F16","v":"Ревизија на Основен проект"},null,null,{"$f":"Т0!G16:H16","v":"Надзор на изградба"}]
[null,null,{"$f":"G41/G9","v":2.4448217317487267E-2},{"$f":"K41/G9","v":3.6672325976230898E-3},null,null,{"$f":"N41","v":2.5000000000000001E-2},null,null,{"$f":"Т0!J17","v":"3. Надзор на градба (3.1.+3.2.)"},null,null,null,{"$f":"SUM(N17:N18)","v":0},{"$f":"SUM(O17:O18)","v":0}]
[null,null,{"$f":"Т0!C18","v":"Изработка на Идеен проект"},{"$f":"Т0!D18:F18","v":"Ревизија на Идеен проект"},null,null,{"$f":"Т0!G18:H18","v":"Проектантски надзор"},null,null,{"$f":"Т0!J18","v":"3.1. Надзор на градба"},null,null,null,{"$f":"F7*D9*N41","v":0},{"$f":"N17/F13","v":0}]
[null,null,{"$f":"I41/G9","v":7.3236610588053707E-3},{"$f":"M41/G9","v":1.0985491588208053E-3},null,null,{"$f":"O41","v":0.01},null,null,{"$f":"Т0!J19","v":"3.2. Проектантски надзор"},null,null,null,{"$f":"F7*D9*O41","v":0},{"$f":"N18/F13","v":0}]
[]
[null,null,null,null,null,{"$f":"Т0!F21","v":"Изработка на проектна документација"},null,null,null,{"$f":"Т0!J21","v":"Ревизија на проектна документација"},null,null,null,{"$f":"Т0!N21","v":"Надзор на изградба"}]
[null,null,null,null,null,null,null,null,null,{"$f":"Т0!J22","v":"(15% од вредноста на Изработка на проектна документација)"}]
[null,null,null,null,null,{"$f":"Т0!F23","v":"Основен проект"},null,{"$f":"Т0!H23","v":"Идеен проект"},null,{"$f":"Т0!J23","v":"Основен проект"},null,{"$f":"Т0!L23","v":"Идеен проект"},null,{"$f":"Т0!N23","v":"Надзор на изградба"},{"$f":"Т0!O23","v":"Проектантски надзор"}]
[null,null,null,null,null,null,null,{"$f":"Т0!H24","v":"(30% од вредноста на основниот проект)"},null,null,null,{"$f":"Т0!L24","v":"(30% од вредноста на ревизија на основниот проект)"}]
[null,null,{"$f":"Т0!C25","v":"Вид на проект"},{"$f":"Т0!D25","v":"Удел"},null,{"$f":"Т0!F25","v":"Минимална цена"},null,{"$f":"Т0!H25","v":"Минимална цена"},null,{"$f":"Т0!J25","v":"Минимална цена"},null,{"$f":"Т0!L25","v":"Минимална цена"},null,{"$f":"Т0!N25","v":"Минимален процент од инвестиција"},{"$f":"Т0!O25","v":"Минимален процент од инвестиција"}]
[null,null,{"$f":"Т0!C26","v":"(според намената)"},{"$f":"Т0!D26","v":"[%]"},null,{"$f":"Т0!F26","v":"[денари/m²]"},{"$f":"Т0!G26","v":"[€/m²]"},{"$f":"Т0!H26","v":"[денари/m²]"},{"$f":"Т0!I26","v":"[€/m²]"},{"$f":"Т0!J26","v":"[денари/m²]"},{"$f":"Т0!K26","v":"[€/m²]"},{"$f":"Т0!L26","v":"[денари/m²]"},{"$f":"Т0!M26","v":"[€/m²]"},{"$f":"Т0!N26","v":"[%]"},"[%]"]
[]
[null,null,{"$f":"Т0!C28","v":"Архитектонски проект"},{"$f":"F27/F41","v":0.38383838383838381},null,480,{"$f":"F27/F13","v":7.741935483870968},{"$f":"F27*0.3","v":144},{"$f":"H27/F13","v":2.3225806451612905},{"$f":"F27*0.15","v":72},{"$f":"J27/F13","v":1.1612903225806452},{"$f":"J27*0.3","v":21.599999999999998},{"$f":"L27/F13","v":0.34838709677419349},{"$f":"N$41*(F27/$F$41*100)","v":0.95959595959595956},{"$f":"O$41*(F27/$F$41*100)","v":0.38383838383838381}]
[null,null,{"$f":"Т0!C29","v":"Градежно-конструктивен проект"},{"$f":"F28/F41","v":0.21031144781144781},null,263,{"$f":"F28/F13","v":4.241935483870968},78.899999999999991,{"$f":"H28/F13","v":1.2725806451612902},39.449999999999996,{"$f":"J28/F13","v":0.63629032258064511},11.834999999999999,{"$f":"L28/F13","v":0.19088709677419352},0.5257786195286196,0.21031144781144784]
[null,null,{"$f":"Т0!C30","v":"Електротехнички проект"},{"$f":"F29/F41","v":0.11994949494949494},null,150,{"$f":"F29/F13","v":2.4193548387096775},45,{"$f":"H29/F13","v":0.72580645161290325},22.5,{"$f":"J29/F13","v":0.36290322580645162},6.75,{"$f":"L29/F13","v":0.10887096774193548},0.2998737373737374,0.11994949494949494]
[null,null,{"$f":"Т0!C32","v":"Проект за водовод и канализација"},{"$f":"F30/F41","v":5.1978114478114477E-2},null,65,{"$f":"F30/F13","v":1.0483870967741935},19.5,{"$f":"H30/F13","v":0.31451612903225806},9.75,{"$f":"J30/F13","v":0.15725806451612903},2.9249999999999998,{"$f":"L30/F13","v":4.7177419354838705E-2},0.1299452861952862,5.1978114478114484E-2]
[null,null,{"$f":"Т0!C33","v":"Термотехнички проект"},{"$f":"F31/F41","v":8.7962962962962951E-2},null,110,{"$f":"F31/F13","v":1.7741935483870968},33,{"$f":"H31/F13","v":0.532258064516129},16.5,{"$f":"J31/F13","v":0.2661290322580645},4.95,{"$f":"L31/F13","v":7.9838709677419364E-2},0.21990740740740741,8.7962962962962965E-2]
[null,null,{"$f":"Т0!C44","v":"Проект за  партерно уредување и сообраќај"},{"$f":"F32/F41","v":2.3989898989898988E-2},null,30,{"$f":"F32/F13","v":0.4838709677419355},9,{"$f":"H32/F13","v":0.14516129032258066},4.5,{"$f":"J32/F13","v":7.2580645161290328E-2},1.3499999999999999,{"$f":"L32/F13","v":2.1774193548387093E-2},5.9974747474747472E-2,2.3989898989898988E-2]
[null,null,{"$f":"Т0!C38","v":"Елаборат за заштита од пожари"},{"$f":"F33/F41","v":1.5993265993265993E-2},null,20,{"$f":"F33/F13","v":0.32258064516129031},6,{"$f":"H33/F13","v":9.6774193548387094E-2},3,{"$f":"J33/F13","v":4.8387096774193547E-2},0.89999999999999991,{"$f":"L33/F13","v":1.4516129032258063E-2},3.9983164983164982E-2,1.5993265993265993E-2]
[null,null,{"$f":"Т0!C39","v":"Елаборат за заштита при работа"},{"$f":"F34/F41","v":1.1994949494949494E-2},null,15,{"$f":"F34/F13","v":0.24193548387096775},4.5,{"$f":"H34/F13","v":7.2580645161290328E-2},2.25,{"$f":"J34/F13","v":3.6290322580645164E-2},0.67499999999999993,{"$f":"L34/F13","v":1.0887096774193547E-2},2.9987373737373736E-2,1.1994949494949494E-2]
[null,null,{"$f":"Т0!C42","v":"Елаборат за енергетска ефикасност"},{"$f":"F35/F41","v":1.5993265993265993E-2},null,20,{"$f":"F35/F13","v":0.32258064516129031},6,{"$f":"H35/F13","v":9.6774193548387094E-2},{"$f":"F35*0.15","v":3},{"$f":"J35/F13","v":4.8387096774193547E-2},{"$f":"J35*0.3","v":0.89999999999999991},{"$f":"L35/F13","v":1.4516129032258063E-2},{"$f":"N$41*(F35/$F$41*100)","v":3.9983164983164982E-2},{"$f":"O$41*(F35/$F$41*100)","v":1.5993265993265993E-2}]
[null,null,{"$f":"Т0!C43","v":"Елаборат за заштита на животната средина"},{"$f":"F36/F41","v":1.1994949494949494E-2},null,15,{"$f":"F36/F13","v":0.24193548387096775},{"$f":"F36*0.3","v":4.5},{"$f":"H36/F13","v":7.2580645161290328E-2},2.25,{"$f":"J36/F13","v":3.6290322580645164E-2},0.67499999999999993,{"$f":"L36/F13","v":1.0887096774193547E-2},2.9987373737373736E-2,1.1994949494949494E-2]
[null,null,{"$f":"Т0!C37","v":"Сообраќаен проект"},{"$f":"F37/F41","v":1.5993265993265993E-2},null,20,{"$f":"F37/F13","v":0.32258064516129031},{"$f":"F37*0.3","v":6},{"$f":"H37/F13","v":9.6774193548387094E-2},{"$f":"F37*0.15","v":3},{"$f":"J37/F13","v":4.8387096774193547E-2},{"$f":"J37*0.3","v":0.89999999999999991},{"$f":"L37/F13","v":1.4516129032258063E-2},4.3380183931979871E-2,1.7352073572791948E-2]
[]
[null,null,{"$f":"Т0!C47","v":"Координација на проект"},{"$f":"F39/F41","v":5.0000000000000051E-2},null,{"$f":"SUM(F27:F37)/0.95-SUM(F27:F37)","v":62.526315789473756},{"$f":"F39/F13","v":1.0084889643463508},{"$f":"SUM(H27:H35)/0.95-SUM(H27:H35)","v":18.205263157894763},{"$f":"H39/F13","v":0.29363327674023809},{"$f":"F39*0.15","v":9.3789473684210627},{"$f":"J39/F13","v":0.15127334465195263},{"$f":"SUM(L27:L35)/0.95-SUM(L27:L35)","v":2.7307894736842115},{"$f":"L39/F13","v":4.4044991511035671E-2},{"$f":"N$41*(F39/$F$41*100)","v":0.12500000000000014},{"$f":"O$41*(F39/$F$41*100)","v":5.0000000000000051E-2}]
[]
[null,null,{"$f":"Т0!C49","v":"Вкупно:"},{"$f":"SUM(D27:D39)","v":1},null,{"$f":"SUM(F26:F40)","v":1250.5263157894738},{"$f":"F41/F13","v":20.169779286926996},{"$f":"SUM(H27:H39)","v":374.60526315789474},{"$f":"H41/F13","v":6.0420203735144309},{"$f":"SUM(J27:J39)","v":187.57894736842104},{"$f":"J41/F13","v":3.0254668930390491},{"$f":"SUM(L27:L39)","v":56.190789473684198},{"$f":"L41/F13","v":0.90630305602716443},2.5000000000000001E-2,0.01]

{"sheet":"Б4","index":12,"n_rows":41,"n_cols":15,"rows_kept":41,"cut":false,"hidden":true,"merged":[[4,2,4,14],[7,6,7,7],[10,9,10,12],[11,9,11,12],[2,3,2,14],[6,9,6,12],[6,13,6,14],[7,9,7,12],[8,9,8,12],[10,3,10,5],[10,6,10,7],[12,9,12,12],[8,3,8,5],[8,6,8,7],[9,3,9,5],[9,6,9,7],[9,9,9,12],[11,3,11,5],[11,6,11,7],[21,13,22,13],[16,9,16,12],[15,3,15,5],[15,6,15,7],[16,3,16,5],[16,6,16,7],[21,14,22,14],[22,7,22,8],[22,11,22,12],[12,6,12,7],[17,9,17,12],[19,5,20,8],[19,9,19,12],[19,13,20,14],[20,9,20,12],[17,3,17,5],[17,6,17,7],[15,9,15,12],[14,9,14,12],[14,3,14,5],[14,6,14,7],[13,9,13,12],[23,5,23,6],[23,7,23,8],[23,9,23,10],[23,11,23,12],[21,5,22,6],[21,7,21,8],[21,9,22,10],[21,11,21,12]]}
[]
[]
[null,null,{"$f":"' Помош - Каталог на намени'!D14","v":"Б4"},{"$f":"' Помош - Каталог на намени'!E14","v":"ДЕЛОВНИ И КОМЕРЦИЈАЛНИ ДЕЈНОСТИ ВО ГОЛЕМИ КАНЦЕЛАРИСКИ ЗГРАДИ"}]
[]
[null,null,{"$f":"' Помош - Каталог на намени'!F14","v":"Б4.1. - Деловни згради со канцеларии\nБ4.2. - Корпорациски згради и акционерски друштва\nБ4.3. - Управни згради и администрации со шалтерски сали\nБ4.4. - Згради за професионални сервиси, телекомуникации и осигурителни компании\nБ4.5. - Банки и други деловни згради за финансиски сервиси\nБ4.6. - Комплекси и згради за конференциски и деловни центри"}]
[]
[null,null,{"$f":"Т0!C8","v":"Површина на градба"},null,null,{"$f":"Калкулатор!D9","v":0},{"$f":"Т0!G8","v":"m²"},{"$f":"Т0!H8","v":"(варијабла)"},null,{"$f":"Т0!J8","v":"Вид на инженерска услуга"},null,null,null,{"$f":"Т0!N8","v":"Минимална вкупна цена"}]
[null,null,null,null,null,null,null,null,null,{"$f":"Т0!J9","v":"1. Изработка на проектна документација (1.1.+1.2)"},null,null,null,{"$f":"SUM(N9:N10)","v":0},{"$f":"SUM(O9:O10)","v":0}]
[null,null,{"$f":"Т0!C10","v":"Просечна цена на изведба за 1 m²"},{"$f":"G9*F13","v":50220},null,null,{"$f":"' Помош - Каталог на намени'!G14","v":810},null,null,{"$f":"Т0!J10","v":"1.1. Изработка на основен проект"},null,null,null,{"$f":"F7*F41","v":0},{"$f":"N9/F13","v":0}]
[null,null,null,null,null,null,null,null,null,{"$f":"Т0!J11","v":"1.2. Изработка на идеен проект"},null,null,null,{"$f":"F7*H41","v":0},{"$f":"N10/F13","v":0}]
[null,null,{"$f":"Т0!C12","v":"Вкупна инвестициона градежна  вредност"},{"$f":"F7*D9","v":0},null,null,{"$f":"D11/F13","v":0}]
[null,null,null,null,null,null,null,null,null,{"$f":"Т0!J13","v":"2. Ревизија на проектна документација (2.1.+2.2.)"},null,null,null,{"$f":"SUM(N13:N14)","v":0},{"$f":"SUM(O13:O14)","v":0}]
[null,null,{"$f":"Т0!C14","v":"Вредност на евро валута"},{"$f":"Т0!D14","v":1},{"$f":"Т0!E14","v":"="},{"$f":"Т0!F14","v":62},null,null,null,{"$f":"Т0!J14","v":"2.1. Ревизија на основен проект"},null,null,null,{"$f":"F7*J41","v":0},{"$f":"N13/F13","v":0}]
[null,null,null,null,null,null,null,null,null,{"$f":"Т0!J15","v":"2.2. Ревизија на идеен проект"},null,null,null,{"$f":"F7*L41","v":0},{"$f":"N14/F13","v":0}]
[null,null,{"$f":"Т0!C16","v":"Изработка на Основен проект"},{"$f":"Т0!D16:F16","v":"Ревизија на Основен проект"},null,null,{"$f":"Т0!G16:H16","v":"Надзор на изградба"}]
[null,null,{"$f":"G41/G9","v":2.4900962082625922E-2},{"$f":"K41/G9","v":3.7351443123938878E-3},null,null,{"$f":"N41","v":2.5000000000000001E-2},null,null,{"$f":"Т0!J17","v":"3. Надзор на градба (3.1.+3.2.)"},null,null,null,{"$f":"SUM(N17:N18)","v":0},{"$f":"SUM(O17:O18)","v":0}]
[null,null,{"$f":"Т0!C18","v":"Изработка на Идеен проект"},{"$f":"Т0!D18:F18","v":"Ревизија на Идеен проект"},null,null,{"$f":"Т0!G18:H18","v":"Проектантски надзор"},null,null,{"$f":"Т0!J18","v":"3.1. Надзор на градба"},null,null,null,{"$f":"F7*D9*N41","v":0},{"$f":"N17/F13","v":0}]
[null,null,{"$f":"I41/G9","v":7.459284411746211E-3},{"$f":"M41/G9","v":1.1188926617619313E-3},null,null,{"$f":"O41","v":0.01},null,null,{"$f":"Т0!J19","v":"3.2. Проектантски надзор"},null,null,null,{"$f":"F7*D9*O41","v":0},{"$f":"N18/F13","v":0}]
[]
[null,null,null,null,null,{"$f":"Т0!F21","v":"Изработка на проектна документација"},null,null,null,{"$f":"Т0!J21","v":"Ревизија на проектна документација"},null,null,null,{"$f":"Т0!N21","v":"Надзор на изградба"}]
[null,null,null,null,null,null,null,null,null,{"$f":"Т0!J22","v":"(15% од вредноста на Изработка на проектна документација)"}]
[null,null,null,null,null,{"$f":"Т0!F23","v":"Основен проект"},null,{"$f":"Т0!H23","v":"Идеен проект"},null,{"$f":"Т0!J23","v":"Основен проект"},null,{"$f":"Т0!L23","v":"Идеен проект"},null,{"$f":"Т0!N23","v":"Надзор на изградба"},{"$f":"Т0!O23","v":"Проектантски надзор"}]
[null,null,null,null,null,null,null,{"$f":"Т0!H24","v":"(30% од вредноста на основниот проект)"},null,null,null,{"$f":"Т0!L24","v":"(30% од вредноста на ревизија на основниот проект)"}]
[null,null,{"$f":"Т0!C25","v":"Вид на проект"},{"$f":"Т0!D25","v":"Удел"},null,{"$f":"Т0!F25","v":"Минимална цена"},null,{"$f":"Т0!H25","v":"Минимална цена"},null,{"$f":"Т0!J25","v":"Минимална цена"},null,{"$f":"Т0!L25","v":"Минимална цена"},null,{"$f":"Т0!N25","v":"Минимален процент од инвестиција"},{"$f":"Т0!O25","v":"Минимален процент од инвестиција"}]
[null,null,{"$f":"Т0!C26","v":"(според намената)"},{"$f":"Т0!D26","v":"[%]"},null,{"$f":"Т0!F26","v":"[денари/m²]"},{"$f":"Т0!G26","v":"[€/m²]"},{"$f":"Т0!H26","v":"[денари/m²]"},{"$f":"Т0!I26","v":"[€/m²]"},{"$f":"Т0!J26","v":"[денари/m²]"},{"$f":"Т0!K26","v":"[€/m²]"},{"$f":"Т0!L26","v":"[денари/m²]"},{"$f":"Т0!M26","v":"[€/m²]"},{"$f":"Т0!N26","v":"[%]"},"[%]"]
[]
[null,null,{"$f":"Т0!C28","v":"Архитектонски проект"},{"$f":"F27/F41","v":0.38383838383838381},null,480,{"$f":"F27/F13","v":7.741935483870968},{"$f":"F27*0.3","v":144},{"$f":"H27/F13","v":2.3225806451612905},{"$f":"F27*0.15","v":72},{"$f":"J27/F13","v":1.1612903225806452},{"$f":"J27*0.3","v":21.599999999999998},{"$f":"L27/F13","v":0.34838709677419349},{"$f":"N$41*(F27/$F$41*100)","v":0.95959595959595956},{"$f":"O$41*(F27/$F$41*100)","v":0.38383838383838381}]
[null,null,{"$f":"Т0!C29","v":"Градежно-конструктивен проект"},{"$f":"F28/F41","v":0.21031144781144781},null,263,{"$f":"F28/F13","v":4.241935483870968},78.899999999999991,{"$f":"H28/F13","v":1.2725806451612902},39.449999999999996,{"$f":"J28/F13","v":0.63629032258064511},11.834999999999999,{"$f":"L28/F13","v":0.19088709677419352},0.5257786195286196,0.21031144781144784]
[null,null,{"$f":"Т0!C30","v":"Електротехнички проект"},{"$f":"F29/F41","v":0.11994949494949494},null,150,{"$f":"F29/F13","v":2.4193548387096775},45,{"$f":"H29/F13","v":0.72580645161290325},22.5,{"$f":"J29/F13","v":0.36290322580645162},6.75,{"$f":"L29/F13","v":0.10887096774193548},0.2998737373737374,0.11994949494949494]
[null,null,{"$f":"Т0!C32","v":"Проект за водовод и канализација"},{"$f":"F30/F41","v":5.1978114478114477E-2},null,65,{"$f":"F30/F13","v":1.0483870967741935},19.5,{"$f":"H30/F13","v":0.31451612903225806},9.75,{"$f":"J30/F13","v":0.15725806451612903},2.9249999999999998,{"$f":"L30/F13","v":4.7177419354838705E-2},0.1299452861952862,5.1978114478114484E-2]
[null,null,{"$f":"Т0!C33","v":"Термотехнички проект"},{"$f":"F31/F41","v":8.7962962962962951E-2},null,110,{"$f":"F31/F13","v":1.7741935483870968},33,{"$f":"H31/F13","v":0.532258064516129},16.5,{"$f":"J31/F13","v":0.2661290322580645},4.95,{"$f":"L31/F13","v":7.9838709677419364E-2},0.21990740740740741,8.7962962962962965E-2]
[null,null,{"$f":"Т0!C44","v":"Проект за  партерно уредување и сообраќај"},{"$f":"F32/F41","v":2.3989898989898988E-2},null,30,{"$f":"F32/F13","v":0.4838709677419355},9,{"$f":"H32/F13","v":0.14516129032258066},4.5,{"$f":"J32/F13","v":7.2580645161290328E-2},1.3499999999999999,{"$f":"L32/F13","v":2.1774193548387093E-2},5.9974747474747472E-2,2.3989898989898988E-2]
[null,null,{"$f":"Т0!C38","v":"Елаборат за заштита од пожари"},{"$f":"F33/F41","v":1.5993265993265993E-2},null,20,{"$f":"F33/F13","v":0.32258064516129031},6,{"$f":"H33/F13","v":9.6774193548387094E-2},3,{"$f":"J33/F13","v":4.8387096774193547E-2},0.89999999999999991,{"$f":"L33/F13","v":1.4516129032258063E-2},3.9983164983164982E-2,1.5993265993265993E-2]
[null,null,{"$f":"Т0!C39","v":"Елаборат за заштита при работа"},{"$f":"F34/F41","v":1.1994949494949494E-2},null,15,{"$f":"F34/F13","v":0.24193548387096775},4.5,{"$f":"H34/F13","v":7.2580645161290328E-2},2.25,{"$f":"J34/F13","v":3.6290322580645164E-2},0.67499999999999993,{"$f":"L34/F13","v":1.0887096774193547E-2},2.9987373737373736E-2,1.1994949494949494E-2]
[null,null,{"$f":"Т0!C42","v":"Елаборат за енергетска ефикасност"},{"$f":"F35/F41","v":1.5993265993265993E-2},null,20,{"$f":"F35/F13","v":0.32258064516129031},6,{"$f":"H35/F13","v":9.6774193548387094E-2},{"$f":"F35*0.15","v":3},{"$f":"J35/F13","v":4.8387096774193547E-2},{"$f":"J35*0.3","v":0.89999999999999991},{"$f":"L35/F13","v":1.4516129032258063E-2},{"$f":"N$41*(F35/$F$41*100)","v":3.9983164983164982E-2},{"$f":"O$41*(F35/$F$41*100)","v":1.5993265993265993E-2}]
[null,null,{"$f":"Т0!C43","v":"Елаборат за заштита на животната средина"},{"$f":"F36/F41","v":1.1994949494949494E-2},null,15,{"$f":"F36/F13","v":0.24193548387096775},{"$f":"F36*0.3","v":4.5},{"$f":"H36/F13","v":7.2580645161290328E-2},2.25,{"$f":"J36/F13","v":3.6290322580645164E-2},0.67499999999999993,{"$f":"L36/F13","v":1.0887096774193547E-2},{"$f":"N$41*(F36/$F$41*100)","v":2.9987373737373736E-2},1.1994949494949494E-2]
[null,null,{"$f":"Т0!C37","v":"Сообраќаен проект"},{"$f":"F37/F41","v":1.5993265993265993E-2},null,20,{"$f":"F37/F13","v":0.32258064516129031},6,{"$f":"H37/F13","v":9.6774193548387094E-2},{"$f":"F37*0.15","v":3},{"$f":"J37/F13","v":4.8387096774193547E-2},{"$f":"J37*0.3","v":0.89999999999999991},{"$f":"L37/F13","v":1.4516129032258063E-2},{"$f":"N$41*(F37/$F$41*100)","v":3.9983164983164982E-2},{"$f":"O$41*(F37/$F$41*100)","v":1.5993265993265993E-2}]
[]
[null,null,{"$f":"Т0!C47","v":"Координација на проект"},{"$f":"F39/F41","v":5.0000000000000051E-2},null,{"$f":"SUM(F27:F37)/0.95-SUM(F27:F37)","v":62.526315789473756},{"$f":"F39/F13","v":1.0084889643463508},{"$f":"SUM(H27:H35)/0.95-SUM(H27:H35)","v":18.205263157894763},{"$f":"H39/F13","v":0.29363327674023809},{"$f":"F39*0.15","v":9.3789473684210627},{"$f":"J39/F13","v":0.15127334465195263},{"$f":"SUM(L27:L35)/0.95-SUM(L27:L35)","v":2.7307894736842115},{"$f":"L39/F13","v":4.4044991511035671E-2},{"$f":"N$41*(F39/$F$41*100)","v":0.12500000000000014},{"$f":"O$41*(F39/$F$41*100)","v":5.0000000000000051E-2}]
[]
[null,null,{"$f":"Т0!C49","v":"Вкупно:"},{"$f":"SUM(D27:D39)","v":1},null,{"$f":"SUM(F26:F40)","v":1250.5263157894738},{"$f":"F41/F13","v":20.169779286926996},{"$f":"SUM(H27:H39)","v":374.60526315789474},{"$f":"H41/F13","v":6.0420203735144309},{"$f":"SUM(J27:J39)","v":187.57894736842104},{"$f":"J41/F13","v":3.0254668930390491},{"$f":"SUM(L27:L39)","v":56.190789473684198},{"$f":"L41/F13","v":0.90630305602716443},2.5000000000000001E-2,0.01]

{"sheet":"Б5","index":13,"n_rows":42,"n_cols":15,"rows_kept":42,"cut":false,"hidden":true,"merged":[[4,2,4,14],[7,6,7,7],[10,9,10,12],[11,9,11,12],[2,3,2,14],[6,9,6,12],[6,13,6,14],[7,9,7,12],[8,9,8,12],[10,3,10,5],[10,6,10,7],[12,9,12,12],[8,3,8,5],[8,6,8,7],[9,3,9,5],[9,6,9,7],[9,9,9,12],[11,3,11,5],[11,6,11,7],[21,13,22,13],[16,9,16,12],[15,3,15,5],[15,6,15,7],[16,3,16,5],[16,6,16,7],[21,14,22,14],[22,7,22,8],[22,11,22,12],[12,6,12,7],[17,9,17,12],[19,5,20,8],[19,9,19,12],[19,13,20,14],[20,9,20,12],[17,3,17,5],[17,6,17,7],[15,9,15,12],[14,9,14,12],[14,3,14,5],[14,6,14,7],[13,9,13,12],[23,5,23,6],[23,7,23,8],[23,9,23,10],[23,11,23,12],[21,5,22,6],[21,7,21,8],[21,9,22,10],[21,11,21,12]]}
[]
[]
[null,null,{"$f":"' Помош - Каталог на намени'!D15","v":"Б5"},{"$f":"' Помош - Каталог на намени'!E15","v":"ХОТЕЛИ И ХОТЕЛСКИ КОМПЛЕКСИ"}]
[]
[null,null,{"$f":"' Помош - Каталог на намени'!F15","v":"Б5.1. - Хотелски комплекси\nБ5.2. - Хотели, градски хотели, станични хотели, аеродромски хотели\nБ5.3. - Хотели во состав на деловни, конференциски и трговски комплекси"}]
[]
[null,null,{"$f":"Т0!C8","v":"Површина на градба"},null,null,{"$f":"Калкулатор!D9","v":0},{"$f":"Т0!G8","v":"m²"},{"$f":"Т0!H8","v":"(варијабла)"},null,{"$f":"Т0!J8","v":"Вид на инженерска услуга"},null,null,null,{"$f":"Т0!N8","v":"Минимална вкупна цена"}]
[null,null,null,null,null,null,null,null,null,{"$f":"Т0!J9","v":"1. Изработка на проектна документација (1.1.+1.2)"},null,null,null,{"$f":"SUM(N9:N10)","v":0},{"$f":"SUM(O9:O10)","v":0}]
[null,null,{"$f":"Т0!C10","v":"Просечна цена на изведба за 1 m²"},{"$f":"G9*F13","v":50530},null,null,{"$f":"' Помош - Каталог на намени'!G15","v":815},null,null,{"$f":"Т0!J10","v":"1.1. Изработка на основен проект"},null,null,null,{"$f":"F7*F42","v":0},{"$f":"N9/F13","v":0}]
[null,null,null,null,null,null,null,null,null,{"$f":"Т0!J11","v":"1.2. Изработка на идеен проект"},null,null,null,{"$f":"F7*H42","v":0},{"$f":"N10/F13","v":0}]
[null,null,{"$f":"Т0!C12","v":"Вкупна инвестициона градежна  вредност"},{"$f":"F7*D9","v":0},null,null,{"$f":"D11/F13","v":0}]
[null,null,null,null,null,null,null,null,null,{"$f":"Т0!J13","v":"2. Ревизија на проектна документација (2.1.+2.2.)"},null,null,null,{"$f":"SUM(N13:N14)","v":0},{"$f":"SUM(O13:O14)","v":0}]
[null,null,{"$f":"Т0!C14","v":"Вредност на евро валута"},{"$f":"Т0!D14","v":1},{"$f":"Т0!E14","v":"="},{"$f":"Т0!F14","v":62},null,null,null,{"$f":"Т0!J14","v":"2.1. Ревизија на основен проект"},null,null,null,{"$f":"F7*J42","v":0},{"$f":"N13/F13","v":0}]
[null,null,null,null,null,null,null,null,null,{"$f":"Т0!J15","v":"2.2. Ревизија на идеен проект"},null,null,null,{"$f":"F7*L42","v":0},{"$f":"N14/F13","v":0}]
[null,null,{"$f":"Т0!C16","v":"Изработка на Основен проект"},{"$f":"Т0!D16:F16","v":"Ревизија на Основен проект"},null,null,{"$f":"Т0!G16:H16","v":"Надзор на изградба"}]
[null,null,{"$f":"G42/G9","v":2.5727290718385119E-2},{"$f":"K42/G9","v":3.8590936077577674E-3},null,null,{"$f":"N42","v":2.5000000000000001E-2},null,null,{"$f":"Т0!J17","v":"3. Надзор на градба (3.1.+3.2.)"},null,null,null,{"$f":"SUM(N17:N18)","v":0},{"$f":"SUM(O17:O18)","v":0}]
[null,null,{"$f":"Т0!C18","v":"Изработка на Идеен проект"},{"$f":"Т0!D18:F18","v":"Ревизија на Идеен проект"},null,null,{"$f":"Т0!G18:H18","v":"Проектантски надзор"},null,null,{"$f":"Т0!J18","v":"3.1. Надзор на градба"},null,null,null,{"$f":"F7*D9*N42","v":0},{"$f":"N17/F13","v":0}]
[null,null,{"$f":"I42/G9","v":7.7072505129834289E-3},{"$f":"M42/G9","v":1.1560875769475142E-3},null,null,{"$f":"O42","v":0.01},null,null,{"$f":"Т0!J19","v":"3.2. Проектантски надзор"},null,null,null,{"$f":"F7*D9*O42","v":0},{"$f":"N18/F13","v":0}]
[]
[null,null,null,null,null,{"$f":"Т0!F21","v":"Изработка на проектна документација"},null,null,null,{"$f":"Т0!J21","v":"Ревизија на проектна документација"},null,null,null,{"$f":"Т0!N21","v":"Надзор на изградба"}]
[null,null,null,null,null,null,null,null,null,{"$f":"Т0!J22","v":"(15% од вредноста на Изработка на проектна документација)"}]
[null,null,null,null,null,{"$f":"Т0!F23","v":"Основен проект"},null,{"$f":"Т0!H23","v":"Идеен проект"},null,{"$f":"Т0!J23","v":"Основен проект"},null,{"$f":"Т0!L23","v":"Идеен проект"},null,{"$f":"Т0!N23","v":"Надзор на изградба"},{"$f":"Т0!O23","v":"Проектантски надзор"}]
[null,null,null,null,null,null,null,{"$f":"Т0!H24","v":"(30% од вредноста на основниот проект)"},null,null,null,{"$f":"Т0!L24","v":"(30% од вредноста на ревизија на основниот проект)"}]
[null,null,{"$f":"Т0!C25","v":"Вид на проект"},{"$f":"Т0!D25","v":"Удел"},null,{"$f":"Т0!F25","v":"Минимална цена"},null,{"$f":"Т0!H25","v":"Минимална цена"},null,{"$f":"Т0!J25","v":"Минимална цена"},null,{"$f":"Т0!L25","v":"Минимална цена"},null,{"$f":"Т0!N25","v":"Минимален процент од инвестиција"},{"$f":"Т0!O25","v":"Минимален процент од инвестиција"}]
[null,null,{"$f":"Т0!C26","v":"(според намената)"},{"$f":"Т0!D26","v":"[%]"},null,{"$f":"Т0!F26","v":"[денари/m²]"},{"$f":"Т0!G26","v":"[€/m²]"},{"$f":"Т0!H26","v":"[денари/m²]"},{"$f":"Т0!I26","v":"[€/m²]"},{"$f":"Т0!J26","v":"[денари/m²]"},{"$f":"Т0!K26","v":"[€/m²]"},{"$f":"Т0!L26","v":"[денари/m²]"},{"$f":"Т0!M26","v":"[€/m²]"},{"$f":"Т0!N26","v":"[%]"},"[%]"]
[]
[null,null,{"$f":"Т0!C28","v":"Архитектонски проект"},{"$f":"F27/F42","v":0.34615384615384615},null,450,{"$f":"F27/F13","v":7.258064516129032},{"$f":"F27*0.3","v":135},{"$f":"H27/F13","v":2.1774193548387095},{"$f":"F27*0.15","v":67.5},{"$f":"J27/F13","v":1.0887096774193548},{"$f":"J27*0.3","v":20.25},{"$f":"L27/F13","v":0.32661290322580644},{"$f":"N$42*(F27/$F$42*100)","v":0.86538461538461542},{"$f":"O$42*(F27/$F$42*100)","v":0.34615384615384615}]
[null,null,{"$f":"Т0!C29","v":"Градежно-конструктивен проект"},{"$f":"F28/F42","v":0.19230769230769232},null,250,{"$f":"F28/F13","v":4.032258064516129},75,{"$f":"H28/F13","v":1.2096774193548387},37.5,{"$f":"J28/F13","v":0.60483870967741937},11.25,{"$f":"L28/F13","v":0.18145161290322581},0.48076923076923084,0.19230769230769235]
[null,null,{"$f":"Т0!C30","v":"Електротехнички проект"},{"$f":"F29/F42","v":0.13846153846153847},null,180,{"$f":"F29/F13","v":2.903225806451613},54,{"$f":"H29/F13","v":0.87096774193548387},27,{"$f":"J29/F13","v":0.43548387096774194},8.1,{"$f":"L29/F13","v":0.13064516129032258},0.3461538461538462,0.13846153846153847]
[null,null,{"$f":"Т0!C32","v":"Проект за водовод и канализација"},{"$f":"F30/F42","v":6.1538461538461542E-2},null,80,{"$f":"F30/F13","v":1.2903225806451613},24,{"$f":"H30/F13","v":0.38709677419354838},12,{"$f":"J30/F13","v":0.19354838709677419},3.5999999999999996,{"$f":"L30/F13","v":5.8064516129032254E-2},0.15384615384615385,6.1538461538461542E-2]
[null,null,{"$f":"Т0!C33","v":"Термотехнички проект"},{"$f":"F31/F42","v":9.2307692307692313E-2},null,120,{"$f":"F31/F13","v":1.935483870967742},36,{"$f":"H31/F13","v":0.58064516129032262},18,{"$f":"J31/F13","v":0.29032258064516131},5.3999999999999995,{"$f":"L31/F13","v":8.7096774193548374E-2},0.23076923076923081,9.2307692307692313E-2]
[null,null,{"$f":"Т0!C36","v":"Технолошки проект"},{"$f":"F32/F42","v":2.3076923076923078E-2},null,30,{"$f":"F32/F13","v":0.4838709677419355},9,{"$f":"H32/F13","v":0.14516129032258066},4.5,{"$f":"J32/F13","v":7.2580645161290328E-2},1.3499999999999999,{"$f":"L32/F13","v":2.1774193548387093E-2},5.7692307692307702E-2,2.3076923076923078E-2]
[null,null,{"$f":"Т0!C44","v":"Проект за  партерно уредување и сообраќај"},{"$f":"F33/F42","v":2.6923076923076925E-2},null,35,{"$f":"F33/F13","v":0.56451612903225812},10.5,{"$f":"H33/F13","v":0.16935483870967741},5.25,{"$f":"J33/F13","v":8.4677419354838704E-2},1.575,{"$f":"L33/F13","v":2.5403225806451612E-2},6.7307692307692318E-2,2.6923076923076925E-2]
[null,null,{"$f":"Т0!C38","v":"Елаборат за заштита од пожари"},{"$f":"F34/F42","v":1.5384615384615385E-2},null,20,{"$f":"F34/F13","v":0.32258064516129031},6,{"$f":"H34/F13","v":9.6774193548387094E-2},3,{"$f":"J34/F13","v":4.8387096774193547E-2},0.89999999999999991,{"$f":"L34/F13","v":1.4516129032258063E-2},3.8461538461538464E-2,1.5384615384615385E-2]
[null,null,{"$f":"Т0!C39","v":"Елаборат за заштита при работа"},{"$f":"F35/F42","v":1.1538461538461539E-2},null,15,{"$f":"F35/F13","v":0.24193548387096775},4.5,{"$f":"H35/F13","v":7.2580645161290328E-2},2.25,{"$f":"J35/F13","v":3.6290322580645164E-2},0.67499999999999993,{"$f":"L35/F13","v":1.0887096774193547E-2},2.8846153846153851E-2,1.1538461538461539E-2]
[null,null,{"$f":"Т0!C42","v":"Елаборат за енергетска ефикасност"},{"$f":"F36/F42","v":1.5384615384615385E-2},null,20,{"$f":"F36/F13","v":0.32258064516129031},6,{"$f":"H36/F13","v":9.6774193548387094E-2},{"$f":"F36*0.15","v":3},{"$f":"J36/F13","v":4.8387096774193547E-2},{"$f":"J36*0.3","v":0.89999999999999991},{"$f":"L36/F13","v":1.4516129032258063E-2},{"$f":"N$42*(F36/$F$42*100)","v":3.8461538461538464E-2},{"$f":"O$42*(F36/$F$42*100)","v":1.5384615384615385E-2}]
[null,null,{"$f":"Т0!C43","v":"Елаборат за заштита на животната средина"},{"$f":"F37/F42","v":1.1538461538461539E-2},null,15,{"$f":"F37/F13","v":0.24193548387096775},{"$f":"F37*0.3","v":4.5},{"$f":"H37/F13","v":7.2580645161290328E-2},2.25,{"$f":"J37/F13","v":3.6290322580645164E-2},0.67499999999999993,{"$f":"L37/F13","v":1.0887096774193547E-2},2.8846153846153851E-2,1.1538461538461539E-2]
[null,null,{"$f":"Т0!C37","v":"Сообраќаен проект"},{"$f":"F38/F42","v":1.5384615384615385E-2},null,20,{"$f":"F38/F13","v":0.32258064516129031},{"$f":"F38*0.3","v":6},{"$f":"H38/F13","v":9.6774193548387094E-2},{"$f":"F38*0.15","v":3},{"$f":"J38/F13","v":4.8387096774193547E-2},{"$f":"J38*0.3","v":0.89999999999999991},{"$f":"L38/F13","v":1.4516129032258063E-2},{"$f":"N$42*(F38/$F$42*100)","v":3.8461538461538464E-2},{"$f":"O$42*(F38/$F$42*100)","v":1.5384615384615385E-2}]
[]
[null,null,{"$f":"Т0!C47","v":"Координација на проект"},{"$f":"F40/F42","v":0.05},null,{"$f":"SUM(F27:F38)/0.95-SUM(F27:F38)","v":65},{"$f":"F40/F13","v":1.0483870967741935},{"$f":"SUM(H27:H36)/0.95-SUM(H27:H36)","v":18.947368421052659},{"$f":"H40/F13","v":0.30560271646859127},{"$f":"F40*0.15","v":9.75},{"$f":"J40/F13","v":0.15725806451612903},{"$f":"SUM(L27:L36)/0.95-SUM(L27:L36)","v":2.8421052631578974},{"$f":"L40/F13","v":4.5840407470288669E-2},{"$f":"N$42*(F40/$F$42*100)","v":0.125},{"$f":"O$42*(F40/$F$42*100)","v":0.05}]
[]
[null,null,{"$f":"Т0!C49","v":"Вкупно:"},{"$f":"SUM(D27:D40)","v":1},null,{"$f":"SUM(F26:F41)","v":1300},{"$f":"F42/F13","v":20.967741935483872},{"$f":"SUM(H27:H40)","v":389.44736842105266},{"$f":"H42/F13","v":6.2814091680814945},{"$f":"SUM(J27:J40)","v":195},{"$f":"J42/F13","v":3.1451612903225805},{"$f":"SUM(L27:L40)","v":58.417105263157893},{"$f":"L42/F13","v":0.94221137521222409},2.5000000000000001E-2,0.01]

{"sheet":"Б6","index":14,"n_rows":42,"n_cols":15,"rows_kept":42,"cut":false,"hidden":true,"merged":[[4,2,4,14],[7,6,7,7],[10,9,10,12],[11,9,11,12],[2,3,2,14],[6,9,6,12],[6,13,6,14],[7,9,7,12],[8,9,8,12],[10,3,10,5],[10,6,10,7],[12,9,12,12],[8,3,8,5],[8,6,8,7],[9,3,9,5],[9,6,9,7],[9,9,9,12],[11,3,11,5],[11,6,11,7],[21,13,22,13],[16,9,16,12],[15,3,15,5],[15,6,15,7],[16,3,16,5],[16,6,16,7],[21,14,22,14],[22,7,22,8],[22,11,22,12],[12,6,12,7],[17,9,17,12],[19,5,20,8],[19,9,19,12],[19,13,20,14],[20,9,20,12],[17,3,17,5],[17,6,17,7],[15,9,15,12],[14,9,14,12],[14,3,14,5],[14,6,14,7],[13,9,13,12],[23,5,23,6],[23,7,23,8],[23,9,23,10],[23,11,23,12],[21,5,22,6],[21,7,21,8],[21,9,22,10],[21,11,21,12]]}
[]
[]
[null,null,{"$f":"' Помош - Каталог на намени'!D16","v":"Б6"},{"$f":"' Помош - Каталог на намени'!E16","v":"ПРОСТОРИ ЗА СОБИРИ И ПУБЛИКА"}]
[]
[null,null,{"$f":"' Помош - Каталог на намени'!F16","v":"Б6.1. - Стадиони и арени за фудбал, атлетика и манифестации\nБ6.2. - Спортски сали за атлетски дисциплини, кошарка, ракомет, тенис, покриени базени, отворени базени со трибини и други спортови\nБ6.3. - Повеќенаменски сали за спортови, собири и манифестации\nБ6.4. - Саемски сали\nБ6.5. - Конгресни и конференциски сали"}]
[]
[null,null,{"$f":"Т0!C8","v":"Површина на градба"},null,null,{"$f":"Калкулатор!D9","v":0},{"$f":"Т0!G8","v":"m²"},{"$f":"Т0!H8","v":"(варијабла)"},null,{"$f":"Т0!J8","v":"Вид на инженерска услуга"},null,null,null,{"$f":"Т0!N8","v":"Минимална вкупна цена"}]
[null,null,null,null,null,null,null,null,null,{"$f":"Т0!J9","v":"1. Изработка на проектна документација (1.1.+1.2)"},null,null,null,{"$f":"SUM(N9:N10)","v":0},{"$f":"SUM(O9:O10)","v":0}]
[null,null,{"$f":"Т0!C10","v":"Просечна цена на изведба за 1 m²"},{"$f":"G9*F13","v":57970},null,null,{"$f":"' Помош - Каталог на намени'!G16","v":935},null,null,{"$f":"Т0!J10","v":"1.1. Изработка на основен проект"},null,null,null,{"$f":"F7*F42","v":0},{"$f":"N9/F13","v":0}]
[null,null,null,null,null,null,null,null,null,{"$f":"Т0!J11","v":"1.2. Изработка на идеен проект"},null,null,null,{"$f":"F7*H42","v":0},{"$f":"N10/F13","v":0}]
[null,null,{"$f":"Т0!C12","v":"Вкупна инвестициона градежна  вредност"},{"$f":"F7*D9","v":0},null,null,{"$f":"D11/F13","v":0}]
[null,null,null,null,null,null,null,null,null,{"$f":"Т0!J13","v":"2. Ревизија на проектна документација (2.1.+2.2.)"},null,null,null,{"$f":"SUM(N13:N14)","v":0},{"$f":"SUM(O13:O14)","v":0}]
[null,null,{"$f":"Т0!C14","v":"Вредност на евро валута"},{"$f":"Т0!D14","v":1},{"$f":"Т0!E14","v":"="},{"$f":"Т0!F14","v":62},null,null,null,{"$f":"Т0!J14","v":"2.1. Ревизија на основен проект"},null,null,null,{"$f":"F7*J42","v":0},{"$f":"N13/F13","v":0}]
[null,null,null,null,null,null,null,null,null,{"$f":"Т0!J15","v":"2.2. Ревизија на идеен проект"},null,null,null,{"$f":"F7*L42","v":0},{"$f":"N14/F13","v":0}]
[null,null,{"$f":"Т0!C16","v":"Изработка на Основен проект"},{"$f":"Т0!D16:F16","v":"Ревизија на Основен проект"},null,null,{"$f":"Т0!G16:H16","v":"Надзор на изградба"}]
[null,null,{"$f":"G42/G9","v":2.5003858620157433E-2},{"$f":"K42/G9","v":3.7505787930236152E-3},null,null,{"$f":"N42","v":2.5000000000000001E-2},null,null,{"$f":"Т0!J17","v":"3. Надзор на градба (3.1.+3.2.)"},null,null,null,{"$f":"SUM(N17:N18)","v":0},{"$f":"SUM(O17:O18)","v":0}]
[null,null,{"$f":"Т0!C18","v":"Изработка на Идеен проект"},{"$f":"Т0!D18:F18","v":"Ревизија на Идеен проект"},null,null,{"$f":"Т0!G18:H18","v":"Проектантски надзор"},null,null,{"$f":"Т0!J18","v":"3.1. Надзор на градба"},null,null,null,{"$f":"F7*D9*N42","v":0},{"$f":"N17/F13","v":0}]
[null,null,{"$f":"I42/G9","v":7.490262658543894E-3},{"$f":"M42/G9","v":1.1235393987815839E-3},null,null,{"$f":"O42","v":0.01},null,null,{"$f":"Т0!J19","v":"3.2. Проектантски надзор"},null,null,null,{"$f":"F7*D9*O42","v":0},{"$f":"N18/F13","v":0}]
[]
[null,null,null,null,null,{"$f":"Т0!F21","v":"Изработка на проектна документација"},null,null,null,{"$f":"Т0!J21","v":"Ревизија на проектна документација"},null,null,null,{"$f":"Т0!N21","v":"Надзор на изградба"}]
[null,null,null,null,null,null,null,null,null,{"$f":"Т0!J22","v":"(15% од вредноста на Изработка на проектна документација)"}]
[null,null,null,null,null,{"$f":"Т0!F23","v":"Основен проект"},null,{"$f":"Т0!H23","v":"Идеен проект"},null,{"$f":"Т0!J23","v":"Основен проект"},null,{"$f":"Т0!L23","v":"Идеен проект"},null,{"$f":"Т0!N23","v":"Надзор на изградба"},{"$f":"Т0!O23","v":"Проектантски надзор"}]
[null,null,null,null,null,null,null,{"$f":"Т0!H24","v":"(30% од вредноста на основниот проект)"},null,null,null,{"$f":"Т0!L24","v":"(30% од вредноста на ревизија на основниот проект)"}]
[null,null,{"$f":"Т0!C25","v":"Вид на проект"},{"$f":"Т0!D25","v":"Удел"},null,{"$f":"Т0!F25","v":"Минимална цена"},null,{"$f":"Т0!H25","v":"Минимална цена"},null,{"$f":"Т0!J25","v":"Минимална цена"},null,{"$f":"Т0!L25","v":"Минимална цена"},null,{"$f":"Т0!N25","v":"Минимален процент од инвестиција"},{"$f":"Т0!O25","v":"Минимален процент од инвестиција"}]
[null,null,{"$f":"Т0!C26","v":"(според намената)"},{"$f":"Т0!D26","v":"[%]"},null,{"$f":"Т0!F26","v":"[денари/m²]"},{"$f":"Т0!G26","v":"[€/m²]"},{"$f":"Т0!H26","v":"[денари/m²]"},{"$f":"Т0!I26","v":"[€/m²]"},{"$f":"Т0!J26","v":"[денари/m²]"},{"$f":"Т0!K26","v":"[€/m²]"},{"$f":"Т0!L26","v":"[денари/m²]"},{"$f":"Т0!M26","v":"[€/m²]"},{"$f":"Т0!N26","v":"[%]"},"[%]"]
[]
[null,null,{"$f":"Т0!C28","v":"Архитектонски проект"},{"$f":"F27/F42","v":0.3553013798111837},null,515,{"$f":"F27/F13","v":8.306451612903226},{"$f":"F27*0.3","v":154.5},{"$f":"H27/F13","v":2.4919354838709675},{"$f":"F27*0.15","v":77.25},{"$f":"J27/F13","v":1.2459677419354838},{"$f":"J27*0.3","v":23.175000000000001},{"$f":"L27/F13","v":0.37379032258064515},{"$f":"N$42*(F27/$F$42*100)","v":0.88825344952795937},{"$f":"O$42*(F27/$F$42*100)","v":0.3553013798111837}]
[null,null,{"$f":"Т0!C29","v":"Градежно-конструктивен проект"},{"$f":"F28/F42","v":0.23939724037763252},null,347,{"$f":"F28/F13","v":5.596774193548387},104.1,{"$f":"H28/F13","v":1.6790322580645161},52.05,{"$f":"J28/F13","v":0.83951612903225803},15.614999999999998,{"$f":"L28/F13","v":0.2518548387096774},0.59849310094408137,0.23939724037763252]
[null,null,{"$f":"Т0!C30","v":"Електротехнички проект"},{"$f":"F29/F42","v":0.10348583877995642},null,150,{"$f":"F29/F13","v":2.4193548387096775},45,{"$f":"H29/F13","v":0.72580645161290325},22.5,{"$f":"J29/F13","v":0.36290322580645162},6.75,{"$f":"L29/F13","v":0.10887096774193548},0.25871459694989107,0.10348583877995643]
[null,null,{"$f":"Т0!C32","v":"Проект за водовод и канализација"},{"$f":"F30/F42","v":5.5192447349310086E-2},null,80,{"$f":"F30/F13","v":1.2903225806451613},24,{"$f":"H30/F13","v":0.38709677419354838},12,{"$f":"J30/F13","v":0.19354838709677419},3.5999999999999996,{"$f":"L30/F13","v":5.8064516129032254E-2},0.13798111837327523,5.5192447349310093E-2]
[null,null,{"$f":"Т0!C33","v":"Термотехнички проект"},{"$f":"F31/F42","v":7.5889615105301372E-2},null,110,{"$f":"F31/F13","v":1.7741935483870968},33,{"$f":"H31/F13","v":0.532258064516129},16.5,{"$f":"J31/F13","v":0.2661290322580645},4.95,{"$f":"L31/F13","v":7.9838709677419364E-2},0.18972403776325344,7.5889615105301372E-2]
[null,null,{"$f":"Т0!C36","v":"Технолошки проект"},{"$f":"F32/F42","v":2.0697167755991282E-2},null,30,{"$f":"F32/F13","v":0.4838709677419355},9,{"$f":"H32/F13","v":0.14516129032258066},4.5,{"$f":"J32/F13","v":7.2580645161290328E-2},1.3499999999999999,{"$f":"L32/F13","v":2.1774193548387093E-2},5.1742919389978208E-2,2.0697167755991282E-2]
[null,null,{"$f":"Т0!C44","v":"Проект за  партерно уредување и сообраќај"},{"$f":"F33/F42","v":2.4146695715323165E-2},null,35,{"$f":"F33/F13","v":0.56451612903225812},10.5,{"$f":"H33/F13","v":0.16935483870967741},5.25,{"$f":"J33/F13","v":8.4677419354838704E-2},1.575,{"$f":"L33/F13","v":2.5403225806451612E-2},6.0366739288307915E-2,2.4146695715323165E-2]
[null,null,{"$f":"Т0!C38","v":"Елаборат за заштита од пожари"},{"$f":"F34/F42","v":2.0697167755991282E-2},null,30,{"$f":"F34/F13","v":0.4838709677419355},9,{"$f":"H34/F13","v":0.14516129032258066},4.5,{"$f":"J34/F13","v":7.2580645161290328E-2},1.3499999999999999,{"$f":"L34/F13","v":2.1774193548387093E-2},5.1742919389978208E-2,2.0697167755991282E-2]
[null,null,{"$f":"Т0!C39","v":"Елаборат за заштита при работа"},{"$f":"F35/F42","v":1.3798111837327522E-2},null,20,{"$f":"F35/F13","v":0.32258064516129031},6,{"$f":"H35/F13","v":9.6774193548387094E-2},3,{"$f":"J35/F13","v":4.8387096774193547E-2},0.89999999999999991,{"$f":"L35/F13","v":1.4516129032258063E-2},3.4495279593318807E-2,1.3798111837327523E-2]
[null,null,{"$f":"Т0!C42","v":"Елаборат за енергетска ефикасност"},{"$f":"F36/F42","v":1.3798111837327522E-2},null,20,{"$f":"F36/F13","v":0.32258064516129031},6,{"$f":"H36/F13","v":9.6774193548387094E-2},{"$f":"F36*0.15","v":3},{"$f":"J36/F13","v":4.8387096774193547E-2},{"$f":"J36*0.3","v":0.89999999999999991},{"$f":"L36/F13","v":1.4516129032258063E-2},{"$f":"N$42*(F36/$F$42*100)","v":3.4495279593318807E-2},{"$f":"O$42*(F36/$F$42*100)","v":1.3798111837327523E-2}]
[null,null,{"$f":"Т0!C43","v":"Елаборат за заштита на животната средина"},{"$f":"F37/F42","v":1.3798111837327522E-2},null,20,{"$f":"F37/F13","v":0.32258064516129031},{"$f":"F37*0.3","v":6},{"$f":"H37/F13","v":9.6774193548387094E-2},3,{"$f":"J37/F13","v":4.8387096774193547E-2},0.89999999999999991,{"$f":"L37/F13","v":1.4516129032258063E-2},3.4495279593318807E-2,1.3798111837327523E-2]
[null,null,{"$f":"Т0!C37","v":"Сообраќаен проект"},{"$f":"F38/F42","v":1.3798111837327522E-2},null,20,{"$f":"F38/F13","v":0.32258064516129031},{"$f":"F38*0.3","v":6},{"$f":"H38/F13","v":9.6774193548387094E-2},{"$f":"F38*0.15","v":3},{"$f":"J38/F13","v":4.8387096774193547E-2},{"$f":"J38*0.3","v":0.89999999999999991},{"$f":"L38/F13","v":1.4516129032258063E-2},3.4901577551305324E-2,1.396063102052213E-2]
[]
[null,null,{"$f":"Т0!C47","v":"Координација на проект"},{"$f":"F40/F42","v":5.00000000000001E-2},null,{"$f":"SUM(F27:F38)/0.95-SUM(F27:F38)","v":72.473684210526471},{"$f":"F40/F13","v":1.1689303904923625},{"$f":"SUM(H27:H36)/0.95-SUM(H27:H36)","v":21.110526315789514},{"$f":"H40/F13","v":0.34049235993208893},{"$f":"F40*0.15","v":10.871052631578971},{"$f":"J40/F13","v":0.17533955857385436},{"$f":"SUM(L27:L36)/0.95-SUM(L27:L36)","v":3.1665789473684214},{"$f":"L40/F13","v":5.1073853989813248E-2},{"$f":"N$42*(F40/$F$42*100)","v":0.12500000000000025},{"$f":"O$42*(F40/$F$42*100)","v":5.00000000000001E-2}]
[]
[null,null,{"$f":"Т0!C49","v":"Вкупно:"},{"$f":"SUM(D27:D40)","v":0.99999999999999978},null,{"$f":"SUM(F26:F41)","v":1449.4736842105265},{"$f":"F42/F13","v":23.3786078098472},{"$f":"SUM(H27:H40)","v":434.21052631578954},{"$f":"H42/F13","v":7.0033955857385406},{"$f":"SUM(J27:J40)","v":217.42105263157899},{"$f":"J42/F13","v":3.5067911714770803},{"$f":"SUM(L27:L40)","v":65.131578947368425},{"$f":"L42/F13","v":1.050509337860781},2.5000000000000001E-2,0.01]

{"sheet":"В1-I","index":15,"n_rows":41,"n_cols":15,"rows_kept":41,"cut":false,"hidden":true,"merged":[[4,2,4,14],[7,6,7,7],[10,9,10,12],[11,9,11,12],[2,3,2,14],[6,9,6,12],[6,13,6,14],[7,9,7,12],[8,9,8,12],[10,3,10,5],[10,6,10,7],[12,9,12,12],[8,3,8,5],[8,6,8,7],[9,3,9,5],[9,6,9,7],[9,9,9,12],[11,3,11,5],[11,6,11,7],[21,13,22,13],[16,9,16,12],[15,3,15,5],[15,6,15,7],[16,3,16,5],[16,6,16,7],[21,14,22,14],[22,7,22,8],[22,11,22,12],[12,6,12,7],[17,9,17,12],[19,5,20,8],[19,9,19,12],[19,13,20,14],[20,9,20,12],[17,3,17,5],[17,6,17,7],[15,9,15,12],[14,9,14,12],[14,3,14,5],[14,6,14,7],[13,9,13,12],[23,5,23,6],[23,7,23,8],[23,9,23,10],[23,11,23,12],[21,5,22,6],[21,7,21,8],[21,9,22,10],[21,11,21,12]]}
[]
[]
[null,null,{"$f":"' Помош - Каталог на намени'!D18","v":"В1-I"},{"$f":"' Помош - Каталог на намени'!E18","v":"ОБРАЗОВАНИЕ И НАУКА\n(I ГРУПА)"}]
[]
[null,null,{"$f":"' Помош - Каталог на намени'!F18","v":"В1.1. - Основно образование: основни училишта, училишта за ученици со посебни образовни потреби\nВ1.2. - Средно образование: средни училишта, гимназии, технички, индустриски и други стручни училишта"}]
[]
[null,null,{"$f":"Т0!C8","v":"Површина на градба"},null,null,{"$f":"Калкулатор!D9","v":0},{"$f":"Т0!G8","v":"m²"},{"$f":"Т0!H8","v":"(варијабла)"},null,{"$f":"Т0!J8","v":"Вид на инженерска услуга"},null,null,null,{"$f":"Т0!N8","v":"Минимална вкупна цена"}]
[null,null,null,null,null,null,null,null,null,{"$f":"Т0!J9","v":"1. Изработка на проектна документација (1.1.+1.2)"},null,null,null,{"$f":"SUM(N9:N10)","v":0},{"$f":"SUM(O9:O10)","v":0}]
[null,null,{"$f":"Т0!C10","v":"Просечна цена на изведба за 1 m²"},{"$f":"G9*F13","v":50220},null,null,{"$f":"' Помош - Каталог на намени'!G18","v":810},null,null,{"$f":"Т0!J10","v":"1.1. Изработка на основен проект"},null,null,null,{"$f":"F7*F41","v":0},{"$f":"N9/F13","v":0}]
[null,null,null,null,null,null,null,null,null,{"$f":"Т0!J11","v":"1.2. Изработка на идеен проект"},null,null,null,{"$f":"F7*H41","v":0},{"$f":"N10/F13","v":0}]
[null,null,{"$f":"Т0!C12","v":"Вкупна инвестициона градежна  вредност"},{"$f":"F7*D9","v":0},null,null,{"$f":"D11/F13","v":0}]
[null,null,null,null,null,null,null,null,null,{"$f":"Т0!J13","v":"2. Ревизија на проектна документација (2.1.+2.2.)"},null,null,null,{"$f":"SUM(N13:N14)","v":0},{"$f":"SUM(O13:O14)","v":0}]
[null,null,{"$f":"Т0!C14","v":"Вредност на евро валута"},{"$f":"Т0!D14","v":1},{"$f":"Т0!E14","v":"="},{"$f":"Т0!F14","v":62},null,null,null,{"$f":"Т0!J14","v":"2.1. Ревизија на основен проект"},null,null,null,{"$f":"F7*J41","v":0},{"$f":"N13/F13","v":0}]
[null,null,null,null,null,null,null,null,null,{"$f":"Т0!J15","v":"2.2. Ревизија на идеен проект"},null,null,null,{"$f":"F7*L41","v":0},{"$f":"N14/F13","v":0}]
[null,null,{"$f":"Т0!C16","v":"Изработка на Основен проект"},{"$f":"Т0!D16:F16","v":"Ревизија на Основен проект"},null,null,{"$f":"Т0!G16:H16","v":"Надзор на изградба"}]
[null,null,{"$f":"G41/G9","v":2.3538535706051269E-2},{"$f":"K41/G9","v":3.5307803559076908E-3},null,null,{"$f":"N41","v":2.5000000000000001E-2},null,null,{"$f":"Т0!J17","v":"3. Надзор на градба (3.1.+3.2.)"},null,null,null,{"$f":"SUM(N17:N18)","v":0},{"$f":"SUM(O17:O18)","v":0}]
[null,null,{"$f":"Т0!C18","v":"Изработка на Идеен проект"},{"$f":"Т0!D18:F18","v":"Ревизија на Идеен проект"},null,null,{"$f":"Т0!G18:H18","v":"Проектантски надзор"},null,null,{"$f":"Т0!J18","v":"3.1. Надзор на градба"},null,null,null,{"$f":"F7*D9*N41","v":0},{"$f":"N17/F13","v":0}]
[null,null,{"$f":"I41/G9","v":7.050556498773816E-3},{"$f":"M41/G9","v":1.0575834748160723E-3},null,null,{"$f":"O41","v":0.01},null,null,{"$f":"Т0!J19","v":"3.2. Проектантски надзор"},null,null,null,{"$f":"F7*D9*O41","v":0},{"$f":"N18/F13","v":0}]
[]
[null,null,null,null,null,{"$f":"Т0!F21","v":"Изработка на проектна документација"},null,null,null,{"$f":"Т0!J21","v":"Ревизија на проектна документација"},null,null,null,{"$f":"Т0!N21","v":"Надзор на изградба"}]
[null,null,null,null,null,null,null,null,null,{"$f":"Т0!J22","v":"(15% од вредноста на Изработка на проектна документација)"}]
[null,null,null,null,null,{"$f":"Т0!F23","v":"Основен проект"},null,{"$f":"Т0!H23","v":"Идеен проект"},null,{"$f":"Т0!J23","v":"Основен проект"},null,{"$f":"Т0!L23","v":"Идеен проект"},null,{"$f":"Т0!N23","v":"Надзор на изградба"},{"$f":"Т0!O23","v":"Проектантски надзор"}]
[null,null,null,null,null,null,null,{"$f":"Т0!H24","v":"(30% од вредноста на основниот проект)"},null,null,null,{"$f":"Т0!L24","v":"(30% од вредноста на ревизија на основниот проект)"}]
[null,null,{"$f":"Т0!C25","v":"Вид на проект"},{"$f":"Т0!D25","v":"Удел"},null,{"$f":"Т0!F25","v":"Минимална цена"},null,{"$f":"Т0!H25","v":"Минимална цена"},null,{"$f":"Т0!J25","v":"Минимална цена"},null,{"$f":"Т0!L25","v":"Минимална цена"},null,{"$f":"Т0!N25","v":"Минимален процент од инвестиција"},{"$f":"Т0!O25","v":"Минимален процент од инвестиција"}]
[null,null,{"$f":"Т0!C26","v":"(според намената)"},{"$f":"Т0!D26","v":"[%]"},null,{"$f":"Т0!F26","v":"[денари/m²]"},{"$f":"Т0!G26","v":"[€/m²]"},{"$f":"Т0!H26","v":"[денари/m²]"},{"$f":"Т0!I26","v":"[€/m²]"},{"$f":"Т0!J26","v":"[денари/m²]"},{"$f":"Т0!K26","v":"[€/m²]"},{"$f":"Т0!L26","v":"[денари/m²]"},{"$f":"Т0!M26","v":"[€/m²]"},{"$f":"Т0!N26","v":"[%]"},"[%]"]
[]
[null,null,{"$f":"Т0!C28","v":"Архитектонски проект"},{"$f":"F27/F41","v":0.40605520926090827},null,480,{"$f":"F27/F13","v":7.741935483870968},{"$f":"F27*0.3","v":144},{"$f":"H27/F13","v":2.3225806451612905},{"$f":"F27*0.15","v":72},{"$f":"J27/F13","v":1.1612903225806452},{"$f":"J27*0.3","v":21.599999999999998},{"$f":"L27/F13","v":0.34838709677419349},{"$f":"N$41*(F27/$F$41*100)","v":1.0151380231522706},{"$f":"O$41*(F27/$F$41*100)","v":0.40605520926090827}]
[null,null,{"$f":"Т0!C29","v":"Градежно-конструктивен проект"},{"$f":"F28/F41","v":0.22840605520926088},null,270,{"$f":"F28/F13","v":4.354838709677419},81,{"$f":"H28/F13","v":1.3064516129032258},40.5,{"$f":"J28/F13","v":0.65322580645161288},12.15,{"$f":"L28/F13","v":0.19596774193548389},0.57101513802315229,0.22840605520926091]
[null,null,{"$f":"Т0!C30","v":"Електротехнички проект"},{"$f":"F29/F41","v":0.10405164737310774},null,123,{"$f":"F29/F13","v":1.9838709677419355},36.9,{"$f":"H29/F13","v":0.59516129032258058},18.45,{"$f":"J29/F13","v":0.29758064516129029},5.5349999999999993,{"$f":"L29/F13","v":8.9274193548387087E-2},0.26012911843276937,0.10405164737310774]
[null,null,{"$f":"Т0!C32","v":"Проект за водовод и канализација"},{"$f":"F30/F41","v":5.0756901157613533E-2},null,60,{"$f":"F30/F13","v":0.967741935483871},18,{"$f":"H30/F13","v":0.29032258064516131},9,{"$f":"J30/F13","v":0.14516129032258066},2.6999999999999997,{"$f":"L30/F13","v":4.3548387096774187E-2},0.12689225289403383,5.0756901157613533E-2]
[null,null,{"$f":"Т0!C33","v":"Термотехнички проект"},{"$f":"F31/F41","v":5.9216384683882455E-2},null,70,{"$f":"F31/F13","v":1.1290322580645162},21,{"$f":"H31/F13","v":0.33870967741935482},10.5,{"$f":"J31/F13","v":0.16935483870967741},3.15,{"$f":"L31/F13","v":5.0806451612903224E-2},0.14804096170970613,5.9216384683882455E-2]
[null,null,{"$f":"Т0!C44","v":"Проект за  партерно уредување и сообраќај"},{"$f":"F32/F41","v":2.5378450578806767E-2},null,30,{"$f":"F32/F13","v":0.4838709677419355},9,{"$f":"H32/F13","v":0.14516129032258066},4.5,{"$f":"J32/F13","v":7.2580645161290328E-2},1.3499999999999999,{"$f":"L32/F13","v":2.1774193548387093E-2},6.3446126447016915E-2,2.5378450578806767E-2]
[null,null,{"$f":"Т0!C38","v":"Елаборат за заштита од пожари"},{"$f":"F33/F41","v":1.6918967052537846E-2},null,20,{"$f":"F33/F13","v":0.32258064516129031},6,{"$f":"H33/F13","v":9.6774193548387094E-2},3,{"$f":"J33/F13","v":4.8387096774193547E-2},0.89999999999999991,{"$f":"L33/F13","v":1.4516129032258063E-2},4.2297417631344619E-2,1.6918967052537846E-2]
[null,null,{"$f":"Т0!C39","v":"Елаборат за заштита при работа"},{"$f":"F34/F41","v":1.2689225289403383E-2},null,15,{"$f":"F34/F13","v":0.24193548387096775},4.5,{"$f":"H34/F13","v":7.2580645161290328E-2},2.25,{"$f":"J34/F13","v":3.6290322580645164E-2},0.67499999999999993,{"$f":"L34/F13","v":1.0887096774193547E-2},3.1723063223508458E-2,1.2689225289403383E-2]
[null,null,{"$f":"Т0!C42","v":"Елаборат за енергетска ефикасност"},{"$f":"F35/F41","v":1.6918967052537846E-2},null,20,{"$f":"F35/F13","v":0.32258064516129031},6,{"$f":"H35/F13","v":9.6774193548387094E-2},{"$f":"F35*0.15","v":3},{"$f":"J35/F13","v":4.8387096774193547E-2},{"$f":"J35*0.3","v":0.89999999999999991},{"$f":"L35/F13","v":1.4516129032258063E-2},{"$f":"N$41*(F35/$F$41*100)","v":4.2297417631344619E-2},{"$f":"O$41*(F35/$F$41*100)","v":1.6918967052537846E-2}]
[null,null,{"$f":"Т0!C43","v":"Елаборат за заштита на животната средина"},{"$f":"F36/F41","v":1.2689225289403383E-2},null,15,0.24193548387096775,4.5,7.2580645161290328E-2,2.25,{"$f":"J36/F13","v":3.6290322580645164E-2},0.67499999999999993,{"$f":"L36/F13","v":1.0887096774193547E-2},3.1723063223508458E-2,1.2689225289403383E-2]
[null,null,{"$f":"Т0!C37","v":"Сообраќаен проект"},{"$f":"F37/F41","v":1.6918967052537846E-2},null,20,{"$f":"F37/F13","v":0.32258064516129031},{"$f":"F37*0.3","v":6},{"$f":"H37/F13","v":9.6774193548387094E-2},{"$f":"F37*0.15","v":3},{"$f":"J37/F13","v":4.8387096774193547E-2},{"$f":"J37*0.3","v":0.89999999999999991},{"$f":"L37/F13","v":1.4516129032258063E-2},4.4432595752243842E-2,1.7773038300897537E-2]
[]
[null,null,{"$f":"Т0!C47","v":"Координација на проект"},{"$f":"F39/F41","v":5.0000000000000051E-2},null,{"$f":"SUM(F27:F38)/0.95-SUM(F27:F38)","v":59.105263157894797},{"$f":"F39/F13","v":0.95331069609507735},{"$f":"SUM(H27:H35)/0.95-SUM(H27:H35)","v":17.178947368421063},{"$f":"H39/F13","v":0.27707979626485585},{"$f":"F39*0.15","v":8.8657894736842184},{"$f":"J39/F13","v":0.1429966044142616},{"$f":"SUM(L27:L35)/0.95-SUM(L27:L35)","v":2.5768421052631609},{"$f":"L39/F13","v":4.1561969439728404E-2},{"$f":"N$41*(F39/$F$41*100)","v":0.12500000000000014},{"$f":"O$41*(F39/$F$41*100)","v":5.0000000000000051E-2}]
[]
[null,null,{"$f":"Т0!C49","v":"Вкупно:"},{"$f":"SUM(D27:D39)","v":1},null,{"$f":"SUM(F26:F40)","v":1182.1052631578948},{"$f":"F41/F13","v":19.066213921901529},{"$f":"SUM(H27:H39)","v":354.07894736842104},{"$f":"H41/F13","v":5.7109507640067907},{"$f":"SUM(J27:J39)","v":177.31578947368422},{"$f":"J41/F13","v":2.8599320882852295},{"$f":"SUM(L27:L39)","v":53.11184210526315},{"$f":"L41/F13","v":0.85664261460101854},2.5000000000000001E-2,0.01]

{"sheet":"В1-II","index":16,"n_rows":41,"n_cols":15,"rows_kept":41,"cut":false,"hidden":true,"merged":[[4,2,4,14],[7,6,7,7],[10,9,10,12],[11,9,11,12],[2,3,2,14],[6,9,6,12],[6,13,6,14],[7,9,7,12],[8,9,8,12],[10,3,10,5],[10,6,10,7],[12,9,12,12],[8,3,8,5],[8,6,8,7],[9,3,9,5],[9,6,9,7],[9,9,9,12],[11,3,11,5],[11,6,11,7],[21,13,22,13],[16,9,16,12],[15,3,15,5],[15,6,15,7],[16,3,16,5],[16,6,16,7],[21,14,22,14],[22,7,22,8],[22,11,22,12],[12,6,12,7],[17,9,17,12],[19,5,20,8],[19,9,19,12],[19,13,20,14],[20,9,20,12],[17,3,17,5],[17,6,17,7],[15,9,15,12],[14,9,14,12],[14,3,14,5],[14,6,14,7],[13,9,13,12],[23,5,23,6],[23,7,23,8],[23,9,23,10],[23,11,23,12],[21,5,22,6],[21,7,21,8],[21,9,22,10],[21,11,21,12]]}
[]
[]
[null,null,{"$f":"' Помош - Каталог на намени'!D19","v":"В1-II"},{"$f":"' Помош - Каталог на намени'!E19","v":"ОБРАЗОВАНИЕ И НАУКА\n(II ГРУПА)"}]
[]
[null,null,{"$f":"' Помош - Каталог на намени'!F19","v":"В1.3. - Високо образование: универзитетски кампуси, универзитети, академии, факултети, институти, високи училишта\nВ1.4. - Континуирано и дополнително образование и усовршување, оспособување и учење за возрасни лица\nВ1.5. - Научно-истражувачки центри, лаборатории, институти и други образовни и научни институции\nВ1.6. - Опсерватории и други истражувачки објекти"}]
[]
[null,null,{"$f":"Т0!C8","v":"Површина на градба"},null,null,{"$f":"Калкулатор!D9","v":0},{"$f":"Т0!G8","v":"m²"},{"$f":"Т0!H8","v":"(варијабла)"},null,{"$f":"Т0!J8","v":"Вид на инженерска услуга"},null,null,null,{"$f":"Т0!N8","v":"Минимална вкупна цена"}]
[null,null,null,null,null,null,null,null,null,{"$f":"Т0!J9","v":"1. Изработка на проектна документација (1.1.+1.2)"},null,null,null,{"$f":"SUM(N9:N10)","v":0},{"$f":"SUM(O9:O10)","v":0}]
[null,null,{"$f":"Т0!C10","v":"Просечна цена на изведба за 1 m²"},{"$f":"G9*F13","v":58280},null,null,{"$f":"' Помош - Каталог на намени'!G19","v":940},null,null,{"$f":"Т0!J10","v":"1.1. Изработка на основен проект"},null,null,null,{"$f":"F7*F41","v":0},{"$f":"N9/F13","v":0}]
[null,null,null,null,null,null,null,null,null,{"$f":"Т0!J11","v":"1.2. Изработка на идеен проект"},null,null,null,{"$f":"F7*H41","v":0},{"$f":"N10/F13","v":0}]
[null,null,{"$f":"Т0!C12","v":"Вкупна инвестициона градежна  вредност"},{"$f":"F7*D9","v":0},null,null,{"$f":"D11/F13","v":0}]
[null,null,null,null,null,null,null,null,null,{"$f":"Т0!J13","v":"2. Ревизија на проектна документација (2.1.+2.2.)"},null,null,null,{"$f":"SUM(N13:N14)","v":0},{"$f":"SUM(O13:O14)","v":0}]
[null,null,{"$f":"Т0!C14","v":"Вредност на евро валута"},{"$f":"Т0!D14","v":1},{"$f":"Т0!E14","v":"="},{"$f":"Т0!F14","v":62},null,null,null,{"$f":"Т0!J14","v":"2.1. Ревизија на основен проект"},null,null,null,{"$f":"F7*J41","v":0},{"$f":"N13/F13","v":0}]
[null,null,null,null,null,null,null,null,null,{"$f":"Т0!J15","v":"2.2. Ревизија на идеен проект"},null,null,null,{"$f":"F7*L41","v":0},{"$f":"N14/F13","v":0}]
[null,null,{"$f":"Т0!C16","v":"Изработка на Основен проект"},{"$f":"Т0!D16:F16","v":"Ревизија на Основен проект"},null,null,{"$f":"Т0!G16:H16","v":"Надзор на изградба"}]
[null,null,{"$f":"G41/G9","v":2.3173066502907923E-2},{"$f":"K41/G9","v":3.4759599754361878E-3},null,null,{"$f":"N41","v":2.5000000000000001E-2},null,null,{"$f":"Т0!J17","v":"3. Надзор на градба (3.1.+3.2.)"},null,null,null,{"$f":"SUM(N17:N18)","v":0},{"$f":"SUM(O17:O18)","v":0}]
[null,null,{"$f":"Т0!C18","v":"Изработка на Идеен проект"},{"$f":"Т0!D18:F18","v":"Ревизија на Идеен проект"},null,null,{"$f":"Т0!G18:H18","v":"Проектантски надзор"},null,null,{"$f":"Т0!J18","v":"3.1. Надзор на градба"},null,null,null,{"$f":"F7*D9*N41","v":0},{"$f":"N17/F13","v":0}]
[null,null,{"$f":"I41/G9","v":6.9424375970812413E-3},{"$f":"M41/G9","v":1.041365639562186E-3},null,null,{"$f":"O41","v":0.01},null,null,{"$f":"Т0!J19","v":"3.2. Проектантски надзор"},null,null,null,{"$f":"F7*D9*O41","v":0},{"$f":"N18/F13","v":0}]
[]
[null,null,null,null,null,{"$f":"Т0!F21","v":"Изработка на проектна документација"},null,null,null,{"$f":"Т0!J21","v":"Ревизија на проектна документација"},null,null,null,{"$f":"Т0!N21","v":"Надзор на изградба"}]
[null,null,null,null,null,null,null,null,null,{"$f":"Т0!J22","v":"(15% од вредноста на Изработка на проектна документација)"}]
[null,null,null,null,null,{"$f":"Т0!F23","v":"Основен проект"},null,{"$f":"Т0!H23","v":"Идеен проект"},null,{"$f":"Т0!J23","v":"Основен проект"},null,{"$f":"Т0!L23","v":"Идеен проект"},null,{"$f":"Т0!N23","v":"Надзор на изградба"},{"$f":"Т0!O23","v":"Проектантски надзор"}]
[null,null,null,null,null,null,null,{"$f":"Т0!H24","v":"(30% од вредноста на основниот проект)"},null,null,null,{"$f":"Т0!L24","v":"(30% од вредноста на ревизија на основниот проект)"}]
[null,null,{"$f":"Т0!C25","v":"Вид на проект"},{"$f":"Т0!D25","v":"Удел"},null,{"$f":"Т0!F25","v":"Минимална цена"},null,{"$f":"Т0!H25","v":"Минимална цена"},null,{"$f":"Т0!J25","v":"Минимална цена"},null,{"$f":"Т0!L25","v":"Минимална цена"},null,{"$f":"Т0!N25","v":"Минимален процент од инвестиција"},{"$f":"Т0!O25","v":"Минимален процент од инвестиција"}]
[null,null,{"$f":"Т0!C26","v":"(според намената)"},{"$f":"Т0!D26","v":"[%]"},null,{"$f":"Т0!F26","v":"[денари/m²]"},{"$f":"Т0!G26","v":"[€/m²]"},{"$f":"Т0!H26","v":"[денари/m²]"},{"$f":"Т0!I26","v":"[€/m²]"},{"$f":"Т0!J26","v":"[денари/m²]"},{"$f":"Т0!K26","v":"[€/m²]"},{"$f":"Т0!L26","v":"[денари/m²]"},{"$f":"Т0!M26","v":"[€/m²]"},{"$f":"Т0!N26","v":"[%]"},"[%]"]
[]
[null,null,{"$f":"Т0!C28","v":"Архитектонски проект"},{"$f":"F27/F41","v":0.40206547155105221},null,543,{"$f":"F27/F13","v":8.758064516129032},{"$f":"F27*0.3","v":162.9},{"$f":"H27/F13","v":2.6274193548387097},{"$f":"F27*0.15","v":81.45},{"$f":"J27/F13","v":1.3137096774193548},{"$f":"J27*0.3","v":24.434999999999999},{"$f":"L27/F13","v":0.39411290322580644},{"$f":"N$41*(F27/$F$41*100)","v":1.0051636788776306},{"$f":"O$41*(F27/$F$41*100)","v":0.40206547155105221}]
[null,null,{"$f":"Т0!C29","v":"Градежно-конструктивен проект"},{"$f":"F28/F41","v":0.2221356196414653},null,300,{"$f":"F28/F13","v":4.838709677419355},90,{"$f":"H28/F13","v":1.4516129032258065},45,{"$f":"J28/F13","v":0.72580645161290325},13.5,{"$f":"L28/F13","v":0.21774193548387097},0.55533904910366327,0.22213561964146533]
[null,null,{"$f":"Т0!C30","v":"Електротехнички проект"},{"$f":"F29/F41","v":0.11106780982073265},null,150,{"$f":"F29/F13","v":2.4193548387096775},45,{"$f":"H29/F13","v":0.72580645161290325},22.5,{"$f":"J29/F13","v":0.36290322580645162},6.75,{"$f":"L29/F13","v":0.10887096774193548},0.27766952455183164,0.11106780982073267]
[null,null,{"$f":"Т0!C32","v":"Проект за водовод и канализација"},{"$f":"F30/F41","v":5.1831644583008568E-2},null,70,{"$f":"F30/F13","v":1.1290322580645162},21,{"$f":"H30/F13","v":0.33870967741935482},10.5,{"$f":"J30/F13","v":0.16935483870967741},3.15,{"$f":"L30/F13","v":5.0806451612903224E-2},0.12957911145752141,5.1831644583008568E-2]
[null,null,{"$f":"Т0!C33","v":"Термотехнички проект"},{"$f":"F31/F41","v":7.4045206547155101E-2},null,100,{"$f":"F31/F13","v":1.6129032258064515},30,{"$f":"H31/F13","v":0.4838709677419355},15,{"$f":"J31/F13","v":0.24193548387096775},4.5,{"$f":"L31/F13","v":7.2580645161290328E-2},0.18511301636788777,7.4045206547155101E-2]
[null,null,{"$f":"Т0!C44","v":"Проект за  партерно уредување и сообраќај"},{"$f":"F32/F41","v":2.221356196414653E-2},null,30,{"$f":"F32/F13","v":0.4838709677419355},9,{"$f":"H32/F13","v":0.14516129032258066},4.5,{"$f":"J32/F13","v":7.2580645161290328E-2},1.3499999999999999,{"$f":"L32/F13","v":2.1774193548387093E-2},5.5533904910366333E-2,2.221356196414653E-2]
[null,null,{"$f":"Т0!C38","v":"Елаборат за заштита од пожари"},{"$f":"F33/F41","v":1.4809041309431021E-2},null,20,{"$f":"F33/F13","v":0.32258064516129031},6,{"$f":"H33/F13","v":9.6774193548387094E-2},3,{"$f":"J33/F13","v":4.8387096774193547E-2},0.89999999999999991,{"$f":"L33/F13","v":1.4516129032258063E-2},3.7022603273577558E-2,1.4809041309431021E-2]
[null,null,{"$f":"Т0!C39","v":"Елаборат за заштита при работа"},{"$f":"F34/F41","v":1.1106780982073265E-2},null,15,{"$f":"F34/F13","v":0.24193548387096775},4.5,{"$f":"H34/F13","v":7.2580645161290328E-2},2.25,{"$f":"J34/F13","v":3.6290322580645164E-2},0.67499999999999993,{"$f":"L34/F13","v":1.0887096774193547E-2},2.7766952455183166E-2,1.1106780982073265E-2]
[null,null,{"$f":"Т0!C42","v":"Елаборат за енергетска ефикасност"},{"$f":"F35/F41","v":1.4809041309431021E-2},null,20,{"$f":"F35/F13","v":0.32258064516129031},6,{"$f":"H35/F13","v":9.6774193548387094E-2},{"$f":"F35*0.15","v":3},{"$f":"J35/F13","v":4.8387096774193547E-2},{"$f":"J35*0.3","v":0.89999999999999991},{"$f":"L35/F13","v":1.4516129032258063E-2},{"$f":"N$41*(F35/$F$41*100)","v":3.7022603273577558E-2},{"$f":"O$41*(F35/$F$41*100)","v":1.4809041309431021E-2}]
[null,null,{"$f":"Т0!C43","v":"Елаборат за заштита на животната средина"},{"$f":"F36/F41","v":1.1106780982073265E-2},null,15,0.24193548387096775,4.5,7.2580645161290328E-2,2.25,{"$f":"J36/F13","v":3.6290322580645164E-2},0.67499999999999993,{"$f":"L36/F13","v":1.0887096774193547E-2},2.7766952455183166E-2,1.1106780982073265E-2]
[null,null,{"$f":"Т0!C37","v":"Сообраќаен проект"},{"$f":"F37/F41","v":1.4809041309431021E-2},null,20,{"$f":"F37/F13","v":0.32258064516129031},{"$f":"F37*0.3","v":6},{"$f":"H37/F13","v":9.6774193548387094E-2},{"$f":"F37*0.15","v":3},{"$f":"J37/F13","v":4.8387096774193547E-2},{"$f":"J37*0.3","v":0.89999999999999991},{"$f":"L37/F13","v":1.4516129032258063E-2},3.9616512162269239E-2,1.5846604864907694E-2]
[]
[null,null,{"$f":"Т0!C47","v":"Координација на проект"},{"$f":"F39/F41","v":5.0000000000000051E-2},null,{"$f":"SUM(F27:F38)/0.95-SUM(F27:F38)","v":67.526315789473756},{"$f":"F39/F13","v":1.0891341256366736},{"$f":"SUM(H27:H35)/0.95-SUM(H27:H35)","v":19.705263157894763},{"$f":"H39/F13","v":0.3178268251273349},{"$f":"F39*0.15","v":10.128947368421063},{"$f":"J39/F13","v":0.16337011884550101},{"$f":"SUM(L27:L35)/0.95-SUM(L27:L35)","v":2.955789473684213},{"$f":"L39/F13","v":4.767402376910021E-2},{"$f":"N$41*(F39/$F$41*100)","v":0.12500000000000014},{"$f":"O$41*(F39/$F$41*100)","v":5.0000000000000051E-2}]
[]
[null,null,{"$f":"Т0!C49","v":"Вкупно:"},{"$f":"SUM(D27:D39)","v":1.0000000000000002},null,{"$f":"SUM(F26:F40)","v":1350.5263157894738},{"$f":"F41/F13","v":21.782682512733448},{"$f":"SUM(H27:H39)","v":404.60526315789474},{"$f":"H41/F13","v":6.5258913412563668},{"$f":"SUM(J27:J39)","v":202.57894736842104},{"$f":"J41/F13","v":3.2674023769100167},{"$f":"SUM(L27:L39)","v":60.690789473684205},{"$f":"L41/F13","v":0.97888370118845491},2.5000000000000001E-2,0.01]

{"sheet":"В2-I","index":17,"n_rows":42,"n_cols":15,"rows_kept":42,"cut":false,"hidden":true,"merged":[[7,6,7,7],[4,2,4,14],[10,9,10,12],[11,9,11,12],[2,3,2,14],[6,9,6,12],[6,13,6,14],[7,9,7,12],[8,9,8,12],[10,3,10,5],[10,6,10,7],[12,9,12,12],[8,3,8,5],[8,6,8,7],[9,3,9,5],[9,6,9,7],[9,9,9,12],[11,3,11,5],[11,6,11,7],[21,13,22,13],[16,9,16,12],[15,3,15,5],[15,6,15,7],[16,3,16,5],[16,6,16,7],[21,14,22,14],[22,7,22,8],[22,11,22,12],[12,6,12,7],[17,9,17,12],[19,5,20,8],[19,9,19,12],[19,13,20,14],[20,9,20,12],[17,3,17,5],[17,6,17,7],[15,9,15,12],[14,9,14,12],[14,3,14,5],[14,6,14,7],[13,9,13,12],[23,5,23,6],[23,7,23,8],[23,9,23,10],[23,11,23,12],[21,5,22,6],[21,7,21,8],[21,9,22,10],[21,11,21,12]]}
[]
[]
[null,null,{"$f":"' Помош - Каталог на намени'!D20","v":"В2-I"},{"$f":"' Помош - Каталог на намени'!E20","v":"ЗДРАВСТВЕНА И СОЦИЈАЛНА ЗАШТИТА\n(I ГРУПА)"}]
[]
[null,null,{"$f":"' Помош - Каталог на намени'!F20","v":"В2.1. - Клинички центри, универзитетски и клинички болници од терцијарната здравствена заштита\n"}]
[]
[null,null,{"$f":"Т0!C8","v":"Површина на градба"},null,null,{"$f":"Калкулатор!D9","v":0},{"$f":"Т0!G8","v":"m²"},{"$f":"Т0!H8","v":"(варијабла)"},null,{"$f":"Т0!J8","v":"Вид на инженерска услуга"},null,null,null,{"$f":"Т0!N8","v":"Минимална вкупна цена"}]
[null,null,null,null,null,null,null,null,null,{"$f":"Т0!J9","v":"1. Изработка на проектна документација (1.1.+1.2)"},null,null,null,{"$f":"SUM(N9:N10)","v":0},{"$f":"SUM(O9:O10)","v":0}]
[null,null,{"$f":"Т0!C10","v":"Просечна цена на изведба за 1 m²"},{"$f":"G9*F13","v":79980},null,null,{"$f":"' Помош - Каталог на намени'!G20","v":1290},null,null,{"$f":"Т0!J10","v":"1.1. Изработка на основен проект"},null,null,null,{"$f":"F7*F42","v":0},{"$f":"N9/F13","v":0}]
[null,null,null,null,null,null,null,null,null,{"$f":"Т0!J11","v":"1.2. Изработка на идеен проект"},null,null,null,{"$f":"F7*H42","v":0},{"$f":"N10/F13","v":0}]
[null,null,{"$f":"Т0!C12","v":"Вкупна инвестициона градежна  вредност"},{"$f":"F7*D9","v":0},null,null,{"$f":"D11/F13","v":0}]
[null,null,null,null,null,null,null,null,null,{"$f":"Т0!J13","v":"2. Ревизија на проектна документација (2.1.+2.2.)"},null,null,null,{"$f":"SUM(N13:N14)","v":0},{"$f":"SUM(O13:O14)","v":0}]
[null,null,{"$f":"Т0!C14","v":"Вредност на евро валута"},{"$f":"Т0!D14","v":1},{"$f":"Т0!E14","v":"="},{"$f":"Т0!F14","v":62},null,null,null,{"$f":"Т0!J14","v":"2.1. Ревизија на основен проект"},null,null,null,{"$f":"F7*J42","v":0},{"$f":"N13/F13","v":0}]
[null,null,null,null,null,null,null,null,null,{"$f":"Т0!J15","v":"2.2. Ревизија на идеен проект"},null,null,null,{"$f":"F7*L42","v":0},{"$f":"N14/F13","v":0}]
[null,null,{"$f":"Т0!C16","v":"Изработка на Основен проект"},{"$f":"Т0!D16:F16","v":"Ревизија на Основен проект"},null,null,{"$f":"Т0!G16:H16","v":"Надзор на изградба"}]
[null,null,{"$f":"G42/G9","v":2.1873889525012832E-2},{"$f":"K42/G9","v":3.2810834287519252E-3},null,null,{"$f":"N42","v":2.5000000000000001E-2},null,null,{"$f":"Т0!J17","v":"3. Надзор на градба (3.1.+3.2.)"},null,null,null,{"$f":"SUM(N17:N18)","v":0},{"$f":"SUM(O17:O18)","v":0}]
[null,null,{"$f":"Т0!C18","v":"Изработка на Идеен проект"},{"$f":"Т0!D18:F18","v":"Ревизија на Идеен проект"},null,null,{"$f":"Т0!G18:H18","v":"Проектантски надзор"},null,null,{"$f":"Т0!J18","v":"3.1. Надзор на градба"},null,null,null,{"$f":"F7*D9*N42","v":0},{"$f":"N17/F13","v":0}]
[null,null,{"$f":"I42/G9","v":6.5552572353614717E-3},{"$f":"M42/G9","v":9.8328858530422102E-4},null,null,{"$f":"O42","v":0.01},null,null,{"$f":"Т0!J19","v":"3.2. Проектантски надзор"},null,null,null,{"$f":"F7*D9*O42","v":0},{"$f":"N18/F13","v":0}]
[]
[null,null,null,null,null,{"$f":"Т0!F21","v":"Изработка на проектна документација"},null,null,null,{"$f":"Т0!J21","v":"Ревизија на проектна документација"},null,null,null,{"$f":"Т0!N21","v":"Надзор на изградба"}]
[null,null,null,null,null,null,null,null,null,{"$f":"Т0!J22","v":"(15% од вредноста на Изработка на проектна документација)"}]
[null,null,null,null,null,{"$f":"Т0!F23","v":"Основен проект"},null,{"$f":"Т0!H23","v":"Идеен проект"},null,{"$f":"Т0!J23","v":"Основен проект"},null,{"$f":"Т0!L23","v":"Идеен проект"},null,{"$f":"Т0!N23","v":"Надзор на изградба"},{"$f":"Т0!O23","v":"Проектантски надзор"}]
[null,null,null,null,null,null,null,{"$f":"Т0!H24","v":"(30% од вредноста на основниот проект)"},null,null,null,{"$f":"Т0!L24","v":"(30% од вредноста на ревизија на основниот проект)"}]
[null,null,{"$f":"Т0!C25","v":"Вид на проект"},{"$f":"Т0!D25","v":"Удел"},null,{"$f":"Т0!F25","v":"Минимална цена"},null,{"$f":"Т0!H25","v":"Минимална цена"},null,{"$f":"Т0!J25","v":"Минимална цена"},null,{"$f":"Т0!L25","v":"Минимална цена"},null,{"$f":"Т0!N25","v":"Минимален процент од инвестиција"},{"$f":"Т0!O25","v":"Минимален процент од инвестиција"}]
[null,null,{"$f":"Т0!C26","v":"(според намената)"},{"$f":"Т0!D26","v":"[%]"},null,{"$f":"Т0!F26","v":"[денари/m²]"},{"$f":"Т0!G26","v":"[€/m²]"},{"$f":"Т0!H26","v":"[денари/m²]"},{"$f":"Т0!I26","v":"[€/m²]"},{"$f":"Т0!J26","v":"[денари/m²]"},{"$f":"Т0!K26","v":"[€/m²]"},{"$f":"Т0!L26","v":"[денари/m²]"},{"$f":"Т0!M26","v":"[€/m²]"},{"$f":"Т0!N26","v":"[%]"},"[%]"]
[]
[null,null,{"$f":"Т0!C28","v":"Архитектонски проект"},{"$f":"F27/F42","v":0.38868832731648612},null,680,{"$f":"F27/F13","v":10.96774193548387},{"$f":"F27*0.3","v":204},{"$f":"H27/F13","v":3.2903225806451615},{"$f":"F27*0.15","v":102},{"$f":"J27/F13","v":1.6451612903225807},{"$f":"J27*0.3","v":30.599999999999998},{"$f":"L27/F13","v":0.49354838709677418},{"$f":"N$42*(F27/$F$42*100)","v":0.97172081829121526},{"$f":"O$42*(F27/$F$42*100)","v":0.38868832731648612}]
[null,null,{"$f":"Т0!C29","v":"Градежно-конструктивен проект"},{"$f":"F28/F42","v":0.22006618531889288},null,385,{"$f":"F28/F13","v":6.209677419354839},115.5,{"$f":"H28/F13","v":1.8629032258064515},57.75,{"$f":"J28/F13","v":0.93145161290322576},17.324999999999999,{"$f":"L28/F13","v":0.27943548387096773},0.55016546329723226,0.22006618531889288]
[null,null,{"$f":"Т0!C30","v":"Електротехнички проект"},{"$f":"F29/F42","v":0.10288808664259927},null,180,{"$f":"F29/F13","v":2.903225806451613},54,{"$f":"H29/F13","v":0.87096774193548387},27,{"$f":"J29/F13","v":0.43548387096774194},8.1,{"$f":"L29/F13","v":0.13064516129032258},0.25722021660649819,0.10288808664259927]
[null,null,{"$f":"Т0!C32","v":"Проект за водовод и канализација"},{"$f":"F30/F42","v":5.258724428399518E-2},null,92,{"$f":"F30/F13","v":1.4838709677419355},27.599999999999998,{"$f":"H30/F13","v":0.44516129032258062},13.799999999999999,{"$f":"J30/F13","v":0.22258064516129031},4.1399999999999997,{"$f":"L30/F13","v":6.6774193548387095E-2},0.13146811070998796,5.258724428399518E-2]
[null,null,{"$f":"Т0!C33","v":"Термотехнички проект"},{"$f":"F31/F42","v":8.0024067388688322E-2},null,140,{"$f":"F31/F13","v":2.2580645161290325},42,{"$f":"H31/F13","v":0.67741935483870963},21,{"$f":"J31/F13","v":0.33870967741935482},6.3,{"$f":"L31/F13","v":0.10161290322580645},0.20006016847172081,8.0024067388688322E-2]
[null,null,{"$f":"Т0!C36","v":"Технолошки проект"},{"$f":"F32/F42","v":2.2864019253910947E-2},null,40,{"$f":"F32/F13","v":0.64516129032258063},12,{"$f":"H32/F13","v":0.19354838709677419},6,{"$f":"J32/F13","v":9.6774193548387094E-2},1.7999999999999998,{"$f":"L32/F13","v":2.9032258064516127E-2},5.7160048134777368E-2,2.2864019253910947E-2]
[null,null,{"$f":"Т0!C44","v":"Проект за  партерно уредување и сообраќај"},{"$f":"F33/F42","v":2.000601684717208E-2},null,35,{"$f":"F33/F13","v":0.56451612903225812},10.5,{"$f":"H33/F13","v":0.16935483870967741},5.25,{"$f":"J33/F13","v":8.4677419354838704E-2},1.575,{"$f":"L33/F13","v":2.5403225806451612E-2},5.0015042117930203E-2,2.000601684717208E-2]
[null,null,{"$f":"Т0!C38","v":"Елаборат за заштита од пожари"},{"$f":"F34/F42","v":1.714801444043321E-2},null,30,{"$f":"F34/F13","v":0.4838709677419355},9,{"$f":"H34/F13","v":0.14516129032258066},4.5,{"$f":"J34/F13","v":7.2580645161290328E-2},1.3499999999999999,{"$f":"L34/F13","v":2.1774193548387093E-2},4.2870036101083031E-2,1.714801444043321E-2]
[null,null,{"$f":"Т0!C39","v":"Елаборат за заштита при работа"},{"$f":"F35/F42","v":1.4290012033694344E-2},null,25,{"$f":"F35/F13","v":0.40322580645161288},7.5,{"$f":"H35/F13","v":0.12096774193548387},3.75,{"$f":"J35/F13","v":6.0483870967741937E-2},1.125,{"$f":"L35/F13","v":1.8145161290322582E-2},3.5725030084235859E-2,1.4290012033694344E-2]
[null,null,{"$f":"Т0!C42","v":"Елаборат за енергетска ефикасност"},{"$f":"F36/F42","v":1.1432009626955474E-2},null,20,{"$f":"F36/F13","v":0.32258064516129031},6,{"$f":"H36/F13","v":9.6774193548387094E-2},{"$f":"F36*0.15","v":3},{"$f":"J36/F13","v":4.8387096774193547E-2},{"$f":"J36*0.3","v":0.89999999999999991},{"$f":"L36/F13","v":1.4516129032258063E-2},{"$f":"N$42*(F36/$F$42*100)","v":2.8580024067388684E-2},{"$f":"O$42*(F36/$F$42*100)","v":1.1432009626955474E-2}]
[null,null,{"$f":"Т0!C43","v":"Елаборат за заштита на животната средина"},{"$f":"F37/F42","v":8.5740072202166052E-3},null,15,0.24193548387096775,4.5,7.2580645161290328E-2,2.25,{"$f":"J37/F13","v":3.6290322580645164E-2},0.67499999999999993,{"$f":"L37/F13","v":1.0887096774193547E-2},2.1435018050541516E-2,8.5740072202166052E-3]
[null,null,{"$f":"Т0!C37","v":"Сообраќаен проект"},{"$f":"F38/F42","v":1.1432009626955474E-2},null,20,{"$f":"F38/F13","v":0.32258064516129031},{"$f":"F38*0.3","v":6},{"$f":"H38/F13","v":9.6774193548387094E-2},{"$f":"F38*0.15","v":3},{"$f":"J38/F13","v":4.8387096774193547E-2},{"$f":"J38*0.3","v":0.89999999999999991},{"$f":"L38/F13","v":1.4516129032258063E-2},2.999220202747286E-2,1.1996880810989144E-2]
[]
[null,null,{"$f":"Т0!C47","v":"Координација на проект"},{"$f":"F40/F42","v":5.0000000000000086E-2},null,{"$f":"SUM(F27:F38)/0.95-SUM(F27:F38)","v":87.473684210526471},{"$f":"F40/F13","v":1.4108658743633302},{"$f":"SUM(H27:H36)/0.95-SUM(H27:H36)","v":25.689473684210498},{"$f":"H40/F13","v":0.41434634974533063},{"$f":"F40*0.15","v":13.121052631578971},{"$f":"J40/F13","v":0.21162988115449954},{"$f":"SUM(L27:L36)/0.95-SUM(L27:L36)","v":3.8534210526315889},{"$f":"L40/F13","v":6.2151952461799817E-2},{"$f":"N$42*(F40/$F$42*100)","v":0.12500000000000022},{"$f":"O$42*(F40/$F$42*100)","v":5.0000000000000093E-2}]
[]
[null,null,{"$f":"Т0!C49","v":"Вкупно:"},{"$f":"SUM(D27:D40)","v":0.99999999999999989},null,{"$f":"SUM(F26:F41)","v":1749.4736842105265},{"$f":"F42/F13","v":28.217317487266556},{"$f":"SUM(H27:H40)","v":524.28947368421052},{"$f":"H42/F13","v":8.4562818336162984},{"$f":"SUM(J27:J40)","v":262.42105263157896},{"$f":"J42/F13","v":4.2325976230899833},{"$f":"SUM(L27:L40)","v":78.643421052631595},{"$f":"L42/F13","v":1.2684422750424451},2.5000000000000001E-2,0.01]

{"sheet":"В2-II","index":18,"n_rows":42,"n_cols":15,"rows_kept":42,"cut":false,"hidden":true,"merged":[[4,2,4,14],[7,6,7,7],[10,9,10,12],[11,9,11,12],[2,3,2,14],[6,9,6,12],[6,13,6,14],[7,9,7,12],[8,9,8,12],[10,3,10,5],[10,6,10,7],[12,9,12,12],[8,3,8,5],[8,6,8,7],[9,3,9,5],[9,6,9,7],[9,9,9,12],[11,3,11,5],[11,6,11,7],[21,13,22,13],[16,9,16,12],[15,3,15,5],[15,6,15,7],[16,3,16,5],[16,6,16,7],[21,14,22,14],[22,7,22,8],[22,11,22,12],[12,6,12,7],[17,9,17,12],[19,5,20,8],[19,9,19,12],[19,13,20,14],[20,9,20,12],[17,3,17,5],[17,6,17,7],[15,9,15,12],[14,9,14,12],[14,3,14,5],[14,6,14,7],[13,9,13,12],[23,5,23,6],[23,7,23,8],[23,9,23,10],[23,11,23,12],[21,5,22,6],[21,7,21,8],[21,9,22,10],[21,11,21,12]]}
[]
[]
[null,null,{"$f":"' Помош - Каталог на намени'!D21","v":"В2-II"},{"$f":"' Помош - Каталог на намени'!E21","v":"ЗДРАВСТВЕНА И СОЦИЈАЛНА ЗАШТИТА\n(II ГРУПА)"}]
[]
[null,null,{"$f":"' Помош - Каталог на намени'!F21","v":"В2.3. - Установи од секундарната здравствена заштита: поликлиники, клиники и амбуланти од специјалистичка медицина и стоматологија, лаборатории и сл.\nВ2.4. - Општи и специјални болници од секундарната здравствена заштита\nВ2.6. - Санаториуми, лечилишта и други установи за престој и нега"}]
[]
[null,null,{"$f":"Т0!C8","v":"Површина на градба"},null,null,{"$f":"Калкулатор!D9","v":0},{"$f":"Т0!G8","v":"m²"},{"$f":"Т0!H8","v":"(варијабла)"},null,{"$f":"Т0!J8","v":"Вид на инженерска услуга"},null,null,null,{"$f":"Т0!N8","v":"Минимална вкупна цена"}]
[null,null,null,null,null,null,null,null,null,{"$f":"Т0!J9","v":"1. Изработка на проектна документација (1.1.+1.2)"},null,null,null,{"$f":"SUM(N9:N10)","v":0},{"$f":"SUM(O9:O10)","v":0}]
[null,null,{"$f":"Т0!C10","v":"Просечна цена на изведба за 1 m²"},{"$f":"G9*F13","v":75950},null,null,{"$f":"' Помош - Каталог на намени'!G21","v":1225},null,null,{"$f":"Т0!J10","v":"1.1. Изработка на основен проект"},null,null,null,{"$f":"F7*F42","v":0},{"$f":"N9/F13","v":0}]
[null,null,null,null,null,null,null,null,null,{"$f":"Т0!J11","v":"1.2. Изработка на идеен проект"},null,null,null,{"$f":"F7*H42","v":0},{"$f":"N10/F13","v":0}]
[null,null,{"$f":"Т0!C12","v":"Вкупна инвестициона градежна  вредност"},{"$f":"F7*D9","v":0},null,null,{"$f":"D11/F13","v":0}]
[null,null,null,null,null,null,null,null,null,{"$f":"Т0!J13","v":"2. Ревизија на проектна документација (2.1.+2.2.)"},null,null,null,{"$f":"SUM(N13:N14)","v":0},{"$f":"SUM(O13:O14)","v":0}]
[null,null,{"$f":"Т0!C14","v":"Вредност на евро валута"},{"$f":"Т0!D14","v":1},{"$f":"Т0!E14","v":"="},{"$f":"Т0!F14","v":62},null,null,null,{"$f":"Т0!J14","v":"2.1. Ревизија на основен проект"},null,null,null,{"$f":"F7*J42","v":0},{"$f":"N13/F13","v":0}]
[null,null,null,null,null,null,null,null,null,{"$f":"Т0!J15","v":"2.2. Ревизија на идеен проект"},null,null,null,{"$f":"F7*L42","v":0},{"$f":"N14/F13","v":0}]
[null,null,{"$f":"Т0!C16","v":"Изработка на Основен проект"},{"$f":"Т0!D16:F16","v":"Ревизија на Основен проект"},null,null,{"$f":"Т0!G16:H16","v":"Надзор на изградба"}]
[null,null,{"$f":"G42/G9","v":2.2119815668202765E-2},{"$f":"K42/G9","v":3.3179723502304147E-3},null,null,{"$f":"N42","v":2.5000000000000001E-2},null,null,{"$f":"Т0!J17","v":"3. Надзор на градба (3.1.+3.2.)"},null,null,null,{"$f":"SUM(N17:N18)","v":0},{"$f":"SUM(O17:O18)","v":0}]
[null,null,{"$f":"Т0!C18","v":"Изработка на Идеен проект"},{"$f":"Т0!D18:F18","v":"Ревизија на Идеен проект"},null,null,{"$f":"Т0!G18:H18","v":"Проектантски надзор"},null,null,{"$f":"Т0!J18","v":"3.1. Надзор на градба"},null,null,null,{"$f":"F7*D9*N42","v":0},{"$f":"N17/F13","v":0}]
[null,null,{"$f":"I42/G9","v":6.6286684453068156E-3},{"$f":"M42/G9","v":9.9430026679602239E-4},null,null,{"$f":"O42","v":0.01},null,null,{"$f":"Т0!J19","v":"3.2. Проектантски надзор"},null,null,null,{"$f":"F7*D9*O42","v":0},{"$f":"N18/F13","v":0}]
[]
[null,null,null,null,null,{"$f":"Т0!F21","v":"Изработка на проектна документација"},null,null,null,{"$f":"Т0!J21","v":"Ревизија на проектна документација"},null,null,null,{"$f":"Т0!N21","v":"Надзор на изградба"}]
[null,null,null,null,null,null,null,null,null,{"$f":"Т0!J22","v":"(15% од вредноста на Изработка на проектна документација)"}]
[null,null,null,null,null,{"$f":"Т0!F23","v":"Основен проект"},null,{"$f":"Т0!H23","v":"Идеен проект"},null,{"$f":"Т0!J23","v":"Основен проект"},null,{"$f":"Т0!L23","v":"Идеен проект"},null,{"$f":"Т0!N23","v":"Надзор на изградба"},{"$f":"Т0!O23","v":"Проектантски надзор"}]
[null,null,null,null,null,null,null,{"$f":"Т0!H24","v":"(30% од вредноста на основниот проект)"},null,null,null,{"$f":"Т0!L24","v":"(30% од вредноста на ревизија на основниот проект)"}]
[null,null,{"$f":"Т0!C25","v":"Вид на проект"},{"$f":"Т0!D25","v":"Удел"},null,{"$f":"Т0!F25","v":"Минимална цена"},null,{"$f":"Т0!H25","v":"Минимална цена"},null,{"$f":"Т0!J25","v":"Минимална цена"},null,{"$f":"Т0!L25","v":"Минимална цена"},null,{"$f":"Т0!N25","v":"Минимален процент од инвестиција"},{"$f":"Т0!O25","v":"Минимален процент од инвестиција"}]
[null,null,{"$f":"Т0!C26","v":"(според намената)"},{"$f":"Т0!D26","v":"[%]"},null,{"$f":"Т0!F26","v":"[денари/m²]"},{"$f":"Т0!G26","v":"[€/m²]"},{"$f":"Т0!H26","v":"[денари/m²]"},{"$f":"Т0!I26","v":"[€/m²]"},{"$f":"Т0!J26","v":"[денари/m²]"},{"$f":"Т0!K26","v":"[€/m²]"},{"$f":"Т0!L26","v":"[денари/m²]"},{"$f":"Т0!M26","v":"[€/m²]"},{"$f":"Т0!N26","v":"[%]"},"[%]"]
[]
[null,null,{"$f":"Т0!C28","v":"Архитектонски проект"},{"$f":"F27/F42","v":0.38095238095238093},null,640,{"$f":"F27/F13","v":10.32258064516129},{"$f":"F27*0.3","v":192},{"$f":"H27/F13","v":3.096774193548387},{"$f":"F27*0.15","v":96},{"$f":"J27/F13","v":1.5483870967741935},{"$f":"J27*0.3","v":28.799999999999997},{"$f":"L27/F13","v":0.46451612903225803},{"$f":"N$42*(F27/$F$42*100)","v":0.95238095238095244},{"$f":"O$42*(F27/$F$42*100)","v":0.38095238095238093}]
[null,null,{"$f":"Т0!C29","v":"Градежно-конструктивен проект"},{"$f":"F28/F42","v":0.21428571428571427},null,360,{"$f":"F28/F13","v":5.806451612903226},108,{"$f":"H28/F13","v":1.7419354838709677},54,{"$f":"J28/F13","v":0.87096774193548387},16.2,{"$f":"L28/F13","v":0.26129032258064516},0.5357142857142857,0.21428571428571427]
[null,null,{"$f":"Т0!C30","v":"Електротехнички проект"},{"$f":"F29/F42","v":0.10714285714285714},null,180,{"$f":"F29/F13","v":2.903225806451613},54,{"$f":"H29/F13","v":0.87096774193548387},27,{"$f":"J29/F13","v":0.43548387096774194},8.1,{"$f":"L29/F13","v":0.13064516129032258},0.26785714285714285,0.10714285714285714]
[null,null,{"$f":"Т0!C32","v":"Проект за водовод и канализација"},{"$f":"F30/F42","v":5.4166666666666669E-2},null,91,{"$f":"F30/F13","v":1.467741935483871},27.3,{"$f":"H30/F13","v":0.44032258064516128},13.65,{"$f":"J30/F13","v":0.22016129032258064},4.0949999999999998,{"$f":"L30/F13","v":6.6048387096774186E-2},0.13541666666666669,5.4166666666666669E-2]
[null,null,{"$f":"Т0!C33","v":"Термотехнички проект"},{"$f":"F31/F42","v":8.3333333333333329E-2},null,140,{"$f":"F31/F13","v":2.2580645161290325},42,{"$f":"H31/F13","v":0.67741935483870963},21,{"$f":"J31/F13","v":0.33870967741935482},6.3,{"$f":"L31/F13","v":0.10161290322580645},0.20833333333333331,8.3333333333333329E-2]
[null,null,{"$f":"Т0!C36","v":"Технолошки проект"},{"$f":"F32/F42","v":2.3809523809523808E-2},null,40,{"$f":"F32/F13","v":0.64516129032258063},12,{"$f":"H32/F13","v":0.19354838709677419},6,{"$f":"J32/F13","v":9.6774193548387094E-2},1.7999999999999998,{"$f":"L32/F13","v":2.9032258064516127E-2},5.9523809523809527E-2,2.3809523809523808E-2]
[null,null,{"$f":"Т0!C44","v":"Проект за  партерно уредување и сообраќај"},{"$f":"F33/F42","v":2.0833333333333332E-2},null,35,{"$f":"F33/F13","v":0.56451612903225812},10.5,{"$f":"H33/F13","v":0.16935483870967741},5.25,{"$f":"J33/F13","v":8.4677419354838704E-2},1.575,{"$f":"L33/F13","v":2.5403225806451612E-2},5.2083333333333329E-2,2.0833333333333332E-2]
[null,null,{"$f":"Т0!C38","v":"Елаборат за заштита од пожари"},{"$f":"F34/F42","v":1.7857142857142856E-2},null,30,{"$f":"F34/F13","v":0.4838709677419355},9,{"$f":"H34/F13","v":0.14516129032258066},4.5,{"$f":"J34/F13","v":7.2580645161290328E-2},1.3499999999999999,{"$f":"L34/F13","v":2.1774193548387093E-2},4.4642857142857144E-2,1.7857142857142856E-2]
[null,null,{"$f":"Т0!C39","v":"Елаборат за заштита при работа"},{"$f":"F35/F42","v":1.488095238095238E-2},null,25,{"$f":"F35/F13","v":0.40322580645161288},7.5,{"$f":"H35/F13","v":0.12096774193548387},3.75,{"$f":"J35/F13","v":6.0483870967741937E-2},1.125,{"$f":"L35/F13","v":1.8145161290322582E-2},3.7202380952380952E-2,1.488095238095238E-2]
[null,null,{"$f":"Т0!C42","v":"Елаборат за енергетска ефикасност"},{"$f":"F36/F42","v":1.1904761904761904E-2},null,20,{"$f":"F36/F13","v":0.32258064516129031},6,{"$f":"H36/F13","v":9.6774193548387094E-2},{"$f":"F36*0.15","v":3},{"$f":"J36/F13","v":4.8387096774193547E-2},{"$f":"J36*0.3","v":0.89999999999999991},{"$f":"L36/F13","v":1.4516129032258063E-2},{"$f":"N$42*(F36/$F$42*100)","v":2.9761904761904764E-2},{"$f":"O$42*(F36/$F$42*100)","v":1.1904761904761904E-2}]
[null,null,{"$f":"Т0!C43","v":"Елаборат за заштита на животната средина"},{"$f":"F37/F42","v":8.9285714285714281E-3},null,15,0.24193548387096775,4.5,7.2580645161290328E-2,2.25,{"$f":"J37/F13","v":3.6290322580645164E-2},0.67499999999999993,{"$f":"L37/F13","v":1.0887096774193547E-2},2.2321428571428572E-2,8.9285714285714281E-3]
[null,null,{"$f":"Т0!C37","v":"Сообраќаен проект"},{"$f":"F38/F42","v":1.1904761904761904E-2},null,20,{"$f":"F38/F13","v":0.32258064516129031},{"$f":"F38*0.3","v":6},{"$f":"H38/F13","v":9.6774193548387094E-2},{"$f":"F38*0.15","v":3},{"$f":"J38/F13","v":4.8387096774193547E-2},{"$f":"J38*0.3","v":0.89999999999999991},{"$f":"L38/F13","v":1.4516129032258063E-2},3.0178657653307586E-2,1.2071463061323034E-2]
[]
[null,null,{"$f":"Т0!C47","v":"Координација на проект"},{"$f":"F40/F42","v":0.05},null,{"$f":"SUM(F27:F38)/0.95-SUM(F27:F38)","v":84},{"$f":"F40/F13","v":1.3548387096774193},{"$f":"SUM(H27:H36)/0.95-SUM(H27:H36)","v":24.647368421052647},{"$f":"H40/F13","v":0.39753820033955883},{"$f":"F40*0.15","v":12.6},{"$f":"J40/F13","v":0.20322580645161289},{"$f":"SUM(L27:L36)/0.95-SUM(L27:L36)","v":3.6971052631578942},{"$f":"L40/F13","v":5.9630730050933778E-2},{"$f":"N$42*(F40/$F$42*100)","v":0.125},{"$f":"O$42*(F40/$F$42*100)","v":0.05}]
[]
[null,null,{"$f":"Т0!C49","v":"Вкупно:"},{"$f":"SUM(D27:D40)","v":1},null,{"$f":"SUM(F26:F41)","v":1680},{"$f":"F42/F13","v":27.096774193548388},{"$f":"SUM(H27:H40)","v":503.44736842105266},{"$f":"H42/F13","v":8.1201188455008495},{"$f":"SUM(J27:J40)","v":252},{"$f":"J42/F13","v":4.064516129032258},{"$f":"SUM(L27:L40)","v":75.517105263157902},{"$f":"L42/F13","v":1.2180178268251274},2.5000000000000001E-2,0.01]

{"sheet":"В2-III","index":19,"n_rows":42,"n_cols":15,"rows_kept":42,"cut":false,"hidden":true,"merged":[[4,2,4,14],[7,6,7,7],[10,9,10,12],[11,9,11,12],[2,3,2,14],[6,9,6,12],[6,13,6,14],[7,9,7,12],[8,9,8,12],[10,3,10,5],[10,6,10,7],[12,9,12,12],[8,3,8,5],[8,6,8,7],[9,3,9,5],[9,6,9,7],[9,9,9,12],[11,3,11,5],[11,6,11,7],[21,13,22,13],[16,9,16,12],[15,3,15,5],[15,6,15,7],[16,3,16,5],[16,6,16,7],[21,14,22,14],[22,7,22,8],[22,11,22,12],[12,6,12,7],[17,9,17,12],[19,5,20,8],[19,9,19,12],[19,13,20,14],[20,9,20,12],[17,3,17,5],[17,6,17,7],[15,9,15,12],[14,9,14,12],[14,3,14,5],[14,6,14,7],[13,9,13,12],[23,5,23,6],[23,7,23,8],[23,9,23,10],[23,11,23,12],[21,5,22,6],[21,7,21,8],[21,9,22,10],[21,11,21,12]]}
[]
[]
[null,null,{"$f":"' Помош - Каталог на намени'!D22","v":"В2-III"},{"$f":"' Помош - Каталог на намени'!E22","v":"ЗДРАВСТВЕНА И СОЦИЈАЛНА ЗАШТИТА\n(III ГРУПА)"}]
[]
[null,null,{"$f":"' Помош - Каталог на намени'!F22","v":"В2.2. - Амбуланти од општа медицина и стоматологија, лаборатории и други од примарната здравствена заштита\nВ2.5. - Установи од примарната здравствена заштита: центри за јавно здравје, епидемиолошки заводи и здравствени домови"}]
[]
[null,null,{"$f":"Т0!C8","v":"Површина на градба"},null,null,{"$f":"Калкулатор!D9","v":0},{"$f":"Т0!G8","v":"m²"},{"$f":"Т0!H8","v":"(варијабла)"},null,{"$f":"Т0!J8","v":"Вид на инженерска услуга"},null,null,null,{"$f":"Т0!N8","v":"Минимална вкупна цена"}]
[null,null,null,null,null,null,null,null,null,{"$f":"Т0!J9","v":"1. Изработка на проектна документација (1.1.+1.2)"},null,null,null,{"$f":"SUM(N9:N10)","v":0},{"$f":"SUM(O9:O10)","v":0}]
[null,null,{"$f":"Т0!C10","v":"Просечна цена на изведба за 1 m²"},{"$f":"G9*F13","v":68200},null,null,{"$f":"' Помош - Каталог на намени'!G22","v":1100},null,null,{"$f":"Т0!J10","v":"1.1. Изработка на основен проект"},null,null,null,{"$f":"F7*F42","v":0},{"$f":"N9/F13","v":0}]
[null,null,null,null,null,null,null,null,null,{"$f":"Т0!J11","v":"1.2. Изработка на идеен проект"},null,null,null,{"$f":"F7*H42","v":0},{"$f":"N10/F13","v":0}]
[null,null,{"$f":"Т0!C12","v":"Вкупна инвестициона градежна  вредност"},{"$f":"F7*D9","v":0},null,null,{"$f":"D11/F13","v":0}]
[null,null,null,null,null,null,null,null,null,{"$f":"Т0!J13","v":"2. Ревизија на проектна документација (2.1.+2.2.)"},null,null,null,{"$f":"SUM(N13:N14)","v":0},{"$f":"SUM(O13:O14)","v":0}]
[null,null,{"$f":"Т0!C14","v":"Вредност на евро валута"},{"$f":"Т0!D14","v":1},{"$f":"Т0!E14","v":"="},{"$f":"Т0!F14","v":62},null,null,null,{"$f":"Т0!J14","v":"2.1. Ревизија на основен проект"},null,null,null,{"$f":"F7*J42","v":0},{"$f":"N13/F13","v":0}]
[null,null,null,null,null,null,null,null,null,{"$f":"Т0!J15","v":"2.2. Ревизија на идеен проект"},null,null,null,{"$f":"F7*L42","v":0},{"$f":"N14/F13","v":0}]
[null,null,{"$f":"Т0!C16","v":"Изработка на Основен проект"},{"$f":"Т0!D16:F16","v":"Ревизија на Основен проект"},null,null,{"$f":"Т0!G16:H16","v":"Надзор на изградба"}]
[null,null,{"$f":"G42/G9","v":2.463343108504399E-2},{"$f":"K42/G9","v":3.6950146627565982E-3},null,null,{"$f":"N42","v":2.5000000000000001E-2},null,null,{"$f":"Т0!J17","v":"3. Надзор на градба (3.1.+3.2.)"},null,null,null,{"$f":"SUM(N17:N18)","v":0},{"$f":"SUM(O17:O18)","v":0}]
[null,null,{"$f":"Т0!C18","v":"Изработка на Идеен проект"},{"$f":"Т0!D18:F18","v":"Ревизија на Идеен проект"},null,null,{"$f":"Т0!G18:H18","v":"Проектантски надзор"},null,null,{"$f":"Т0!J18","v":"3.1. Надзор на градба"},null,null,null,{"$f":"F7*D9*N42","v":0},{"$f":"N17/F13","v":0}]
[null,null,{"$f":"I42/G9","v":7.3819262231825901E-3},{"$f":"M42/G9","v":1.1072889334773886E-3},null,null,{"$f":"O42","v":0.01},null,null,{"$f":"Т0!J19","v":"3.2. Проектантски надзор"},null,null,null,{"$f":"F7*D9*O42","v":0},{"$f":"N18/F13","v":0}]
[]
[null,null,null,null,null,{"$f":"Т0!F21","v":"Изработка на проектна документација"},null,null,null,{"$f":"Т0!J21","v":"Ревизија на проектна документација"},null,null,null,{"$f":"Т0!N21","v":"Надзор на изградба"}]
[null,null,null,null,null,null,null,null,null,{"$f":"Т0!J22","v":"(15% од вредноста на Изработка на проектна документација)"}]
[null,null,null,null,null,{"$f":"Т0!F23","v":"Основен проект"},null,{"$f":"Т0!H23","v":"Идеен проект"},null,{"$f":"Т0!J23","v":"Основен проект"},null,{"$f":"Т0!L23","v":"Идеен проект"},null,{"$f":"Т0!N23","v":"Надзор на изградба"},{"$f":"Т0!O23","v":"Проектантски надзор"}]
[null,null,null,null,null,null,null,{"$f":"Т0!H24","v":"(30% од вредноста на основниот проект)"},null,null,null,{"$f":"Т0!L24","v":"(30% од вредноста на ревизија на основниот проект)"}]
[null,null,{"$f":"Т0!C25","v":"Вид на проект"},{"$f":"Т0!D25","v":"Удел"},null,{"$f":"Т0!F25","v":"Минимална цена"},null,{"$f":"Т0!H25","v":"Минимална цена"},null,{"$f":"Т0!J25","v":"Минимална цена"},null,{"$f":"Т0!L25","v":"Минимална цена"},null,{"$f":"Т0!N25","v":"Минимален процент од инвестиција"},{"$f":"Т0!O25","v":"Минимален процент од инвестиција"}]
[null,null,{"$f":"Т0!C26","v":"(според намената)"},{"$f":"Т0!D26","v":"[%]"},null,{"$f":"Т0!F26","v":"[денари/m²]"},{"$f":"Т0!G26","v":"[€/m²]"},{"$f":"Т0!H26","v":"[денари/m²]"},{"$f":"Т0!I26","v":"[€/m²]"},{"$f":"Т0!J26","v":"[денари/m²]"},{"$f":"Т0!K26","v":"[€/m²]"},{"$f":"Т0!L26","v":"[денари/m²]"},{"$f":"Т0!M26","v":"[€/m²]"},{"$f":"Т0!N26","v":"[%]"},"[%]"]
[]
[null,null,{"$f":"Т0!C28","v":"Архитектонски проект"},{"$f":"F27/F42","v":0.375},null,630,{"$f":"F27/F13","v":10.161290322580646},{"$f":"F27*0.3","v":189},{"$f":"H27/F13","v":3.0483870967741935},{"$f":"F27*0.15","v":94.5},{"$f":"J27/F13","v":1.5241935483870968},{"$f":"J27*0.3","v":28.349999999999998},{"$f":"L27/F13","v":0.45725806451612899},{"$f":"N$42*(F27/$F$42*100)","v":0.9375},{"$f":"O$42*(F27/$F$42*100)","v":0.375}]
[null,null,{"$f":"Т0!C29","v":"Градежно-конструктивен проект"},{"$f":"F28/F42","v":0.22023809523809523},null,370,{"$f":"F28/F13","v":5.967741935483871},111,{"$f":"H28/F13","v":1.7903225806451613},55.5,{"$f":"J28/F13","v":0.89516129032258063},16.649999999999999,{"$f":"L28/F13","v":0.26854838709677414},0.55059523809523803,0.22023809523809523]
[null,null,{"$f":"Т0!C30","v":"Електротехнички проект"},{"$f":"F29/F42","v":0.10714285714285714},null,180,{"$f":"F29/F13","v":2.903225806451613},54,{"$f":"H29/F13","v":0.87096774193548387},27,{"$f":"J29/F13","v":0.43548387096774194},8.1,{"$f":"L29/F13","v":0.13064516129032258},0.26785714285714285,0.10714285714285714]
[null,null,{"$f":"Т0!C32","v":"Проект за водовод и канализација"},{"$f":"F30/F42","v":5.4166666666666669E-2},null,91,{"$f":"F30/F13","v":1.467741935483871},27.3,{"$f":"H30/F13","v":0.44032258064516128},13.65,{"$f":"J30/F13","v":0.22016129032258064},4.0949999999999998,{"$f":"L30/F13","v":6.6048387096774186E-2},0.13541666666666669,5.4166666666666669E-2]
[null,null,{"$f":"Т0!C33","v":"Термотехнички проект"},{"$f":"F31/F42","v":8.3333333333333329E-2},null,140,{"$f":"F31/F13","v":2.2580645161290325},42,{"$f":"H31/F13","v":0.67741935483870963},21,{"$f":"J31/F13","v":0.33870967741935482},6.3,{"$f":"L31/F13","v":0.10161290322580645},0.20833333333333331,8.3333333333333329E-2]
[null,null,{"$f":"Т0!C36","v":"Технолошки проект"},{"$f":"F32/F42","v":2.3809523809523808E-2},null,40,{"$f":"F32/F13","v":0.64516129032258063},12,{"$f":"H32/F13","v":0.19354838709677419},6,{"$f":"J32/F13","v":9.6774193548387094E-2},1.7999999999999998,{"$f":"L32/F13","v":2.9032258064516127E-2},5.9523809523809527E-2,2.3809523809523808E-2]
[null,null,{"$f":"Т0!C44","v":"Проект за  партерно уредување и сообраќај"},{"$f":"F33/F42","v":2.0833333333333332E-2},null,35,{"$f":"F33/F13","v":0.56451612903225812},10.5,{"$f":"H33/F13","v":0.16935483870967741},5.25,{"$f":"J33/F13","v":8.4677419354838704E-2},1.575,{"$f":"L33/F13","v":2.5403225806451612E-2},5.2083333333333329E-2,2.0833333333333332E-2]
[null,null,{"$f":"Т0!C38","v":"Елаборат за заштита од пожари"},{"$f":"F34/F42","v":1.7857142857142856E-2},null,30,{"$f":"F34/F13","v":0.4838709677419355},9,{"$f":"H34/F13","v":0.14516129032258066},4.5,{"$f":"J34/F13","v":7.2580645161290328E-2},1.3499999999999999,{"$f":"L34/F13","v":2.1774193548387093E-2},4.4642857142857144E-2,1.7857142857142856E-2]
[null,null,{"$f":"Т0!C39","v":"Елаборат за заштита при работа"},{"$f":"F35/F42","v":1.488095238095238E-2},null,25,{"$f":"F35/F13","v":0.40322580645161288},7.5,{"$f":"H35/F13","v":0.12096774193548387},3.75,{"$f":"J35/F13","v":6.0483870967741937E-2},1.125,{"$f":"L35/F13","v":1.8145161290322582E-2},3.7202380952380952E-2,1.488095238095238E-2]
[null,null,{"$f":"Т0!C42","v":"Елаборат за енергетска ефикасност"},{"$f":"F36/F42","v":1.1904761904761904E-2},null,20,{"$f":"F36/F13","v":0.32258064516129031},6,{"$f":"H36/F13","v":9.6774193548387094E-2},{"$f":"F36*0.15","v":3},{"$f":"J36/F13","v":4.8387096774193547E-2},{"$f":"J36*0.3","v":0.89999999999999991},{"$f":"L36/F13","v":1.4516129032258063E-2},{"$f":"N$42*(F36/$F$42*100)","v":2.9761904761904764E-2},{"$f":"O$42*(F36/$F$42*100)","v":1.1904761904761904E-2}]
[null,null,{"$f":"Т0!C43","v":"Елаборат за заштита на животната средина"},{"$f":"F37/F42","v":8.9285714285714281E-3},null,15,0.24193548387096775,4.5,7.2580645161290328E-2,2.25,{"$f":"J37/F13","v":3.6290322580645164E-2},0.67499999999999993,{"$f":"L37/F13","v":1.0887096774193547E-2},2.2321428571428572E-2,8.9285714285714281E-3]
[null,null,{"$f":"Т0!C37","v":"Сообраќаен проект"},{"$f":"F38/F42","v":1.1904761904761904E-2},null,20,{"$f":"F38/F13","v":0.32258064516129031},{"$f":"F38*0.3","v":6},{"$f":"H38/F13","v":9.6774193548387094E-2},{"$f":"F38*0.15","v":3},{"$f":"F13","v":62},{"$f":"J38*0.3","v":0.89999999999999991},{"$f":"L38/F13","v":1.4516129032258063E-2},2.9986805805445604E-2,1.1994722322178242E-2]
[]
[null,null,{"$f":"Т0!C47","v":"Координација на проект"},{"$f":"F40/F42","v":0.05},null,{"$f":"SUM(F27:F38)/0.95-SUM(F27:F38)","v":84},{"$f":"F40/F13","v":1.3548387096774193},{"$f":"SUM(H27:H36)/0.95-SUM(H27:H36)","v":24.647368421052647},{"$f":"H40/F13","v":0.39753820033955883},{"$f":"F40*0.15","v":12.6},{"$f":"J40/F13","v":0.20322580645161289},{"$f":"SUM(L27:L36)/0.95-SUM(L27:L36)","v":3.6971052631578942},{"$f":"L40/F13","v":5.9630730050933778E-2},{"$f":"N$42*(F40/$F$42*100)","v":0.125},{"$f":"O$42*(F40/$F$42*100)","v":0.05}]
[]
[null,null,{"$f":"Т0!C49","v":"Вкупно:"},{"$f":"SUM(D27:D40)","v":1},null,{"$f":"SUM(F26:F41)","v":1680},{"$f":"F42/F13","v":27.096774193548388},{"$f":"SUM(H27:H40)","v":503.44736842105266},{"$f":"H42/F13","v":8.1201188455008495},{"$f":"SUM(J27:J40)","v":252},{"$f":"J42/F13","v":4.064516129032258},{"$f":"SUM(L27:L40)","v":75.517105263157902},{"$f":"L42/F13","v":1.2180178268251274},2.5000000000000001E-2,0.01]

{"sheet":"В2-IV","index":20,"n_rows":41,"n_cols":15,"rows_kept":41,"cut":false,"hidden":true,"merged":[[4,2,4,14],[7,6,7,7],[10,9,10,12],[11,9,11,12],[2,3,2,14],[6,9,6,12],[6,13,6,14],[7,9,7,12],[8,9,8,12],[10,3,10,5],[10,6,10,7],[12,9,12,12],[8,3,8,5],[8,6,8,7],[9,3,9,5],[9,6,9,7],[9,9,9,12],[11,3,11,5],[11,6,11,7],[21,13,22,13],[16,9,16,12],[15,3,15,5],[15,6,15,7],[16,3,16,5],[16,6,16,7],[21,14,22,14],[22,7,22,8],[22,11,22,12],[12,6,12,7],[17,9,17,12],[19,5,20,8],[19,9,19,12],[19,13,20,14],[20,9,20,12],[17,3,17,5],[17,6,17,7],[15,9,15,12],[14,9,14,12],[14,3,14,5],[14,6,14,7],[13,9,13,12],[23,5,23,6],[23,7,23,8],[23,9,23,10],[23,11,23,12],[21,5,22,6],[21,7,21,8],[21,9,22,10],[21,11,21,12]]}
[]
[]
[null,null,{"$f":"' Помош - Каталог на намени'!D23","v":"В2-IV"},{"$f":"' Помош - Каталог на намени'!E23","v":"ЗДРАВСТВЕНА И СОЦИЈАЛНА ЗАШТИТА\n(IV ГРУПА)"}]
[]
[null,null,{"$f":"' Помош - Каталог на намени'!F23","v":"В2.7. - Институции за социјална грижа\nВ2.8. - Установи за згрижување на деца од претшколска возраст – детски градинки, јасли и сл."}]
[]
[null,null,{"$f":"Т0!C8","v":"Површина на градба"},null,null,{"$f":"Калкулатор!D9","v":0},{"$f":"Т0!G8","v":"m²"},{"$f":"Т0!H8","v":"(варијабла)"},null,{"$f":"Т0!J8","v":"Вид на инженерска услуга"},null,null,null,{"$f":"Т0!N8","v":"Минимална вкупна цена"}]
[null,null,null,null,null,null,null,null,null,{"$f":"Т0!J9","v":"1. Изработка на проектна документација (1.1.+1.2)"},null,null,null,{"$f":"SUM(N9:N10)","v":0},{"$f":"SUM(O9:O10)","v":0}]
[null,null,{"$f":"Т0!C10","v":"Просечна цена на изведба за 1 m²"},{"$f":"G9*F13","v":56420},null,null,{"$f":"' Помош - Каталог на намени'!G23","v":910},null,null,{"$f":"Т0!J10","v":"1.1. Изработка на основен проект"},null,null,null,{"$f":"F7*F41","v":0},{"$f":"N9/F13","v":0}]
[null,null,null,null,null,null,null,null,null,{"$f":"Т0!J11","v":"1.2. Изработка на идеен проект"},null,null,null,{"$f":"F7*H41","v":0},{"$f":"N10/F13","v":0}]
[null,null,{"$f":"Т0!C12","v":"Вкупна инвестициона градежна  вредност"},{"$f":"F7*D9","v":0},null,null,{"$f":"D11/F13","v":0}]
[null,null,null,null,null,null,null,null,null,{"$f":"Т0!J13","v":"2. Ревизија на проектна документација (2.1.+2.2.)"},null,null,null,{"$f":"SUM(N13:N14)","v":0},{"$f":"SUM(O13:O14)","v":0}]
[null,null,{"$f":"Т0!C14","v":"Вредност на евро валута"},{"$f":"Т0!D14","v":1},{"$f":"Т0!E14","v":"="},{"$f":"Т0!F14","v":62},null,null,null,{"$f":"Т0!J14","v":"2.1. Ревизија на основен проект"},null,null,null,{"$f":"F7*J41","v":0},{"$f":"N13/F13","v":0}]
[null,null,null,null,null,null,null,null,null,{"$f":"Т0!J15","v":"2.2. Ревизија на идеен проект"},null,null,null,{"$f":"F7*L41","v":0},{"$f":"N14/F13","v":0}]
[null,null,{"$f":"Т0!C16","v":"Изработка на Основен проект"},{"$f":"Т0!D16:F16","v":"Ревизија на Основен проект"},null,null,{"$f":"Т0!G16:H16","v":"Надзор на изградба"}]
[null,null,{"$f":"G41/G9","v":2.1269053527118043E-2},{"$f":"K41/G9","v":3.1903580290677065E-3},null,null,{"$f":"N41","v":2.5000000000000001E-2},null,null,{"$f":"Т0!J17","v":"3. Надзор на градба (3.1.+3.2.)"},null,null,null,{"$f":"SUM(N17:N18)","v":0},{"$f":"SUM(O17:O18)","v":0}]
[null,null,{"$f":"Т0!C18","v":"Изработка на Идеен проект"},{"$f":"Т0!D18:F18","v":"Ревизија на Идеен проект"},null,null,{"$f":"Т0!G18:H18","v":"Проектантски надзор"},null,null,{"$f":"Т0!J18","v":"3.1. Надзор на градба"},null,null,null,{"$f":"F7*D9*N41","v":0},{"$f":"N17/F13","v":0}]
[null,null,{"$f":"I41/G9","v":6.3709210992742406E-3},{"$f":"M41/G9","v":9.5563816489113588E-4},null,null,{"$f":"O41","v":0.01},null,null,{"$f":"Т0!J19","v":"3.2. Проектантски надзор"},null,null,null,{"$f":"F7*D9*O41","v":0},{"$f":"N18/F13","v":0}]
[]
[null,null,null,null,null,{"$f":"Т0!F21","v":"Изработка на проектна документација"},null,null,null,{"$f":"Т0!J21","v":"Ревизија на проектна документација"},null,null,null,{"$f":"Т0!N21","v":"Надзор на изградба"}]
[null,null,null,null,null,null,null,null,null,{"$f":"Т0!J22","v":"(15% од вредноста на Изработка на проектна документација)"}]
[null,null,null,null,null,{"$f":"Т0!F23","v":"Основен проект"},null,{"$f":"Т0!H23","v":"Идеен проект"},null,{"$f":"Т0!J23","v":"Основен проект"},null,{"$f":"Т0!L23","v":"Идеен проект"},null,{"$f":"Т0!N23","v":"Надзор на изградба"},{"$f":"Т0!O23","v":"Проектантски надзор"}]
[null,null,null,null,null,null,null,{"$f":"Т0!H24","v":"(30% од вредноста на основниот проект)"},null,null,null,{"$f":"Т0!L24","v":"(30% од вредноста на ревизија на основниот проект)"}]
[null,null,{"$f":"Т0!C25","v":"Вид на проект"},{"$f":"Т0!D25","v":"Удел"},null,{"$f":"Т0!F25","v":"Минимална цена"},null,{"$f":"Т0!H25","v":"Минимална цена"},null,{"$f":"Т0!J25","v":"Минимална цена"},null,{"$f":"Т0!L25","v":"Минимална цена"},null,{"$f":"Т0!N25","v":"Минимален процент од инвестиција"},{"$f":"Т0!O25","v":"Минимален процент од инвестиција"}]
[null,null,{"$f":"Т0!C26","v":"(според намената)"},{"$f":"Т0!D26","v":"[%]"},null,{"$f":"Т0!F26","v":"[денари/m²]"},{"$f":"Т0!G26","v":"[€/m²]"},{"$f":"Т0!H26","v":"[денари/m²]"},{"$f":"Т0!I26","v":"[€/m²]"},{"$f":"Т0!J26","v":"[денари/m²]"},{"$f":"Т0!K26","v":"[€/m²]"},{"$f":"Т0!L26","v":"[денари/m²]"},{"$f":"Т0!M26","v":"[€/m²]"},{"$f":"Т0!N26","v":"[%]"},"[%]"]
[]
[null,null,{"$f":"Т0!C28","v":"Архитектонски проект"},{"$f":"F27/F41","v":0.39166666666666666},null,470,{"$f":"F27/F13","v":7.580645161290323},{"$f":"F27*0.3","v":141},{"$f":"H27/F13","v":2.274193548387097},{"$f":"F27*0.15","v":70.5},{"$f":"J27/F13","v":1.1370967741935485},{"$f":"J27*0.3","v":21.15},{"$f":"L27/F13","v":0.34112903225806451},{"$f":"N$41*(F27/$F$41*100)","v":0.97916666666666663},{"$f":"O$41*(F27/$F$41*100)","v":0.39166666666666666}]
[null,null,{"$f":"Т0!C29","v":"Градежно-конструктивен проект"},{"$f":"F28/F41","v":0.23333333333333334},null,280,{"$f":"F28/F13","v":4.5161290322580649},84,{"$f":"H28/F13","v":1.3548387096774193},42,{"$f":"J28/F13","v":0.67741935483870963},12.6,{"$f":"L28/F13","v":0.20322580645161289},0.58333333333333337,0.23333333333333334]
[null,null,{"$f":"Т0!C30","v":"Електротехнички проект"},{"$f":"F29/F41","v":0.10249999999999999},null,123,{"$f":"F29/F13","v":1.9838709677419355},36.9,{"$f":"H29/F13","v":0.59516129032258058},18.45,{"$f":"J29/F13","v":0.29758064516129029},5.5349999999999993,{"$f":"L29/F13","v":8.9274193548387087E-2},0.25625000000000003,0.10250000000000001]
[null,null,{"$f":"Т0!C32","v":"Проект за водовод и канализација"},{"$f":"F30/F41","v":4.583333333333333E-2},null,55,{"$f":"F30/F13","v":0.88709677419354838},16.5,{"$f":"H30/F13","v":0.2661290322580645},8.25,{"$f":"J30/F13","v":0.13306451612903225},2.4750000000000001,{"$f":"L30/F13","v":3.9919354838709682E-2},0.11458333333333333,4.583333333333333E-2]
[null,null,{"$f":"Т0!C33","v":"Термотехнички проект"},{"$f":"F31/F41","v":7.6666666666666661E-2},null,92,{"$f":"F31/F13","v":1.4838709677419355},27.599999999999998,{"$f":"H31/F13","v":0.44516129032258062},13.799999999999999,{"$f":"J31/F13","v":0.22258064516129031},4.1399999999999997,{"$f":"L31/F13","v":6.6774193548387095E-2},0.19166666666666665,7.6666666666666661E-2]
[null,null,{"$f":"Т0!C44","v":"Проект за  партерно уредување и сообраќај"},{"$f":"F32/F41","v":2.5000000000000001E-2},null,30,{"$f":"F32/F13","v":0.4838709677419355},9,{"$f":"H32/F13","v":0.14516129032258066},4.5,{"$f":"J32/F13","v":7.2580645161290328E-2},1.3499999999999999,{"$f":"L32/F13","v":2.1774193548387093E-2},6.25E-2,2.5000000000000001E-2]
[null,null,{"$f":"Т0!C38","v":"Елаборат за заштита од пожари"},{"$f":"F33/F41","v":1.6666666666666666E-2},null,20,{"$f":"F33/F13","v":0.32258064516129031},6,{"$f":"H33/F13","v":9.6774193548387094E-2},3,{"$f":"J33/F13","v":4.8387096774193547E-2},0.89999999999999991,{"$f":"L33/F13","v":1.4516129032258063E-2},4.1666666666666671E-2,1.6666666666666666E-2]
[null,null,{"$f":"Т0!C39","v":"Елаборат за заштита при работа"},{"$f":"F34/F41","v":1.2500000000000001E-2},null,15,{"$f":"F34/F13","v":0.24193548387096775},4.5,{"$f":"H34/F13","v":7.2580645161290328E-2},2.25,{"$f":"J34/F13","v":3.6290322580645164E-2},0.67499999999999993,{"$f":"L34/F13","v":1.0887096774193547E-2},3.125E-2,1.2500000000000001E-2]
[null,null,{"$f":"Т0!C42","v":"Елаборат за енергетска ефикасност"},{"$f":"F35/F41","v":1.6666666666666666E-2},null,20,{"$f":"F35/F13","v":0.32258064516129031},6,{"$f":"H35/F13","v":9.6774193548387094E-2},{"$f":"F35*0.15","v":3},{"$f":"J35/F13","v":4.8387096774193547E-2},{"$f":"J35*0.3","v":0.89999999999999991},{"$f":"L35/F13","v":1.4516129032258063E-2},{"$f":"N$41*(F35/$F$41*100)","v":4.1666666666666671E-2},{"$f":"O$41*(F35/$F$41*100)","v":1.6666666666666666E-2}]
[null,null,{"$f":"Т0!C43","v":"Елаборат за заштита на животната средина"},{"$f":"F36/F41","v":1.2500000000000001E-2},null,15,0.24193548387096775,4.5,7.2580645161290328E-2,2.25,{"$f":"J36/F13","v":3.6290322580645164E-2},0.67499999999999993,{"$f":"L36/F13","v":1.0887096774193547E-2},3.125E-2,1.2500000000000001E-2]
[null,null,{"$f":"Т0!C37","v":"Сообраќаен проект"},{"$f":"F37/F41","v":1.6666666666666666E-2},null,20,{"$f":"F37/F13","v":0.32258064516129031},{"$f":"F37*0.3","v":6},{"$f":"H37/F13","v":9.6774193548387094E-2},{"$f":"F37*0.15","v":3},{"$f":"J37/F13","v":4.8387096774193547E-2},{"$f":"J37*0.3","v":0.89999999999999991},{"$f":"L37/F13","v":1.4516129032258063E-2},4.3260079598546462E-2,1.7304031839418584E-2]
[]
[null,null,{"$f":"Т0!C47","v":"Координација на проект"},{"$f":"F39/F41","v":0.05},null,{"$f":"SUM(F27:F38)/0.95-SUM(F27:F38)","v":60},{"$f":"F39/F13","v":0.967741935483871},{"$f":"SUM(H27:H35)/0.95-SUM(H27:H35)","v":17.447368421052659},{"$f":"H39/F13","v":0.28140916808149447},{"$f":"F39*0.15","v":9},{"$f":"J39/F13","v":0.14516129032258066},{"$f":"SUM(L27:L35)/0.95-SUM(L27:L35)","v":2.6171052631578959},{"$f":"L39/F13","v":4.221137521222413E-2},{"$f":"N$41*(F39/$F$41*100)","v":0.125},{"$f":"O$41*(F39/$F$41*100)","v":0.05}]
[]
[null,null,{"$f":"Т0!C49","v":"Вкупно:"},{"$f":"SUM(D27:D39)","v":1},null,{"$f":"SUM(F26:F40)","v":1200},{"$f":"F41/F13","v":19.35483870967742},{"$f":"SUM(H27:H39)","v":359.44736842105266},{"$f":"H41/F13","v":5.7975382003395586},{"$f":"SUM(J27:J39)","v":180},{"$f":"J41/F13","v":2.903225806451613},{"$f":"SUM(L27:L39)","v":53.917105263157886},{"$f":"L41/F13","v":0.86963073005093361},2.5000000000000001E-2,0.01]

{"sheet":"В2-V","index":21,"n_rows":41,"n_cols":15,"rows_kept":41,"cut":false,"hidden":true,"merged":[[4,2,4,14],[7,6,7,7],[10,9,10,12],[11,9,11,12],[2,3,2,14],[6,9,6,12],[6,13,6,14],[7,9,7,12],[8,9,8,12],[10,3,10,5],[10,6,10,7],[12,9,12,12],[8,3,8,5],[8,6,8,7],[9,3,9,5],[9,6,9,7],[9,9,9,12],[11,3,11,5],[11,6,11,7],[21,13,22,13],[16,9,16,12],[15,3,15,5],[15,6,15,7],[16,3,16,5],[16,6,16,7],[21,14,22,14],[22,7,22,8],[22,11,22,12],[12,6,12,7],[17,9,17,12],[19,5,20,8],[19,9,19,12],[19,13,20,14],[20,9,20,12],[17,3,17,5],[17,6,17,7],[15,9,15,12],[14,9,14,12],[14,3,14,5],[14,6,14,7],[13,9,13,12],[23,5,23,6],[23,7,23,8],[23,9,23,10],[23,11,23,12],[21,5,22,6],[21,7,21,8],[21,9,22,10],[21,11,21,12]]}
[]
[]
[null,null,{"$f":"' Помош - Каталог на намени'!D24","v":"В2-V"},{"$f":"' Помош - Каталог на намени'!E24","v":"ЗДРАВСТВЕНА И СОЦИЈАЛНА ЗАШТИТА\n(V ГРУПА)"}]
[]
[null,null,{"$f":"' Помош - Каталог на намени'!F24","v":"В2.9. - Згради за ветеринарна заштита: болници, станици, стационари и ординации за домашни миленичиња"}]
[]
[null,null,{"$f":"Т0!C8","v":"Површина на градба"},null,null,{"$f":"Калкулатор!D9","v":0},{"$f":"Т0!G8","v":"m²"},{"$f":"Т0!H8","v":"(варијабла)"},null,{"$f":"Т0!J8","v":"Вид на инженерска услуга"},null,null,null,{"$f":"Т0!N8","v":"Минимална вкупна цена"}]
[null,null,null,null,null,null,null,null,null,{"$f":"Т0!J9","v":"1. Изработка на проектна документација (1.1.+1.2)"},null,null,null,{"$f":"SUM(N9:N10)","v":0},{"$f":"SUM(O9:O10)","v":0}]
[null,null,{"$f":"Т0!C10","v":"Просечна цена на изведба за 1 m²"},{"$f":"G9*F13","v":75950},null,null,{"$f":"' Помош - Каталог на намени'!G24","v":1225},null,null,{"$f":"Т0!J10","v":"1.1. Изработка на основен проект"},null,null,null,{"$f":"F7*F41","v":0},{"$f":"N9/F13","v":0}]
[null,null,null,null,null,null,null,null,null,{"$f":"Т0!J11","v":"1.2. Изработка на идеен проект"},null,null,null,{"$f":"F7*H41","v":0},{"$f":"N10/F13","v":0}]
[null,null,{"$f":"Т0!C12","v":"Вкупна инвестициона градежна  вредност"},{"$f":"F7*D9","v":0},null,null,{"$f":"D11/F13","v":0}]
[null,null,null,null,null,null,null,null,null,{"$f":"Т0!J13","v":"2. Ревизија на проектна документација (2.1.+2.2.)"},null,null,null,{"$f":"SUM(N13:N14)","v":0},{"$f":"SUM(O13:O14)","v":0}]
[null,null,{"$f":"Т0!C14","v":"Вредност на евро валута"},{"$f":"Т0!D14","v":1},{"$f":"Т0!E14","v":"="},{"$f":"Т0!F14","v":62},null,null,null,{"$f":"Т0!J14","v":"2.1. Ревизија на основен проект"},null,null,null,{"$f":"F7*J41","v":0},{"$f":"N13/F13","v":0}]
[null,null,null,null,null,null,null,null,null,{"$f":"Т0!J15","v":"2.2. Ревизија на идеен проект"},null,null,null,{"$f":"F7*L41","v":0},{"$f":"N14/F13","v":0}]
[null,null,{"$f":"Т0!C16","v":"Изработка на Основен проект"},{"$f":"Т0!D16:F16","v":"Ревизија на Основен проект"},null,null,{"$f":"Т0!G16:H16","v":"Надзор на изградба"}]
[null,null,{"$f":"G41/G9","v":1.5799868334430547E-2},{"$f":"K41/G9","v":2.369980250164582E-3},null,null,{"$f":"N41","v":2.5000000000000001E-2},null,null,{"$f":"Т0!J17","v":"3. Надзор на градба (3.1.+3.2.)"},null,null,null,{"$f":"SUM(N17:N18)","v":0},{"$f":"SUM(O17:O18)","v":0}]
[null,null,{"$f":"Т0!C18","v":"Изработка на Идеен проект"},{"$f":"Т0!D18:F18","v":"Ревизија на Идеен проект"},null,null,{"$f":"Т0!G18:H18","v":"Проектантски надзор"},null,null,{"$f":"Т0!J18","v":"3.1. Надзор на градба"},null,null,null,{"$f":"F7*D9*N41","v":0},{"$f":"N17/F13","v":0}]
[null,null,{"$f":"I41/G9","v":4.7326842451751502E-3},{"$f":"M41/G9","v":7.0990263677627233E-4},null,null,{"$f":"O41","v":0.01},null,null,{"$f":"Т0!J19","v":"3.2. Проектантски надзор"},null,null,null,{"$f":"F7*D9*O41","v":0},{"$f":"N18/F13","v":0}]
[]
[null,null,null,null,null,{"$f":"Т0!F21","v":"Изработка на проектна документација"},null,null,null,{"$f":"Т0!J21","v":"Ревизија на проектна документација"},null,null,null,{"$f":"Т0!N21","v":"Надзор на изградба"}]
[null,null,null,null,null,null,null,null,null,{"$f":"Т0!J22","v":"(15% од вредноста на Изработка на проектна документација)"}]
[null,null,null,null,null,{"$f":"Т0!F23","v":"Основен проект"},null,{"$f":"Т0!H23","v":"Идеен проект"},null,{"$f":"Т0!J23","v":"Основен проект"},null,{"$f":"Т0!L23","v":"Идеен проект"},null,{"$f":"Т0!N23","v":"Надзор на изградба"},{"$f":"Т0!O23","v":"Проектантски надзор"}]
[null,null,null,null,null,null,null,{"$f":"Т0!H24","v":"(30% од вредноста на основниот проект)"},null,null,null,{"$f":"Т0!L24","v":"(30% од вредноста на ревизија на основниот проект)"}]
[null,null,{"$f":"Т0!C25","v":"Вид на проект"},{"$f":"Т0!D25","v":"Удел"},null,{"$f":"Т0!F25","v":"Минимална цена"},null,{"$f":"Т0!H25","v":"Минимална цена"},null,{"$f":"Т0!J25","v":"Минимална цена"},null,{"$f":"Т0!L25","v":"Минимална цена"},null,{"$f":"Т0!N25","v":"Минимален процент од инвестиција"},{"$f":"Т0!O25","v":"Минимален процент од инвестиција"}]
[null,null,{"$f":"Т0!C26","v":"(според намената)"},{"$f":"Т0!D26","v":"[%]"},null,{"$f":"Т0!F26","v":"[денари/m²]"},{"$f":"Т0!G26","v":"[€/m²]"},{"$f":"Т0!H26","v":"[денари/m²]"},{"$f":"Т0!I26","v":"[€/m²]"},{"$f":"Т0!J26","v":"[денари/m²]"},{"$f":"Т0!K26","v":"[€/m²]"},{"$f":"Т0!L26","v":"[денари/m²]"},{"$f":"Т0!M26","v":"[€/m²]"},{"$f":"Т0!N26","v":"[%]"},"[%]"]
[]
[null,null,{"$f":"Т0!C28","v":"Архитектонски проект"},{"$f":"F27/F41","v":0.39166666666666666},null,470,{"$f":"F27/F13","v":7.580645161290323},{"$f":"F27*0.3","v":141},{"$f":"H27/F13","v":2.274193548387097},{"$f":"F27*0.15","v":70.5},{"$f":"J27/F13","v":1.1370967741935485},{"$f":"J27*0.3","v":21.15},{"$f":"L27/F13","v":0.34112903225806451},{"$f":"N$41*(F27/$F$41*100)","v":0.97916666666666663},{"$f":"O$41*(F27/$F$41*100)","v":0.39166666666666666}]
[null,null,{"$f":"Т0!C29","v":"Градежно-конструктивен проект"},{"$f":"F28/F41","v":0.23333333333333334},null,280,{"$f":"F28/F13","v":4.5161290322580649},84,{"$f":"H28/F13","v":1.3548387096774193},42,{"$f":"J28/F13","v":0.67741935483870963},12.6,{"$f":"L28/F13","v":0.20322580645161289},0.58333333333333337,0.23333333333333334]
[null,null,{"$f":"Т0!C30","v":"Електротехнички проект"},{"$f":"F29/F41","v":0.10249999999999999},null,123,{"$f":"F29/F13","v":1.9838709677419355},36.9,{"$f":"H29/F13","v":0.59516129032258058},18.45,{"$f":"J29/F13","v":0.29758064516129029},5.5349999999999993,{"$f":"L29/F13","v":8.9274193548387087E-2},0.25625000000000003,0.10250000000000001]
[null,null,{"$f":"Т0!C32","v":"Проект за водовод и канализација"},{"$f":"F30/F41","v":4.583333333333333E-2},null,55,{"$f":"F30/F13","v":0.88709677419354838},16.5,{"$f":"H30/F13","v":0.2661290322580645},8.25,{"$f":"J30/F13","v":0.13306451612903225},2.4750000000000001,{"$f":"L30/F13","v":3.9919354838709682E-2},0.11458333333333333,4.583333333333333E-2]
[null,null,{"$f":"Т0!C33","v":"Термотехнички проект"},{"$f":"F31/F41","v":7.6666666666666661E-2},null,92,{"$f":"F31/F13","v":1.4838709677419355},27.599999999999998,{"$f":"H31/F13","v":0.44516129032258062},13.799999999999999,{"$f":"J31/F13","v":0.22258064516129031},4.1399999999999997,{"$f":"L31/F13","v":6.6774193548387095E-2},0.19166666666666665,7.6666666666666661E-2]
[null,null,{"$f":"Т0!C44","v":"Проект за  партерно уредување и сообраќај"},{"$f":"F32/F41","v":2.5000000000000001E-2},null,30,{"$f":"F32/F13","v":0.4838709677419355},9,{"$f":"H32/F13","v":0.14516129032258066},4.5,{"$f":"J32/F13","v":7.2580645161290328E-2},1.3499999999999999,{"$f":"L32/F13","v":2.1774193548387093E-2},6.25E-2,2.5000000000000001E-2]
[null,null,{"$f":"Т0!C38","v":"Елаборат за заштита од пожари"},{"$f":"F33/F41","v":1.6666666666666666E-2},null,20,{"$f":"F33/F13","v":0.32258064516129031},6,{"$f":"H33/F13","v":9.6774193548387094E-2},3,{"$f":"J33/F13","v":4.8387096774193547E-2},0.89999999999999991,{"$f":"L33/F13","v":1.4516129032258063E-2},4.1666666666666671E-2,1.6666666666666666E-2]
[null,null,{"$f":"Т0!C39","v":"Елаборат за заштита при работа"},{"$f":"F34/F41","v":1.2500000000000001E-2},null,15,{"$f":"F34/F13","v":0.24193548387096775},4.5,{"$f":"H34/F13","v":7.2580645161290328E-2},2.25,{"$f":"J34/F13","v":3.6290322580645164E-2},0.67499999999999993,{"$f":"L34/F13","v":1.0887096774193547E-2},3.125E-2,1.2500000000000001E-2]
[null,null,{"$f":"Т0!C42","v":"Елаборат за енергетска ефикасност"},{"$f":"F35/F41","v":1.6666666666666666E-2},null,20,{"$f":"F35/F13","v":0.32258064516129031},6,{"$f":"H35/F13","v":9.6774193548387094E-2},{"$f":"F35*0.15","v":3},{"$f":"J35/F13","v":4.8387096774193547E-2},{"$f":"J35*0.3","v":0.89999999999999991},{"$f":"L35/F13","v":1.4516129032258063E-2},{"$f":"N$41*(F35/$F$41*100)","v":4.1666666666666671E-2},{"$f":"O$41*(F35/$F$41*100)","v":1.6666666666666666E-2}]
[null,null,{"$f":"Т0!C43","v":"Елаборат за заштита на животната средина"},{"$f":"F36/F41","v":1.2500000000000001E-2},null,15,0.24193548387096775,4.5,7.2580645161290328E-2,2.25,{"$f":"J36/F13","v":3.6290322580645164E-2},0.67499999999999993,{"$f":"L36/F13","v":1.0887096774193547E-2},3.125E-2,1.2500000000000001E-2]
[null,null,{"$f":"Т0!C37","v":"Сообраќаен проект"},{"$f":"F37/F41","v":1.6666666666666666E-2},null,20,{"$f":"F37/F13","v":0.32258064516129031},{"$f":"F37*0.3","v":6},{"$f":"H37/F13","v":9.6774193548387094E-2},{"$f":"F37*0.15","v":3},{"$f":"J37/F13","v":4.8387096774193547E-2},{"$f":"J37*0.3","v":0.89999999999999991},{"$f":"L37/F13","v":1.4516129032258063E-2},4.3301290378453282E-2,1.7320516151381311E-2]
[]
[null,null,{"$f":"Т0!C47","v":"Координација на проект"},{"$f":"F39/F41","v":0.05},null,{"$f":"SUM(F27:F38)/0.95-SUM(F27:F38)","v":60},{"$f":"F39/F13","v":0.967741935483871},{"$f":"SUM(H27:H35)/0.95-SUM(H27:H35)","v":17.447368421052659},{"$f":"H39/F13","v":0.28140916808149447},{"$f":"F39*0.15","v":9},{"$f":"J39/F13","v":0.14516129032258066},{"$f":"SUM(L27:L35)/0.95-SUM(L27:L35)","v":2.6171052631578959},{"$f":"L39/F13","v":4.221137521222413E-2},{"$f":"N$41*(F39/$F$41*100)","v":0.125},{"$f":"O$41*(F39/$F$41*100)","v":0.05}]
[]
[null,null,{"$f":"Т0!C49","v":"Вкупно:"},{"$f":"SUM(D27:D39)","v":1},null,{"$f":"SUM(F26:F40)","v":1200},{"$f":"F41/F13","v":19.35483870967742},{"$f":"SUM(H27:H39)","v":359.44736842105266},{"$f":"H41/F13","v":5.7975382003395586},{"$f":"SUM(J27:J39)","v":180},{"$f":"J41/F13","v":2.903225806451613},{"$f":"SUM(L27:L39)","v":53.917105263157886},{"$f":"L41/F13","v":0.86963073005093361},2.5000000000000001E-2,0.01]

{"sheet":"В3-I","index":22,"n_rows":42,"n_cols":15,"rows_kept":42,"cut":false,"hidden":true,"merged":[[4,2,4,14],[7,6,7,7],[10,9,10,12],[11,9,11,12],[2,3,2,14],[6,9,6,12],[6,13,6,14],[7,9,7,12],[8,9,8,12],[10,3,10,5],[10,6,10,7],[12,9,12,12],[8,3,8,5],[8,6,8,7],[9,3,9,5],[9,6,9,7],[9,9,9,12],[11,3,11,5],[11,6,11,7],[21,13,22,13],[16,9,16,12],[15,3,15,5],[15,6,15,7],[16,3,16,5],[16,6,16,7],[21,14,22,14],[22,7,22,8],[22,11,22,12],[12,6,12,7],[17,9,17,12],[19,5,20,8],[19,9,19,12],[19,13,20,14],[20,9,20,12],[17,3,17,5],[17,6,17,7],[15,9,15,12],[14,9,14,12],[14,3,14,5],[14,6,14,7],[13,9,13,12],[23,5,23,6],[23,7,23,8],[23,9,23,10],[23,11,23,12],[21,5,22,6],[21,7,21,8],[21,9,22,10],[21,11,21,12]]}
[]
[]
[null,null,{"$f":"' Помош - Каталог на намени'!D25","v":"В3-I"},{"$f":"' Помош - Каталог на намени'!E25","v":"КУЛТУРА\n(I ГРУПА)"}]
[]
[null,null,{"$f":"' Помош - Каталог на намени'!F25","v":"В3.1. - Кина, кинотеки, синеплекси или кино комплекси\nВ3.3. - Музеи, музејски комплекси, специјализирани музеи\nВ3.4. - Изложбени галерии, уметнички галерии, простори за мултимедиски настани\nВ3.5. - Кинотеки, библиотеки, информативно-документарни центри\nВ3.6. - Домови на културата, комбинирани културни центри"}]
[]
[null,null,{"$f":"Т0!C8","v":"Површина на градба"},null,null,{"$f":"Калкулатор!D9","v":0},{"$f":"Т0!G8","v":"m²"},{"$f":"Т0!H8","v":"(варијабла)"},null,{"$f":"Т0!J8","v":"Вид на инженерска услуга"},null,null,null,{"$f":"Т0!N8","v":"Минимална вкупна цена"}]
[null,null,null,null,null,null,null,null,null,{"$f":"Т0!J9","v":"1. Изработка на проектна документација (1.1.+1.2)"},null,null,null,{"$f":"SUM(N9:N10)","v":0},{"$f":"SUM(O9:O10)","v":0}]
[null,null,{"$f":"Т0!C10","v":"Просечна цена на изведба за 1 m²"},{"$f":"G9*F13","v":60760},null,null,{"$f":"' Помош - Каталог на намени'!G25","v":980},null,null,{"$f":"Т0!J10","v":"1.1. Изработка на основен проект"},null,null,null,{"$f":"F7*F42","v":0},{"$f":"N9/F13","v":0}]
[null,null,null,null,null,null,null,null,null,{"$f":"Т0!J11","v":"1.2. Изработка на идеен проект"},null,null,null,{"$f":"F7*H42","v":0},{"$f":"N10/F13","v":0}]
[null,null,{"$f":"Т0!C12","v":"Вкупна инвестициона градежна  вредност"},{"$f":"F7*D9","v":0},null,null,{"$f":"D11/F13","v":0}]
[null,null,null,null,null,null,null,null,null,{"$f":"Т0!J13","v":"2. Ревизија на проектна документација (2.1.+2.2.)"},null,null,null,{"$f":"SUM(N13:N14)","v":0},{"$f":"SUM(O13:O14)","v":0}]
[null,null,{"$f":"Т0!C14","v":"Вредност на евро валута"},{"$f":"Т0!D14","v":1},{"$f":"Т0!E14","v":"="},{"$f":"Т0!F14","v":62},null,null,null,{"$f":"Т0!J14","v":"2.1. Ревизија на основен проект"},null,null,null,{"$f":"F7*J42","v":0},{"$f":"N13/F13","v":0}]
[null,null,null,null,null,null,null,null,null,{"$f":"Т0!J15","v":"2.2. Ревизија на идеен проект"},null,null,null,{"$f":"F7*L42","v":0},{"$f":"N14/F13","v":0}]
[null,null,{"$f":"Т0!C16","v":"Изработка на Основен проект"},{"$f":"Т0!D16:F16","v":"Ревизија на Основен проект"},null,null,{"$f":"Т0!G16:H16","v":"Надзор на изградба"}]
[null,null,{"$f":"G42/G9","v":2.7649769585253458E-2},{"$f":"K42/G9","v":4.147465437788018E-3},null,null,{"$f":"N42","v":2.5000000000000001E-2},null,null,{"$f":"Т0!J17","v":"3. Надзор на градба (3.1.+3.2.)"},null,null,null,{"$f":"SUM(N17:N18)","v":0},{"$f":"SUM(O17:O18)","v":0}]
[null,null,{"$f":"Т0!C18","v":"Изработка на Идеен проект"},{"$f":"Т0!D18:F18","v":"Ревизија на Идеен проект"},null,null,{"$f":"Т0!G18:H18","v":"Проектантски надзор"},null,null,{"$f":"Т0!J18","v":"3.1. Надзор на градба"},null,null,null,{"$f":"F7*D9*N42","v":0},{"$f":"N17/F13","v":0}]
[null,null,{"$f":"I42/G9","v":8.2741415751359983E-3},{"$f":"M42/G9","v":1.2411212362703995E-3},null,null,{"$f":"O42","v":0.01},null,null,{"$f":"Т0!J19","v":"3.2. Проектантски надзор"},null,null,null,{"$f":"F7*D9*O42","v":0},{"$f":"N18/F13","v":0}]
[]
[null,null,null,null,null,{"$f":"Т0!F21","v":"Изработка на проектна документација"},null,null,null,{"$f":"Т0!J21","v":"Ревизија на проектна документација"},null,null,null,{"$f":"Т0!N21","v":"Надзор на изградба"}]
[null,null,null,null,null,null,null,null,null,{"$f":"Т0!J22","v":"(15% од вредноста на Изработка на проектна документација)"}]
[null,null,null,null,null,{"$f":"Т0!F23","v":"Основен проект"},null,{"$f":"Т0!H23","v":"Идеен проект"},null,{"$f":"Т0!J23","v":"Основен проект"},null,{"$f":"Т0!L23","v":"Идеен проект"},null,{"$f":"Т0!N23","v":"Надзор на изградба"},{"$f":"Т0!O23","v":"Проектантски надзор"}]
[null,null,null,null,null,null,null,{"$f":"Т0!H24","v":"(30% од вредноста на основниот проект)"},null,null,null,{"$f":"Т0!L24","v":"(30% од вредноста на ревизија на основниот проект)"}]
[null,null,{"$f":"Т0!C25","v":"Вид на проект"},{"$f":"Т0!D25","v":"Удел"},null,{"$f":"Т0!F25","v":"Минимална цена"},null,{"$f":"Т0!H25","v":"Минимална цена"},null,{"$f":"Т0!J25","v":"Минимална цена"},null,{"$f":"Т0!L25","v":"Минимална цена"},null,{"$f":"Т0!N25","v":"Минимален процент од инвестиција"},{"$f":"Т0!O25","v":"Минимален процент од инвестиција"}]
[null,null,{"$f":"Т0!C26","v":"(според намената)"},{"$f":"Т0!D26","v":"[%]"},null,{"$f":"Т0!F26","v":"[денари/m²]"},{"$f":"Т0!G26","v":"[€/m²]"},{"$f":"Т0!H26","v":"[денари/m²]"},{"$f":"Т0!I26","v":"[€/m²]"},{"$f":"Т0!J26","v":"[денари/m²]"},{"$f":"Т0!K26","v":"[€/m²]"},{"$f":"Т0!L26","v":"[денари/m²]"},{"$f":"Т0!M26","v":"[€/m²]"},{"$f":"Т0!N26","v":"[%]"},"[%]"]
[]
[null,null,{"$f":"Т0!C28","v":"Архитектонски проект"},{"$f":"F27/F42","v":0.39583333333333331},null,665,{"$f":"F27/F13","v":10.725806451612904},{"$f":"F27*0.3","v":199.5},{"$f":"H27/F13","v":3.217741935483871},{"$f":"F27*0.15","v":99.75},{"$f":"J27/F13","v":1.6088709677419355},{"$f":"J27*0.3","v":29.924999999999997},{"$f":"L27/F13","v":0.48266129032258059},{"$f":"N$42*(F27/$F$42*100)","v":0.98958333333333326},{"$f":"O$42*(F27/$F$42*100)","v":0.39583333333333331}]
[null,null,{"$f":"Т0!C29","v":"Градежно-конструктивен проект"},{"$f":"F28/F42","v":0.22023809523809523},null,370,{"$f":"F28/F13","v":5.967741935483871},111,{"$f":"H28/F13","v":1.7903225806451613},55.5,{"$f":"J28/F13","v":0.89516129032258063},16.649999999999999,{"$f":"L28/F13","v":0.26854838709677414},0.55059523809523803,0.22023809523809523]
[null,null,{"$f":"Т0!C30","v":"Електротехнички проект"},{"$f":"F29/F42","v":0.10714285714285714},null,180,{"$f":"F29/F13","v":2.903225806451613},54,{"$f":"H29/F13","v":0.87096774193548387},27,{"$f":"J29/F13","v":0.43548387096774194},8.1,{"$f":"L29/F13","v":0.13064516129032258},0.26785714285714285,0.10714285714285714]
[null,null,{"$f":"Т0!C32","v":"Проект за водовод и канализација"},{"$f":"F30/F42","v":5.1190476190476189E-2},null,86,{"$f":"F30/F13","v":1.3870967741935485},25.8,{"$f":"H30/F13","v":0.41612903225806452},12.9,{"$f":"J30/F13","v":0.20806451612903226},3.87,{"$f":"L30/F13","v":6.2419354838709681E-2},0.12797619047619047,5.1190476190476189E-2]
[null,null,{"$f":"Т0!C33","v":"Термотехнички проект"},{"$f":"F31/F42","v":7.1428571428571425E-2},null,120,{"$f":"F31/F13","v":1.935483870967742},36,{"$f":"H31/F13","v":0.58064516129032262},18,{"$f":"J31/F13","v":0.29032258064516131},5.3999999999999995,{"$f":"L31/F13","v":8.7096774193548374E-2},0.17857142857142858,7.1428571428571425E-2]
[null,null,{"$f":"Т0!C44","v":"Проект за  партерно уредување и сообраќај"},{"$f":"F32/F42","v":2.3809523809523808E-2},null,40,{"$f":"F32/F13","v":0.64516129032258063},12,{"$f":"H32/F13","v":0.19354838709677419},6,{"$f":"J32/F13","v":9.6774193548387094E-2},1.7999999999999998,{"$f":"L32/F13","v":2.9032258064516127E-2},5.9523809523809527E-2,2.3809523809523808E-2]
[null,null,{"$f":"Т0!C38","v":"Елаборат за заштита од пожари"},{"$f":"F33/F42","v":1.1904761904761904E-2},null,20,{"$f":"F33/F13","v":0.32258064516129031},6,{"$f":"H33/F13","v":9.6774193548387094E-2},3,{"$f":"J33/F13","v":4.8387096774193547E-2},0.89999999999999991,{"$f":"L33/F13","v":1.4516129032258063E-2},2.9761904761904764E-2,1.1904761904761904E-2]
[null,null,{"$f":"Т0!C39","v":"Елаборат за заштита при работа"},{"$f":"F34/F42","v":8.9285714285714281E-3},null,15,{"$f":"F34/F13","v":0.24193548387096775},4.5,{"$f":"H34/F13","v":7.2580645161290328E-2},2.25,{"$f":"J34/F13","v":3.6290322580645164E-2},0.67499999999999993,{"$f":"L34/F13","v":1.0887096774193547E-2},2.2321428571428572E-2,8.9285714285714281E-3]
[null,null,{"$f":"Т0!C42","v":"Елаборат за енергетска ефикасност"},{"$f":"F35/F42","v":1.1904761904761904E-2},null,20,{"$f":"F35/F13","v":0.32258064516129031},6,{"$f":"H35/F13","v":9.6774193548387094E-2},{"$f":"F35*0.15","v":3},{"$f":"J35/F13","v":4.8387096774193547E-2},{"$f":"J35*0.3","v":0.89999999999999991},{"$f":"L35/F13","v":1.4516129032258063E-2},{"$f":"N$42*(F35/$F$42*100)","v":2.9761904761904764E-2},{"$f":"O$42*(F35/$F$42*100)","v":1.1904761904761904E-2}]
[null,null,{"$f":"Т0!C45","v":"Проект за сценска технологија и акустика"},{"$f":"F36/F42","v":2.3809523809523808E-2},null,40,{"$f":"F36/F13","v":0.64516129032258063},12,{"$f":"H36/F13","v":0.19354838709677419},6,{"$f":"J36/F13","v":9.6774193548387094E-2},1.7999999999999998,{"$f":"L36/F13","v":2.9032258064516127E-2},5.9523809523809527E-2,2.3809523809523808E-2]
[null,null,{"$f":"Т0!C43","v":"Елаборат за заштита на животната средина"},{"$f":"F37/F42","v":8.9285714285714281E-3},null,15,{"$f":"F37/F13","v":0.24193548387096775},4.5,7.2580645161290328E-2,2.25,{"$f":"J37/F13","v":3.6290322580645164E-2},0.67499999999999993,{"$f":"L37/F13","v":1.0887096774193547E-2},2.2321428571428572E-2,8.9285714285714281E-3]
[null,null,{"$f":"Т0!C37","v":"Сообраќаен проект"},{"$f":"F38/F42","v":1.488095238095238E-2},null,25,{"$f":"F38/F13","v":0.40322580645161288},7.5,{"$f":"H38/F13","v":0.12096774193548387},{"$f":"F38*0.15","v":3.75},{"$f":"J38/F13","v":6.0483870967741937E-2},{"$f":"J38*0.3","v":1.125},{"$f":"L38/F13","v":1.8145161290322582E-2},{"$f":"N$42*(F38/$F$42*100)","v":3.7202380952380952E-2},{"$f":"O$42*(F38/$F$42*100)","v":1.488095238095238E-2}]
[]
[null,null,{"$f":"Т0!C47","v":"Координација на проект"},{"$f":"F40/F42","v":0.05},null,{"$f":"SUM(F27:F38)/0.95-SUM(F27:F38)","v":84},{"$f":"F40/F13","v":1.3548387096774193},{"$f":"SUM(H27:H35)/0.95-SUM(H27:H35)","v":23.936842105263167},{"$f":"H40/F13","v":0.3860780984719866},{"$f":"F40*0.15","v":12.6},{"$f":"J40/F13","v":0.20322580645161289},{"$f":"SUM(L27:L35)/0.95-SUM(L27:L35)","v":3.5905263157894751},{"$f":"L40/F13","v":5.7911714770797984E-2},{"$f":"N$42*(F40/$F$42*100)","v":0.125},{"$f":"O$42*(F40/$F$42*100)","v":0.05}]
[]
[null,null,{"$f":"Т0!C49","v":"Вкупно:"},{"$f":"SUM(D27:D40)","v":0.99999999999999989},null,{"$f":"SUM(F26:F41)","v":1680},{"$f":"F42/F13","v":27.096774193548388},{"$f":"SUM(H27:H40)","v":502.73684210526318},{"$f":"H42/F13","v":8.1086587436332778},{"$f":"SUM(J27:J40)","v":252},{"$f":"J42/F13","v":4.064516129032258},{"$f":"SUM(L27:L40)","v":75.410526315789468},{"$f":"L42/F13","v":1.2162988115449915},2.5000000000000001E-2,0.01]

{"sheet":"В3-II","index":23,"n_rows":42,"n_cols":15,"rows_kept":42,"cut":false,"hidden":true,"merged":[[4,2,4,14],[7,6,7,7],[10,9,10,12],[11,9,11,12],[2,3,2,14],[6,9,6,12],[6,13,6,14],[7,9,7,12],[8,9,8,12],[10,3,10,5],[10,6,10,7],[12,9,12,12],[8,3,8,5],[8,6,8,7],[9,3,9,5],[9,6,9,7],[9,9,9,12],[11,3,11,5],[11,6,11,7],[21,13,22,13],[16,9,16,12],[15,3,15,5],[15,6,15,7],[16,3,16,5],[16,6,16,7],[21,14,22,14],[22,7,22,8],[22,11,22,12],[12,6,12,7],[17,9,17,12],[19,5,20,8],[19,9,19,12],[19,13,20,14],[20,9,20,12],[17,3,17,5],[17,6,17,7],[15,9,15,12],[14,9,14,12],[14,3,14,5],[14,6,14,7],[13,9,13,12],[23,5,23,6],[23,7,23,8],[23,9,23,10],[23,11,23,12],[21,5,22,6],[21,7,21,8],[21,9,22,10],[21,11,21,12]]}
[]
[]
[null,null,{"$f":"' Помош - Каталог на намени'!D26","v":"В3-II"},{"$f":"' Помош - Каталог на намени'!E26","v":"КУЛТУРА\n(II ГРУПА)"}]
[]
[null,null,{"$f":"' Помош - Каталог на намени'!F26","v":"В3.2. - Театри\nВ3.7. - Филхармонија, концертни сали\nВ3.8. - Опери, балети"}]
[]
[null,null,{"$f":"Т0!C8","v":"Површина на градба"},null,null,{"$f":"Калкулатор!D9","v":0},{"$f":"Т0!G8","v":"m²"},{"$f":"Т0!H8","v":"(варијабла)"},null,{"$f":"Т0!J8","v":"Вид на инженерска услуга"},null,null,null,{"$f":"Т0!N8","v":"Минимална вкупна цена"}]
[null,null,null,null,null,null,null,null,null,{"$f":"Т0!J9","v":"1. Изработка на проектна документација (1.1.+1.2)"},null,null,null,{"$f":"SUM(N9:N10)","v":0},{"$f":"SUM(O9:O10)","v":0}]
[null,null,{"$f":"Т0!C10","v":"Просечна цена на изведба за 1 m²"},{"$f":"G9*F13","v":79980},null,null,{"$f":"' Помош - Каталог на намени'!G26","v":1290},null,null,{"$f":"Т0!J10","v":"1.1. Изработка на основен проект"},null,null,null,{"$f":"F7*F42","v":0},{"$f":"N9/F13","v":0}]
[null,null,null,null,null,null,null,null,null,{"$f":"Т0!J11","v":"1.2. Изработка на идеен проект"},null,null,null,{"$f":"F7*H42","v":0},{"$f":"N10/F13","v":0}]
[null,null,{"$f":"Т0!C12","v":"Вкупна инвестициона градежна  вредност"},{"$f":"F7*D9","v":0},null,null,{"$f":"D11/F13","v":0}]
[null,null,null,null,null,null,null,null,null,{"$f":"Т0!J13","v":"2. Ревизија на проектна документација (2.1.+2.2.)"},null,null,null,{"$f":"SUM(N13:N14)","v":0},{"$f":"SUM(O13:O14)","v":0}]
[null,null,{"$f":"Т0!C14","v":"Вредност на евро валута"},{"$f":"Т0!D14","v":1},{"$f":"Т0!E14","v":"="},{"$f":"Т0!F14","v":62},null,null,null,{"$f":"Т0!J14","v":"2.1. Ревизија на основен проект"},null,null,null,{"$f":"F7*J42","v":0},{"$f":"N13/F13","v":0}]
[null,null,null,null,null,null,null,null,null,{"$f":"Т0!J15","v":"2.2. Ревизија на идеен проект"},null,null,null,{"$f":"F7*L42","v":0},{"$f":"N14/F13","v":0}]
[null,null,{"$f":"Т0!C16","v":"Изработка на Основен проект"},{"$f":"Т0!D16:F16","v":"Ревизија на Основен проект"},null,null,{"$f":"Т0!G16:H16","v":"Надзор на изградба"}]
[null,null,{"$f":"G42/G9","v":1.9386425553756862E-2},{"$f":"K42/G9","v":2.9079638330635287E-3},null,null,{"$f":"N42","v":2.5000000000000001E-2},null,null,{"$f":"Т0!J17","v":"3. Надзор на градба (3.1.+3.2.)"},null,null,null,{"$f":"SUM(N17:N18)","v":0},{"$f":"SUM(O17:O18)","v":0}]
[null,null,{"$f":"Т0!C18","v":"Изработка на Идеен проект"},{"$f":"Т0!D18:F18","v":"Ревизија на Идеен проект"},null,null,{"$f":"Т0!G18:H18","v":"Проектантски надзор"},null,null,{"$f":"Т0!J18","v":"3.1. Надзор на градба"},null,null,null,{"$f":"F7*D9*N42","v":0},{"$f":"N17/F13","v":0}]
[null,null,{"$f":"I42/G9","v":5.8090180439846805E-3},{"$f":"M42/G9","v":8.7135270659770194E-4},null,null,{"$f":"O42","v":0.01},null,null,{"$f":"Т0!J19","v":"3.2. Проектантски надзор"},null,null,null,{"$f":"F7*D9*O42","v":0},{"$f":"N18/F13","v":0}]
[]
[null,null,null,null,null,{"$f":"Т0!F21","v":"Изработка на проектна документација"},null,null,null,{"$f":"Т0!J21","v":"Ревизија на проектна документација"},null,null,null,{"$f":"Т0!N21","v":"Надзор на изградба"}]
[null,null,null,null,null,null,null,null,null,{"$f":"Т0!J22","v":"(15% од вредноста на Изработка на проектна документација)"}]
[null,null,null,null,null,{"$f":"Т0!F23","v":"Основен проект"},null,{"$f":"Т0!H23","v":"Идеен проект"},null,{"$f":"Т0!J23","v":"Основен проект"},null,{"$f":"Т0!L23","v":"Идеен проект"},null,{"$f":"Т0!N23","v":"Надзор на изградба"},{"$f":"Т0!O23","v":"Проектантски надзор"}]
[null,null,null,null,null,null,null,{"$f":"Т0!H24","v":"(30% од вредноста на основниот проект)"},null,null,null,{"$f":"Т0!L24","v":"(30% од вредноста на ревизија на основниот проект)"}]
[null,null,{"$f":"Т0!C25","v":"Вид на проект"},{"$f":"Т0!D25","v":"Удел"},null,{"$f":"Т0!F25","v":"Минимална цена"},null,{"$f":"Т0!H25","v":"Минимална цена"},null,{"$f":"Т0!J25","v":"Минимална цена"},null,{"$f":"Т0!L25","v":"Минимална цена"},null,{"$f":"Т0!N25","v":"Минимален процент од инвестиција"},{"$f":"Т0!O25","v":"Минимален процент од инвестиција"}]
[null,null,{"$f":"Т0!C26","v":"(според намената)"},{"$f":"Т0!D26","v":"[%]"},null,{"$f":"Т0!F26","v":"[денари/m²]"},{"$f":"Т0!G26","v":"[€/m²]"},{"$f":"Т0!H26","v":"[денари/m²]"},{"$f":"Т0!I26","v":"[€/m²]"},{"$f":"Т0!J26","v":"[денари/m²]"},{"$f":"Т0!K26","v":"[€/m²]"},{"$f":"Т0!L26","v":"[денари/m²]"},{"$f":"Т0!M26","v":"[€/m²]"},{"$f":"Т0!N26","v":"[%]"},"[%]"]
[]
[null,null,{"$f":"Т0!C28","v":"Архитектонски проект"},{"$f":"F27/F42","v":0.42437202987101152},null,658,{"$f":"F27/F13","v":10.612903225806452},{"$f":"F27*0.3","v":197.4},{"$f":"H27/F13","v":3.1838709677419357},{"$f":"F27*0.15","v":98.7},{"$f":"J27/F13","v":1.5919354838709678},{"$f":"J27*0.3","v":29.61},{"$f":"L27/F13","v":0.47758064516129034},{"$f":"N$42*(F27/$F$42*100)","v":1.0609300746775288},{"$f":"O$42*(F27/$F$42*100)","v":0.42437202987101152}]
[null,null,{"$f":"Т0!C29","v":"Градежно-конструктивен проект"},{"$f":"F28/F42","v":0.22572980312287846},null,350,{"$f":"F28/F13","v":5.645161290322581},105,{"$f":"H28/F13","v":1.6935483870967742},52.5,{"$f":"J28/F13","v":0.84677419354838712},15.75,{"$f":"L28/F13","v":0.25403225806451613},0.56432450780719623,0.22572980312287846]
[null,null,{"$f":"Т0!C30","v":"Електротехнички проект"},{"$f":"F29/F42","v":9.6741344195519344E-2},null,150,{"$f":"F29/F13","v":2.4193548387096775},45,{"$f":"H29/F13","v":0.72580645161290325},22.5,{"$f":"J29/F13","v":0.36290322580645162},6.75,{"$f":"L29/F13","v":0.10887096774193548},0.24185336048879838,9.6741344195519358E-2]
[null,null,{"$f":"Т0!C32","v":"Проект за водовод и канализација"},{"$f":"F30/F42","v":4.1921249151391712E-2},null,65,{"$f":"F30/F13","v":1.0483870967741935},19.5,{"$f":"H30/F13","v":0.31451612903225806},9.75,{"$f":"J30/F13","v":0.15725806451612903},2.9249999999999998,{"$f":"L30/F13","v":4.7177419354838705E-2},0.10480312287847929,4.1921249151391712E-2]
[null,null,{"$f":"Т0!C33","v":"Термотехнички проект"},{"$f":"F31/F42","v":5.8044806517311608E-2},null,90,{"$f":"F31/F13","v":1.4516129032258065},27,{"$f":"H31/F13","v":0.43548387096774194},13.5,{"$f":"J31/F13","v":0.21774193548387097},4.05,{"$f":"L31/F13","v":6.5322580645161291E-2},0.14511201629327902,5.8044806517311608E-2]
[null,null,{"$f":"Т0!C45","v":"Проект за сценска технологија и акустика"},{"$f":"F32/F42","v":2.5797691785471824E-2},null,40,{"$f":"F32/F13","v":0.64516129032258063},12,{"$f":"H32/F13","v":0.19354838709677419},6,{"$f":"J32/F13","v":9.6774193548387094E-2},1.7999999999999998,{"$f":"L32/F13","v":2.9032258064516127E-2},6.4494229463679567E-2,2.5797691785471828E-2]
[null,null,{"$f":"Т0!C44","v":"Проект за  партерно уредување и сообраќај"},{"$f":"F33/F42","v":1.9348268839103868E-2},null,30,{"$f":"F33/F13","v":0.4838709677419355},9,{"$f":"H33/F13","v":0.14516129032258066},4.5,{"$f":"J33/F13","v":7.2580645161290328E-2},1.3499999999999999,{"$f":"L33/F13","v":2.1774193548387093E-2},4.8370672097759672E-2,1.9348268839103868E-2]
[null,null,{"$f":"Т0!C38","v":"Елаборат за заштита од пожари"},{"$f":"F34/F42","v":1.2898845892735912E-2},null,20,{"$f":"F34/F13","v":0.32258064516129031},6,{"$f":"H34/F13","v":9.6774193548387094E-2},3,{"$f":"J34/F13","v":4.8387096774193547E-2},0.89999999999999991,{"$f":"L34/F13","v":1.4516129032258063E-2},3.2247114731839784E-2,1.2898845892735914E-2]
[null,null,{"$f":"Т0!C39","v":"Елаборат за заштита при работа"},{"$f":"F35/F42","v":9.674134419551934E-3},null,15,{"$f":"F35/F13","v":0.24193548387096775},4.5,{"$f":"H35/F13","v":7.2580645161290328E-2},2.25,{"$f":"J35/F13","v":3.6290322580645164E-2},0.67499999999999993,{"$f":"L35/F13","v":1.0887096774193547E-2},2.4185336048879836E-2,9.674134419551934E-3]
[null,null,{"$f":"Т0!C42","v":"Елаборат за енергетска ефикасност"},{"$f":"F36/F42","v":1.2898845892735912E-2},null,20,{"$f":"F36/F13","v":0.32258064516129031},6,{"$f":"H36/F13","v":9.6774193548387094E-2},{"$f":"F36*0.15","v":3},{"$f":"J36/F13","v":4.8387096774193547E-2},{"$f":"J36*0.3","v":0.89999999999999991},{"$f":"L36/F13","v":1.4516129032258063E-2},{"$f":"N$42*(F36/$F$42*100)","v":3.2247114731839784E-2},{"$f":"O$42*(F36/$F$42*100)","v":1.2898845892735914E-2}]
[null,null,{"$f":"Т0!C43","v":"Елаборат за заштита на животната средина"},{"$f":"F37/F42","v":9.674134419551934E-3},null,15,{"$f":"F37/F13","v":0.24193548387096775},{"$f":"F37*0.3","v":4.5},{"$f":"H37/F13","v":7.2580645161290328E-2},2.25,{"$f":"J37/F13","v":3.6290322580645164E-2},0.67499999999999993,{"$f":"L37/F13","v":1.0887096774193547E-2},2.4185336048879836E-2,9.674134419551934E-3]
[null,null,{"$f":"Т0!C37","v":"Сообраќаен проект"},{"$f":"F38/F42","v":1.2898845892735912E-2},null,20,{"$f":"F38/'В3-II'!F13","v":0.32258064516129031},{"$f":"F38*0.3","v":6},{"$f":"H38/F13","v":9.6774193548387094E-2},{"$f":"F38*0.15","v":3},{"$f":"J38/F13","v":4.8387096774193547E-2},{"$f":"H38*0.15","v":0.89999999999999991},{"$f":"L38/F13","v":1.4516129032258063E-2},3.5574528637495557E-2,1.4229811454998223E-2]
[]
[null,null,{"$f":"Т0!C47","v":"Координација на проект"},{"$f":"F40/F42","v":5.0000000000000044E-2},null,{"$f":"SUM(F27:F38)/0.95-SUM(F27:F38)","v":77.526315789473756},{"$f":"F40/F13","v":1.2504244482173186},{"$f":"SUM(H27:H36)/0.95-SUM(H27:H36)","v":22.705263157894763},{"$f":"H40/F13","v":0.36621392190152841},{"$f":"F40*0.15","v":11.628947368421063},{"$f":"J40/F13","v":0.18756366723259779},{"$f":"SUM(L27:L36)/0.95-SUM(L27:L36)","v":3.4057894736842087},{"$f":"L40/F13","v":5.4932088285229171E-2},{"$f":"N$42*(F40/$F$42*100)","v":0.12500000000000011},{"$f":"O$42*(F40/$F$42*100)","v":5.0000000000000044E-2}]
[]
[null,null,{"$f":"Т0!C49","v":"Вкупно:"},{"$f":"SUM(D27:D40)","v":1},null,{"$f":"SUM(F26:F41)","v":1550.5263157894738},{"$f":"F42/F13","v":25.008488964346352},{"$f":"SUM(H27:H40)","v":464.60526315789474},{"$f":"H42/F13","v":7.4936332767402378},{"$f":"SUM(J27:J40)","v":232.57894736842104},{"$f":"J42/F13","v":3.7512733446519522},{"$f":"SUM(L27:L40)","v":69.690789473684205},{"$f":"L42/F13","v":1.1240449915110355},2.5000000000000001E-2,0.01]

{"sheet":"В3-III","index":24,"n_rows":41,"n_cols":15,"rows_kept":41,"cut":false,"hidden":true,"merged":[[4,2,4,14],[7,6,7,7],[10,9,10,12],[11,9,11,12],[2,3,2,14],[6,9,6,12],[6,13,6,14],[7,9,7,12],[8,9,8,12],[10,3,10,5],[10,6,10,7],[12,9,12,12],[8,3,8,5],[8,6,8,7],[9,3,9,5],[9,6,9,7],[9,9,9,12],[11,3,11,5],[11,6,11,7],[21,13,22,13],[16,9,16,12],[15,3,15,5],[15,6,15,7],[16,3,16,5],[16,6,16,7],[21,14,22,14],[22,7,22,8],[22,11,22,12],[12,6,12,7],[17,9,17,12],[19,5,20,8],[19,9,19,12],[19,13,20,14],[20,9,20,12],[17,3,17,5],[17,6,17,7],[15,9,15,12],[14,9,14,12],[14,3,14,5],[14,6,14,7],[13,9,13,12],[23,5,23,6],[23,7,23,8],[23,9,23,10],[23,11,23,12],[21,5,22,6],[21,7,21,8],[21,9,22,10],[21,11,21,12]]}
[]
[]
[null,null,{"$f":"' Помош - Каталог на намени'!D27","v":"В3-III"},{"$f":"' Помош - Каталог на намени'!E27","v":"КУЛТУРА\n(III ГРУПА)"}]
[]
[null,null,{"$f":"' Помош - Каталог на намени'!F27","v":"В3.9. - Циркуси, вариетеи, забавни центри, сали за играње и танцови"}]
[]
[null,null,{"$f":"Т0!C8","v":"Површина на градба"},null,null,{"$f":"Калкулатор!D9","v":0},{"$f":"Т0!G8","v":"m²"},{"$f":"Т0!H8","v":"(варијабла)"},null,{"$f":"Т0!J8","v":"Вид на инженерска услуга"},null,null,null,{"$f":"Т0!N8","v":"Минимална вкупна цена"}]
[null,null,null,null,null,null,null,null,null,{"$f":"Т0!J9","v":"1. Изработка на проектна документација (1.1.+1.2)"},null,null,null,{"$f":"SUM(N9:N10)","v":0},{"$f":"SUM(O9:O10)","v":0}]
[null,null,{"$f":"Т0!C10","v":"Просечна цена на изведба за 1 m²"},{"$f":"G9*F13","v":51150},null,null,{"$f":"' Помош - Каталог на намени'!G27","v":825},null,null,{"$f":"Т0!J10","v":"1.1. Изработка на основен проект"},null,null,null,{"$f":"F7*F41","v":0},{"$f":"N9/F13","v":0}]
[null,null,null,null,null,null,null,null,null,{"$f":"Т0!J11","v":"1.2. Изработка на идеен проект"},null,null,null,{"$f":"F7*H41","v":0},{"$f":"N10/F13","v":0}]
[null,null,{"$f":"Т0!C12","v":"Вкупна инвестициона градежна  вредност"},{"$f":"F7*D9","v":0},null,null,{"$f":"D11/F13","v":0}]
[null,null,null,null,null,null,null,null,null,{"$f":"Т0!J13","v":"2. Ревизија на проектна документација (2.1.+2.2.)"},null,null,null,{"$f":"SUM(N13:N14)","v":0},{"$f":"SUM(O13:O14)","v":0}]
[null,null,{"$f":"Т0!C14","v":"Вредност на евро валута"},{"$f":"Т0!D14","v":1},{"$f":"Т0!E14","v":"="},{"$f":"Т0!F14","v":62},null,null,null,{"$f":"Т0!J14","v":"2.1. Ревизија на основен проект"},null,null,null,{"$f":"F7*J41","v":0},{"$f":"N13/F13","v":0}]
[null,null,null,null,null,null,null,null,null,{"$f":"Т0!J15","v":"2.2. Ревизија на идеен проект"},null,null,null,{"$f":"F7*L41","v":0},{"$f":"N14/F13","v":0}]
[null,null,{"$f":"Т0!C16","v":"Изработка на Основен проект"},{"$f":"Т0!D16:F16","v":"Ревизија на Основен проект"},null,null,{"$f":"Т0!G16:H16","v":"Надзор на изградба"}]
[null,null,{"$f":"G41/G9","v":2.1711169419149048E-2},{"$f":"K41/G9","v":3.2566754128723571E-3},null,null,{"$f":"N41","v":2.5000000000000001E-2},null,null,{"$f":"Т0!J17","v":"3. Надзор на градба (3.1.+3.2.)"},null,null,null,{"$f":"SUM(N17:N18)","v":0},{"$f":"SUM(O17:O18)","v":0}]
[null,null,{"$f":"Т0!C18","v":"Изработка на Идеен проект"},{"$f":"Т0!D18:F18","v":"Ревизија на Идеен проект"},null,null,{"$f":"Т0!G18:H18","v":"Проектантски надзор"},null,null,{"$f":"Т0!J18","v":"3.1. Надзор на градба"},null,null,null,{"$f":"F7*D9*N41","v":0},{"$f":"N17/F13","v":0}]
[null,null,{"$f":"I41/G9","v":6.5025466893039053E-3},{"$f":"M41/G9","v":9.7538200339558547E-4},null,null,{"$f":"O41","v":0.01},null,null,{"$f":"Т0!J19","v":"3.2. Проектантски надзор"},null,null,null,{"$f":"F7*D9*O41","v":0},{"$f":"N18/F13","v":0}]
[]
[null,null,null,null,null,{"$f":"Т0!F21","v":"Изработка на проектна документација"},null,null,null,{"$f":"Т0!J21","v":"Ревизија на проектна документација"},null,null,null,{"$f":"Т0!N21","v":"Надзор на изградба"}]
[null,null,null,null,null,null,null,null,null,{"$f":"Т0!J22","v":"(15% од вредноста на Изработка на проектна документација)"}]
[null,null,null,null,null,{"$f":"Т0!F23","v":"Основен проект"},null,{"$f":"Т0!H23","v":"Идеен проект"},null,{"$f":"Т0!J23","v":"Основен проект"},null,{"$f":"Т0!L23","v":"Идеен проект"},null,{"$f":"Т0!N23","v":"Надзор на изградба"},{"$f":"Т0!O23","v":"Проектантски надзор"}]
[null,null,null,null,null,null,null,{"$f":"Т0!H24","v":"(30% од вредноста на основниот проект)"},null,null,null,{"$f":"Т0!L24","v":"(30% од вредноста на ревизија на основниот проект)"}]
[null,null,{"$f":"Т0!C25","v":"Вид на проект"},{"$f":"Т0!D25","v":"Удел"},null,{"$f":"Т0!F25","v":"Минимална цена"},null,{"$f":"Т0!H25","v":"Минимална цена"},null,{"$f":"Т0!J25","v":"Минимална цена"},null,{"$f":"Т0!L25","v":"Минимална цена"},null,{"$f":"Т0!N25","v":"Минимален процент од инвестиција"},{"$f":"Т0!O25","v":"Минимален процент од инвестиција"}]
[null,null,{"$f":"Т0!C26","v":"(според намената)"},{"$f":"Т0!D26","v":"[%]"},null,{"$f":"Т0!F26","v":"[денари/m²]"},{"$f":"Т0!G26","v":"[€/m²]"},{"$f":"Т0!H26","v":"[денари/m²]"},{"$f":"Т0!I26","v":"[€/m²]"},{"$f":"Т0!J26","v":"[денари/m²]"},{"$f":"Т0!K26","v":"[€/m²]"},{"$f":"Т0!L26","v":"[денари/m²]"},{"$f":"Т0!M26","v":"[€/m²]"},{"$f":"Т0!N26","v":"[%]"},"[%]"]
[]
[null,null,{"$f":"Т0!C28","v":"Архитектонски проект"},{"$f":"F27/F41","v":0.42322274881516586},null,470,{"$f":"F27/F13","v":7.580645161290323},{"$f":"F27*0.3","v":141},{"$f":"H27/F13","v":2.274193548387097},{"$f":"F27*0.15","v":70.5},{"$f":"J27/F13","v":1.1370967741935485},{"$f":"J27*0.3","v":21.15},{"$f":"L27/F13","v":0.34112903225806451},{"$f":"N$41*(F27/$F$41*100)","v":1.0580568720379147},{"$f":"O$41*(F27/$F$41*100)","v":0.42322274881516586}]
[null,null,{"$f":"Т0!C29","v":"Градежно-конструктивен проект"},{"$f":"F28/F41","v":0.2206161137440758},null,245,{"$f":"F28/F13","v":3.9516129032258065},73.5,{"$f":"H28/F13","v":1.185483870967742},36.75,{"$f":"J28/F13","v":0.592741935483871},11.025,{"$f":"L28/F13","v":0.17782258064516129},0.55154028436018954,0.2206161137440758]
[null,null,{"$f":"Т0!C30","v":"Електротехнички проект"},{"$f":"F29/F41","v":8.1042654028436009E-2},null,90,{"$f":"F29/F13","v":1.4516129032258065},27,{"$f":"H29/F13","v":0.43548387096774194},13.5,{"$f":"J29/F13","v":0.21774193548387097},4.05,{"$f":"L29/F13","v":6.5322580645161291E-2},0.20260663507109,8.1042654028436009E-2]
[null,null,{"$f":"Т0!C32","v":"Проект за водовод и канализација"},{"$f":"F30/F41","v":5.4028436018957342E-2},null,60,{"$f":"F30/F13","v":0.967741935483871},18,{"$f":"H30/F13","v":0.29032258064516131},9,{"$f":"J30/F13","v":0.14516129032258066},2.6999999999999997,{"$f":"L30/F13","v":4.3548387096774187E-2},0.13507109004739334,5.4028436018957342E-2]
[null,null,{"$f":"Т0!C33","v":"Термотехнички проект"},{"$f":"F31/F41","v":7.2037914691943122E-2},null,80,{"$f":"F31/F13","v":1.2903225806451613},24,{"$f":"H31/F13","v":0.38709677419354838},12,{"$f":"J31/F13","v":0.19354838709677419},3.5999999999999996,{"$f":"L31/F13","v":5.8064516129032254E-2},0.18009478672985782,7.2037914691943122E-2]
[null,null,{"$f":"Т0!C44","v":"Проект за  партерно уредување и сообраќај"},{"$f":"F32/F41","v":1.8009478672985781E-2},null,20,{"$f":"F32/F13","v":0.32258064516129031},6,{"$f":"H32/F13","v":9.6774193548387094E-2},3,{"$f":"J32/F13","v":4.8387096774193547E-2},0.89999999999999991,{"$f":"L32/F13","v":1.4516129032258063E-2},4.5023696682464455E-2,1.8009478672985781E-2]
[null,null,{"$f":"Т0!C38","v":"Елаборат за заштита од пожари"},{"$f":"F33/F41","v":1.8009478672985781E-2},null,20,{"$f":"F33/F13","v":0.32258064516129031},6,{"$f":"H33/F13","v":9.6774193548387094E-2},3,{"$f":"J33/F13","v":4.8387096774193547E-2},0.89999999999999991,{"$f":"L33/F13","v":1.4516129032258063E-2},4.5023696682464455E-2,{"$f":"O$41*(F33/$F$41*100)","v":1.8009478672985781E-2}]
[null,null,{"$f":"Т0!C39","v":"Елаборат за заштита при работа"},{"$f":"F34/F41","v":1.3507109004739335E-2},null,15,{"$f":"F34/F13","v":0.24193548387096775},4.5,{"$f":"H34/F13","v":7.2580645161290328E-2},2.25,{"$f":"J34/F13","v":3.6290322580645164E-2},0.67499999999999993,{"$f":"L34/F13","v":1.0887096774193547E-2},3.3767772511848336E-2,1.3507109004739335E-2]
[null,null,{"$f":"Т0!C42","v":"Елаборат за енергетска ефикасност"},{"$f":"F35/F41","v":1.8009478672985781E-2},null,20,{"$f":"F35/F13","v":0.32258064516129031},6,{"$f":"H35/F13","v":9.6774193548387094E-2},{"$f":"F35*0.15","v":3},{"$f":"J35/F13","v":4.8387096774193547E-2},{"$f":"J35*0.3","v":0.89999999999999991},{"$f":"L35/F13","v":1.4516129032258063E-2},{"$f":"N$41*(F35/$F$41*100)","v":4.5023696682464455E-2},{"$f":"O$41*(F35/$F$41*100)","v":1.8009478672985781E-2}]
[null,null,{"$f":"Т0!C43","v":"Елаборат за заштита на животната средина"},{"$f":"F36/F41","v":1.3507109004739335E-2},null,15,{"$f":"F36/F13","v":0.24193548387096775},4.5,{"$f":"H36/F13","v":7.2580645161290328E-2},2.25,{"$f":"J36/F13","v":3.6290322580645164E-2},0.67499999999999993,{"$f":"L36/F13","v":1.0887096774193547E-2},3.3767772511848336E-2,1.3507109004739335E-2]
[null,null,{"$f":"Т0!C37","v":"Сообраќаен проект"},{"$f":"F37/F41","v":1.8009478672985781E-2},null,20,{"$f":"F37/F13","v":0.32258064516129031},{"$f":"F37*0.3","v":6},{"$f":"H37/F13","v":9.6774193548387094E-2},{"$f":"F37*0.15","v":3},{"$f":"J37/F13","v":4.8387096774193547E-2},{"$f":"J37*0.3","v":0.89999999999999991},{"$f":"L37/F13","v":1.4516129032258063E-2},4.7346125093446295E-2,1.8938450037378516E-2]
[]
[null,null,{"$f":"Т0!C47","v":"Координација на проект"},{"$f":"F39/F41","v":5.0000000000000058E-2},null,{"$f":"SUM(F27:F38)/0.95-SUM(F27:F38)","v":55.526315789473756},{"$f":"F39/F13","v":0.89558573853989931},{"$f":"SUM(H27:H35)/0.95-SUM(H27:H35)","v":16.10526315789474},{"$f":"H39/F13","v":0.25976230899830227},{"$f":"F39*0.15","v":8.3289473684210638},{"$f":"J39/F13","v":0.13433786078098489},{"$f":"SUM(L27:L35)/0.95-SUM(L27:L35)","v":2.4157894736842138},{"$f":"L39/F13","v":3.8964346349745382E-2},{"$f":"N$41*(F39/$F$41*100)","v":0.12500000000000017},{"$f":"O$41*(F39/$F$41*100)","v":5.0000000000000065E-2}]
[]
[null,null,{"$f":"Т0!C49","v":"Вкупно:"},{"$f":"SUM(D27:D39)","v":0.99999999999999978},null,{"$f":"SUM(F26:F40)","v":1110.5263157894738},{"$f":"F41/F13","v":17.911714770797964},{"$f":"SUM(H27:H39)","v":332.60526315789474},{"$f":"H41/F13","v":5.3646010186757218},{"$f":"SUM(J27:J39)","v":166.57894736842107},{"$f":"J41/F13","v":2.6867572156196946},{"$f":"SUM(L27:L39)","v":49.890789473684201},{"$f":"L41/F13","v":0.80469015280135803},2.5000000000000001E-2,0.01]

{"sheet":"В3-IV","index":25,"n_rows":42,"n_cols":15,"rows_kept":42,"cut":false,"hidden":true,"merged":[[4,2,4,14],[7,6,7,7],[10,9,10,12],[11,9,11,12],[2,3,2,14],[6,9,6,12],[6,13,6,14],[7,9,7,12],[8,9,8,12],[10,3,10,5],[10,6,10,7],[12,9,12,12],[8,3,8,5],[8,6,8,7],[9,3,9,5],[9,6,9,7],[9,9,9,12],[11,3,11,5],[11,6,11,7],[21,13,22,13],[16,9,16,12],[15,3,15,5],[15,6,15,7],[16,3,16,5],[16,6,16,7],[21,14,22,14],[22,7,22,8],[22,11,22,12],[12,6,12,7],[17,9,17,12],[19,5,20,8],[19,9,19,12],[19,13,20,14],[20,9,20,12],[17,3,17,5],[17,6,17,7],[15,9,15,12],[14,9,14,12],[14,3,14,5],[14,6,14,7],[13,9,13,12],[23,5,23,6],[23,7,23,8],[23,9,23,10],[23,11,23,12],[21,5,22,6],[21,7,21,8],[21,9,22,10],[21,11,21,12]]}
[]
[]
[null,null,{"$f":"' Помош - Каталог на намени'!D28","v":"В3-IV"},{"$f":"' Помош - Каталог на намени'!E28","v":"КУЛТУРА\n(IV ГРУПА)"}]
[]
[null,null,{"$f":"' Помош - Каталог на намени'!F28","v":"В3.10. - Зоолошки градини во градби, забавни и тематски паркови со градби и опрема и други објекти од култура"}]
[]
[null,null,{"$f":"Т0!C8","v":"Површина на градба"},null,null,{"$f":"Калкулатор!D9","v":0},{"$f":"Т0!G8","v":"m²"},{"$f":"Т0!H8","v":"(варијабла)"},null,{"$f":"Т0!J8","v":"Вид на инженерска услуга"},null,null,null,{"$f":"Т0!N8","v":"Минимална вкупна цена"}]
[null,null,null,null,null,null,null,null,null,{"$f":"Т0!J9","v":"1. Изработка на проектна документација (1.1.+1.2)"},null,null,null,{"$f":"SUM(N9:N10)","v":0},{"$f":"SUM(O9:O10)","v":0}]
[null,null,{"$f":"Т0!C10","v":"Просечна цена на изведба за 1 m²"},{"$f":"G9*F13","v":51150},null,null,{"$f":"' Помош - Каталог на намени'!G28","v":825},null,null,{"$f":"Т0!J10","v":"1.1. Изработка на основен проект"},null,null,null,{"$f":"F7*F42","v":0},{"$f":"N9/F13","v":0}]
[null,null,null,null,null,null,null,null,null,{"$f":"Т0!J11","v":"1.2. Изработка на идеен проект"},null,null,null,{"$f":"F7*H42","v":0},{"$f":"N10/F13","v":0}]
[null,null,{"$f":"Т0!C12","v":"Вкупна инвестициона градежна  вредност"},{"$f":"F7*D9","v":0},null,null,{"$f":"D11/F13","v":0}]
[null,null,null,null,null,null,null,null,null,{"$f":"Т0!J13","v":"2. Ревизија на проектна документација (2.1.+2.2.)"},null,null,null,{"$f":"SUM(N13:N14)","v":0},{"$f":"SUM(O13:O14)","v":0}]
[null,null,{"$f":"Т0!C14","v":"Вредност на евро валута"},{"$f":"Т0!D14","v":1},{"$f":"Т0!E14","v":"="},{"$f":"Т0!F14","v":62},null,null,null,{"$f":"Т0!J14","v":"2.1. Ревизија на основен проект"},null,null,null,{"$f":"F7*J42","v":0},{"$f":"N13/F13","v":0}]
[null,null,null,null,null,null,null,null,null,{"$f":"Т0!J15","v":"2.2. Ревизија на идеен проект"},null,null,null,{"$f":"F7*L42","v":0},{"$f":"N14/F13","v":0}]
[null,null,{"$f":"Т0!C16","v":"Изработка на Основен проект"},{"$f":"Т0!D16:F16","v":"Ревизија на Основен проект"},null,null,{"$f":"Т0!G16:H16","v":"Надзор на изградба"}]
[null,null,{"$f":"G42/G9","v":2.1711169419149048E-2},{"$f":"K42/G9","v":3.2566754128723571E-3},null,null,{"$f":"N42","v":2.5000000000000001E-2},null,null,{"$f":"Т0!J17","v":"3. Надзор на градба (3.1.+3.2.)"},null,null,null,{"$f":"SUM(N17:N18)","v":0},{"$f":"SUM(O17:O18)","v":0}]
[null,null,{"$f":"Т0!C18","v":"Изработка на Идеен проект"},{"$f":"Т0!D18:F18","v":"Ревизија на Идеен проект"},null,null,{"$f":"Т0!G18:H18","v":"Проектантски надзор"},null,null,{"$f":"Т0!J18","v":"3.1. Надзор на градба"},null,null,null,{"$f":"F7*D9*N42","v":0},{"$f":"N17/F13","v":0}]
[null,null,{"$f":"I42/G9","v":6.5010032412409326E-3},{"$f":"M42/G9","v":9.7515048618613989E-4},null,null,{"$f":"O42","v":0.01},null,null,{"$f":"Т0!J19","v":"3.2. Проектантски надзор"},null,null,null,{"$f":"F7*D9*O42","v":0},{"$f":"N18/F13","v":0}]
[]
[null,null,null,null,null,{"$f":"Т0!F21","v":"Изработка на проектна документација"},null,null,null,{"$f":"Т0!J21","v":"Ревизија на проектна документација"},null,null,null,{"$f":"Т0!N21","v":"Надзор на изградба"}]
[null,null,null,null,null,null,null,null,null,{"$f":"Т0!J22","v":"(15% од вредноста на Изработка на проектна документација)"}]
[null,null,null,null,null,{"$f":"Т0!F23","v":"Основен проект"},null,{"$f":"Т0!H23","v":"Идеен проект"},null,{"$f":"Т0!J23","v":"Основен проект"},null,{"$f":"Т0!L23","v":"Идеен проект"},null,{"$f":"Т0!N23","v":"Надзор на изградба"},{"$f":"Т0!O23","v":"Проектантски надзор"}]
[null,null,null,null,null,null,null,{"$f":"Т0!H24","v":"(30% од вредноста на основниот проект)"},null,null,null,{"$f":"Т0!L24","v":"(30% од вредноста на ревизија на основниот проект)"}]
[null,null,{"$f":"Т0!C25","v":"Вид на проект"},{"$f":"Т0!D25","v":"Удел"},null,{"$f":"Т0!F25","v":"Минимална цена"},null,{"$f":"Т0!H25","v":"Минимална цена"},null,{"$f":"Т0!J25","v":"Минимална цена"},null,{"$f":"Т0!L25","v":"Минимална цена"},null,{"$f":"Т0!N25","v":"Минимален процент од инвестиција"},{"$f":"Т0!O25","v":"Минимален процент од инвестиција"}]
[null,null,{"$f":"Т0!C26","v":"(според намената)"},{"$f":"Т0!D26","v":"[%]"},null,{"$f":"Т0!F26","v":"[денари/m²]"},{"$f":"Т0!G26","v":"[€/m²]"},{"$f":"Т0!H26","v":"[денари/m²]"},{"$f":"Т0!I26","v":"[€/m²]"},{"$f":"Т0!J26","v":"[денари/m²]"},{"$f":"Т0!K26","v":"[€/m²]"},{"$f":"Т0!L26","v":"[денари/m²]"},{"$f":"Т0!M26","v":"[€/m²]"},{"$f":"Т0!N26","v":"[%]"},"[%]"]
[]
[null,null,{"$f":"Т0!C28","v":"Архитектонски проект"},{"$f":"F27/F42","v":0.39170616113744072},null,435,{"$f":"F27/F13","v":7.0161290322580649},{"$f":"F27*0.3","v":130.5},{"$f":"H27/F13","v":2.1048387096774195},{"$f":"F27*0.15","v":65.25},{"$f":"J27/F13","v":1.0524193548387097},{"$f":"J27*0.3","v":19.574999999999999},{"$f":"L27/F13","v":0.31572580645161291},{"$f":"N$42*(F27/$F$42*100)","v":0.97926540284360186},{"$f":"O$42*(F27/$F$42*100)","v":0.39170616113744078}]
[null,null,{"$f":"Т0!C29","v":"Градежно-конструктивен проект"},{"$f":"F28/F42","v":0.2206161137440758},null,245,{"$f":"F28/F13","v":3.9516129032258065},73.5,{"$f":"H28/F13","v":1.185483870967742},36.75,{"$f":"J28/F13","v":0.592741935483871},11.025,{"$f":"L28/F13","v":0.17782258064516129},0.55154028436018954,0.2206161137440758]
[null,null,{"$f":"Т0!C30","v":"Електротехнички проект"},{"$f":"F29/F42","v":8.1042654028436009E-2},null,90,{"$f":"F29/F13","v":1.4516129032258065},27,{"$f":"H29/F13","v":0.43548387096774194},13.5,{"$f":"J29/F13","v":0.21774193548387097},4.05,{"$f":"L29/F13","v":6.5322580645161291E-2},0.20260663507109,8.1042654028436009E-2]
[null,null,{"$f":"Т0!C32","v":"Проект за водовод и канализација"},{"$f":"F30/F42","v":5.4028436018957342E-2},null,60,{"$f":"F30/F13","v":0.967741935483871},18,{"$f":"H30/F13","v":0.29032258064516131},9,{"$f":"J30/F13","v":0.14516129032258066},2.6999999999999997,{"$f":"L30/F13","v":4.3548387096774187E-2},0.13507109004739334,5.4028436018957342E-2]
[null,null,{"$f":"Т0!C33","v":"Термотехнички проект"},{"$f":"F31/F42","v":7.2037914691943122E-2},null,80,{"$f":"F31/F13","v":1.2903225806451613},24,{"$f":"H31/F13","v":0.38709677419354838},12,{"$f":"J31/F13","v":0.19354838709677419},3.5999999999999996,{"$f":"L31/F13","v":5.8064516129032254E-2},0.18009478672985782,7.2037914691943122E-2]
[null,null,{"$f":"Т0!C36","v":"Технолошки проект"},{"$f":"F32/F42","v":2.7014218009478671E-2},null,30,{"$f":"F32/F13","v":0.4838709677419355},9,{"$f":"H32/F13","v":0.14516129032258066},4.5,{"$f":"J32/F13","v":7.2580645161290328E-2},1.3499999999999999,{"$f":"L32/F13","v":2.1774193548387093E-2},6.7535545023696672E-2,2.7014218009478671E-2]
[null,null,{"$f":"Т0!C44","v":"Проект за  партерно уредување и сообраќај"},{"$f":"F33/F42","v":1.8009478672985781E-2},null,20,{"$f":"F33/F13","v":0.32258064516129031},6,{"$f":"H33/F13","v":9.6774193548387094E-2},3,{"$f":"J33/F13","v":4.8387096774193547E-2},0.89999999999999991,{"$f":"L33/F13","v":1.4516129032258063E-2},4.5023696682464455E-2,1.8009478672985781E-2]
[null,null,{"$f":"Т0!C38","v":"Елаборат за заштита од пожари"},{"$f":"F34/F42","v":1.8009478672985781E-2},null,20,{"$f":"F34/F13","v":0.32258064516129031},6,{"$f":"H34/F13","v":9.6774193548387094E-2},3,{"$f":"J34/F13","v":4.8387096774193547E-2},0.89999999999999991,{"$f":"L34/F13","v":1.4516129032258063E-2},4.5023696682464455E-2,1.8009478672985781E-2]
[null,null,{"$f":"Т0!C39","v":"Елаборат за заштита при работа"},{"$f":"F35/F42","v":1.3507109004739335E-2},null,15,{"$f":"F35/F13","v":0.24193548387096775},4.5,{"$f":"H35/F13","v":7.2580645161290328E-2},2.25,{"$f":"J35/F13","v":3.6290322580645164E-2},0.67499999999999993,{"$f":"L35/F13","v":1.0887096774193547E-2},3.3767772511848336E-2,1.3507109004739335E-2]
[null,null,{"$f":"Т0!C42","v":"Елаборат за енергетска ефикасност"},{"$f":"F36/F42","v":1.8009478672985781E-2},null,20,{"$f":"F36/F13","v":0.32258064516129031},6,{"$f":"H36/F13","v":9.6774193548387094E-2},{"$f":"F36*0.15","v":3},{"$f":"J36/F13","v":4.8387096774193547E-2},{"$f":"J36*0.3","v":0.89999999999999991},{"$f":"L36/F13","v":1.4516129032258063E-2},{"$f":"N$42*(F36/$F$42*100)","v":4.5023696682464455E-2},{"$f":"O$42*(F36/$F$42*100)","v":1.8009478672985781E-2}]
[null,null,{"$f":"Т0!C43","v":"Елаборат за заштита на животната средина"},{"$f":"F37/F42","v":1.8009478672985781E-2},null,20,{"$f":"F37/F13","v":0.32258064516129031},{"$f":"F37*0.3","v":6},{"$f":"H37/F13","v":9.6774193548387094E-2},3,{"$f":"J37/F13","v":4.8387096774193547E-2},0.89999999999999991,{"$f":"L37/F13","v":1.4516129032258063E-2},4.5023696682464455E-2,1.8009478672985781E-2]
[null,null,{"$f":"Т0!C37","v":"Сообраќаен проект"},{"$f":"F38/F42","v":1.8009478672985781E-2},null,20,{"$f":"F38/F13","v":0.32258064516129031},{"$f":"F38*0.3","v":6},{"$f":"H38/F13","v":9.6774193548387094E-2},{"$f":"F38*0.15","v":3},{"$f":"J38/F13","v":4.8387096774193547E-2},{"$f":"J38*0.3","v":0.89999999999999991},{"$f":"L38/F13","v":1.4516129032258063E-2},{"$f":"N$42*(F38/$F$42*100)","v":4.5023696682464455E-2},{"$f":"O$42*(F38/$F$42*100)","v":1.8009478672985781E-2}]
[]
[null,null,{"$f":"Т0!C47","v":"Координација на проект"},{"$f":"F40/F42","v":5.0000000000000058E-2},null,{"$f":"SUM(F27:F38)/0.95-SUM(F27:F38)","v":55.526315789473756},{"$f":"F40/F13","v":0.89558573853989931},{"$f":"SUM(H27:H36)/0.95-SUM(H27:H36)","v":16.026315789473699},{"$f":"H40/F13","v":0.25848896434634999},{"$f":"F40*0.15","v":8.3289473684210638},{"$f":"J40/F13","v":0.13433786078098489},{"$f":"SUM(L27:L36)/0.95-SUM(L27:L36)","v":2.4039473684210577},{"$f":"L40/F13","v":3.8773344651952542E-2},{"$f":"N$42*(F40/$F$42*100)","v":0.12500000000000017},{"$f":"O$42*(F40/$F$42*100)","v":5.0000000000000065E-2}]
[]
[null,null,{"$f":"Т0!C49","v":"Вкупно:"},{"$f":"SUM(D27:D40)","v":0.99999999999999967},null,{"$f":"SUM(F26:F41)","v":1110.5263157894738},{"$f":"F42/F13","v":17.911714770797964},{"$f":"SUM(H27:H40)","v":332.5263157894737},{"$f":"H42/F13","v":5.3633276740237692},{"$f":"SUM(J27:J40)","v":166.57894736842107},{"$f":"J42/F13","v":2.6867572156196946},{"$f":"SUM(L27:L40)","v":49.878947368421052},{"$f":"L42/F13","v":0.8044991511035654},2.5000000000000001E-2,0.01]

{"sheet":"В4","index":26,"n_rows":41,"n_cols":15,"rows_kept":41,"cut":false,"hidden":true,"merged":[[4,2,4,14],[7,6,7,7],[10,9,10,12],[11,9,11,12],[2,3,2,14],[6,9,6,12],[6,13,6,14],[7,9,7,12],[8,9,8,12],[10,3,10,5],[10,6,10,7],[12,9,12,12],[8,3,8,5],[8,6,8,7],[9,3,9,5],[9,6,9,7],[9,9,9,12],[11,3,11,5],[11,6,11,7],[21,13,22,13],[16,9,16,12],[15,3,15,5],[15,6,15,7],[16,3,16,5],[16,6,16,7],[21,14,22,14],[22,7,22,8],[22,11,22,12],[12,6,12,7],[17,9,17,12],[19,5,20,8],[19,9,19,12],[19,13,20,14],[20,9,20,12],[17,3,17,5],[17,6,17,7],[15,9,15,12],[14,9,14,12],[14,3,14,5],[14,6,14,7],[13,9,13,12],[23,5,23,6],[23,7,23,8],[23,9,23,10],[23,11,23,12],[21,5,22,6],[21,7,21,8],[21,9,22,10],[21,11,21,12]]}
[]
[]
[null,null,{"$f":"' Помош - Каталог на намени'!D29","v":"В4"},{"$f":"' Помош - Каталог на намени'!E29","v":"ДРЖАВНИ АДМИНИСТРАЦИИ И ИНСТИТУЦИИ"}]
[]
[null,null,{"$f":"' Помош - Каталог на намени'!F29","v":"В4.1. - Згради на органите на извршната власт: згради на владата, министерства, згради на владини тела, државно-протоколарни комплекси, згради и резиденции и сл.\nВ4.2. - Згради на судската власт - судови\nВ4.3. - Згради на законодавната власт - собрание\nВ4.4. - Згради на јавните обвинителства и државно правобранителство\nВ4.5. - Згради на други државни институции: уставен суд, народната банка, регулаторни тела и други\nВ4.6. - Управи, дирекции, агенции, заводи, архиви, институции за чување на архивска граѓа\nВ4.7. - Згради и комплекси на амбасади и дипломатски претставништва\nВ4.8. - Згради на органите на локалната самоуправа\nВ4.9. - Згради на меѓународни организации"}]
[]
[null,null,{"$f":"Т0!C8","v":"Површина на градба"},null,null,{"$f":"Калкулатор!D9","v":0},{"$f":"Т0!G8","v":"m²"},{"$f":"Т0!H8","v":"(варијабла)"},null,{"$f":"Т0!J8","v":"Вид на инженерска услуга"},null,null,null,{"$f":"Т0!N8","v":"Минимална вкупна цена"}]
[null,null,null,null,null,null,null,null,null,{"$f":"Т0!J9","v":"1. Изработка на проектна документација (1.1.+1.2)"},null,null,null,{"$f":"SUM(N9:N10)","v":0},{"$f":"SUM(O9:O10)","v":0}]
[null,null,{"$f":"Т0!C10","v":"Просечна цена на изведба за 1 m²"},{"$f":"G9*F13","v":57350},null,null,{"$f":"' Помош - Каталог на намени'!G29","v":925},null,null,{"$f":"Т0!J10","v":"1.1. Изработка на основен проект"},null,null,null,{"$f":"F7*F41","v":0},{"$f":"N9/F13","v":0}]
[null,null,null,null,null,null,null,null,null,{"$f":"Т0!J11","v":"1.2. Изработка на идеен проект"},null,null,null,{"$f":"F7*H41","v":0},{"$f":"N10/F13","v":0}]
[null,null,{"$f":"Т0!C12","v":"Вкупна инвестициона градежна  вредност"},{"$f":"F7*D9","v":0},null,null,{"$f":"D11/F13","v":0}]
[null,null,null,null,null,null,null,null,null,{"$f":"Т0!J13","v":"2. Ревизија на проектна документација (2.1.+2.2.)"},null,null,null,{"$f":"SUM(N13:N14)","v":0},{"$f":"SUM(O13:O14)","v":0}]
[null,null,{"$f":"Т0!C14","v":"Вредност на евро валута"},{"$f":"Т0!D14","v":1},{"$f":"Т0!E14","v":"="},{"$f":"Т0!F14","v":62},null,null,null,{"$f":"Т0!J14","v":"2.1. Ревизија на основен проект"},null,null,null,{"$f":"F7*J41","v":0},{"$f":"N13/F13","v":0}]
[null,null,null,null,null,null,null,null,null,{"$f":"Т0!J15","v":"2.2. Ревизија на идеен проект"},null,null,null,{"$f":"F7*L41","v":0},{"$f":"N14/F13","v":0}]
[null,null,{"$f":"Т0!C16","v":"Изработка на Основен проект"},{"$f":"Т0!D16:F16","v":"Ревизија на Основен проект"},null,null,{"$f":"Т0!G16:H16","v":"Надзор на изградба"}]
[null,null,{"$f":"G41/G9","v":2.2667829119442023E-2},{"$f":"K41/G9","v":3.4001743679163031E-3},null,null,{"$f":"N41","v":2.5000000000000001E-2},null,null,{"$f":"Т0!J17","v":"3. Надзор на градба (3.1.+3.2.)"},null,null,null,{"$f":"SUM(N17:N18)","v":0},{"$f":"SUM(O17:O18)","v":0}]
[null,null,{"$f":"Т0!C18","v":"Изработка на Идеен проект"},{"$f":"Т0!D18:F18","v":"Ревизија на Идеен проект"},null,null,{"$f":"Т0!G18:H18","v":"Проектантски надзор"},null,null,{"$f":"Т0!J18","v":"3.1. Надзор на градба"},null,null,null,{"$f":"F7*D9*N41","v":0},{"$f":"N17/F13","v":0}]
[null,null,{"$f":"I41/G9","v":6.7907126141421564E-3},{"$f":"M41/G9","v":1.0186068921213232E-3},null,null,{"$f":"O41","v":0.01},null,null,{"$f":"Т0!J19","v":"3.2. Проектантски надзор"},null,null,null,{"$f":"F7*D9*O41","v":0},{"$f":"N18/F13","v":0}]
[]
[null,null,null,null,null,{"$f":"Т0!F21","v":"Изработка на проектна документација"},null,null,null,{"$f":"Т0!J21","v":"Ревизија на проектна документација"},null,null,null,{"$f":"Т0!N21","v":"Надзор на изградба"}]
[null,null,null,null,null,null,null,null,null,{"$f":"Т0!J22","v":"(15% од вредноста на Изработка на проектна документација)"}]
[null,null,null,null,null,{"$f":"Т0!F23","v":"Основен проект"},null,{"$f":"Т0!H23","v":"Идеен проект"},null,{"$f":"Т0!J23","v":"Основен проект"},null,{"$f":"Т0!L23","v":"Идеен проект"},null,{"$f":"Т0!N23","v":"Надзор на изградба"},{"$f":"Т0!O23","v":"Проектантски надзор"}]
[null,null,null,null,null,null,null,{"$f":"Т0!H24","v":"(30% од вредноста на основниот проект)"},null,null,null,{"$f":"Т0!L24","v":"(30% од вредноста на ревизија на основниот проект)"}]
[null,null,{"$f":"Т0!C25","v":"Вид на проект"},{"$f":"Т0!D25","v":"Удел"},null,{"$f":"Т0!F25","v":"Минимална цена"},null,{"$f":"Т0!H25","v":"Минимална цена"},null,{"$f":"Т0!J25","v":"Минимална цена"},null,{"$f":"Т0!L25","v":"Минимална цена"},null,{"$f":"Т0!N25","v":"Минимален процент од инвестиција"},{"$f":"Т0!O25","v":"Минимален процент од инвестиција"}]
[null,null,{"$f":"Т0!C26","v":"(според намената)"},{"$f":"Т0!D26","v":"[%]"},null,{"$f":"Т0!F26","v":"[денари/m²]"},{"$f":"Т0!G26","v":"[€/m²]"},{"$f":"Т0!H26","v":"[денари/m²]"},{"$f":"Т0!I26","v":"[€/m²]"},{"$f":"Т0!J26","v":"[денари/m²]"},{"$f":"Т0!K26","v":"[€/m²]"},{"$f":"Т0!L26","v":"[денари/m²]"},{"$f":"Т0!M26","v":"[€/m²]"},{"$f":"Т0!N26","v":"[%]"},"[%]"]
[]
[null,null,{"$f":"Т0!C28","v":"Архитектонски проект"},{"$f":"F27/F41","v":0.37307692307692308},null,485,{"$f":"F27/F13","v":7.82258064516129},{"$f":"F27*0.3","v":145.5},{"$f":"H27/F13","v":2.346774193548387},{"$f":"F27*0.15","v":72.75},{"$f":"J27/F13","v":1.1733870967741935},{"$f":"J27*0.3","v":21.824999999999999},{"$f":"L27/F13","v":0.35201612903225804},{"$f":"N$41*(F27/$F$41*100)","v":0.93269230769230771},{"$f":"O$41*(F27/$F$41*100)","v":0.37307692307692308}]
[null,null,{"$f":"Т0!C29","v":"Градежно-конструктивен проект"},{"$f":"F28/F41","v":0.21153846153846154},null,275,{"$f":"F28/F13","v":4.435483870967742},82.5,{"$f":"H28/F13","v":1.3306451612903225},41.25,{"$f":"J28/F13","v":0.66532258064516125},12.375,{"$f":"L28/F13","v":0.19959677419354838},0.52884615384615385,0.21153846153846154]
[null,null,{"$f":"Т0!C30","v":"Електротехнички проект"},{"$f":"F29/F41","v":0.14076923076923076},null,183,{"$f":"F29/F13","v":2.9516129032258065},54.9,{"$f":"H29/F13","v":0.88548387096774195},27.45,{"$f":"J29/F13","v":0.44274193548387097},8.2349999999999994,{"$f":"L29/F13","v":0.13282258064516128},0.35192307692307695,0.14076923076923076]
[null,null,{"$f":"Т0!C32","v":"Проект за водовод и канализација"},{"$f":"F30/F41","v":5.5384615384615386E-2},null,72,{"$f":"F30/F13","v":1.1612903225806452},21.599999999999998,{"$f":"H30/F13","v":0.34838709677419349},10.799999999999999,{"$f":"J30/F13","v":0.17419354838709675},3.2399999999999998,{"$f":"L30/F13","v":5.2258064516129028E-2},0.13846153846153847,5.5384615384615386E-2]
[null,null,{"$f":"Т0!C33","v":"Термотехнички проект"},{"$f":"F31/F41","v":7.6923076923076927E-2},null,100,{"$f":"F31/F13","v":1.6129032258064515},30,{"$f":"H31/F13","v":0.4838709677419355},15,{"$f":"J31/F13","v":0.24193548387096775},4.5,{"$f":"L31/F13","v":7.2580645161290328E-2},0.19230769230769232,7.6923076923076927E-2]
[null,null,{"$f":"Т0!C44","v":"Проект за  партерно уредување и сообраќај"},{"$f":"F32/F41","v":2.3076923076923078E-2},null,30,{"$f":"F32/F13","v":0.4838709677419355},9,{"$f":"H32/F13","v":0.14516129032258066},4.5,{"$f":"J32/F13","v":7.2580645161290328E-2},1.3499999999999999,{"$f":"L32/F13","v":2.1774193548387093E-2},5.7692307692307702E-2,2.3076923076923078E-2]
[null,null,{"$f":"Т0!C38","v":"Елаборат за заштита од пожари"},{"$f":"F33/F41","v":1.5384615384615385E-2},null,20,{"$f":"F33/F13","v":0.32258064516129031},6,{"$f":"H33/F13","v":9.6774193548387094E-2},3,{"$f":"J33/F13","v":4.8387096774193547E-2},0.89999999999999991,{"$f":"L33/F13","v":1.4516129032258063E-2},3.8461538461538464E-2,1.5384615384615385E-2]
[null,null,{"$f":"Т0!C39","v":"Елаборат за заштита при работа"},{"$f":"F34/F41","v":1.1538461538461539E-2},null,15,{"$f":"F34/F13","v":0.24193548387096775},4.5,{"$f":"H34/F13","v":7.2580645161290328E-2},2.25,{"$f":"J34/F13","v":3.6290322580645164E-2},0.67499999999999993,{"$f":"L34/F13","v":1.0887096774193547E-2},2.8846153846153851E-2,1.1538461538461539E-2]
[null,null,{"$f":"Т0!C42","v":"Елаборат за енергетска ефикасност"},{"$f":"F35/F41","v":1.5384615384615385E-2},null,20,{"$f":"F35/F13","v":0.32258064516129031},6,{"$f":"H35/F13","v":9.6774193548387094E-2},{"$f":"F35*0.15","v":3},{"$f":"J35/F13","v":4.8387096774193547E-2},{"$f":"J35*0.3","v":0.89999999999999991},{"$f":"L35/F13","v":1.4516129032258063E-2},{"$f":"N$41*(F35/$F$41*100)","v":3.8461538461538464E-2},{"$f":"O$41*(F35/$F$41*100)","v":1.5384615384615385E-2}]
[null,null,{"$f":"Т0!C43","v":"Елаборат за заштита на животната средина"},{"$f":"F36/F41","v":1.1538461538461539E-2},null,15,{"$f":"F36/F13","v":0.24193548387096775},{"$f":"F36*0.3","v":4.5},{"$f":"H36/F13","v":7.2580645161290328E-2},2.25,{"$f":"J36/F13","v":3.6290322580645164E-2},0.67499999999999993,{"$f":"L36/F13","v":1.0887096774193547E-2},2.8846153846153851E-2,1.1538461538461539E-2]
[null,null,{"$f":"Т0!C37","v":"Сообраќаен проект"},{"$f":"F37/F41","v":1.5384615384615385E-2},null,20,{"$f":"F37/F13","v":0.32258064516129031},{"$f":"F37*0.3","v":6},{"$f":"H37/F13","v":9.6774193548387094E-2},{"$f":"F37*0.15","v":3},{"$f":"J37/F13","v":4.8387096774193547E-2},{"$f":"J37*0.3","v":0.89999999999999991},{"$f":"L37/F13","v":1.4516129032258063E-2},{"$f":"N$41*(F37/$F$41*100)","v":3.8461538461538464E-2},{"$f":"O$41*(F37/$F$41*100)","v":1.5384615384615385E-2}]
[]
[null,null,{"$f":"Т0!C47","v":"Координација на проект"},{"$f":"F39/F41","v":0.05},null,{"$f":"SUM(F27:F38)/0.95-SUM(F27:F38)","v":65},{"$f":"F39/F13","v":1.0483870967741935},{"$f":"SUM(H27:H35)/0.95-SUM(H27:H35)","v":18.947368421052659},{"$f":"H39/F13","v":0.30560271646859127},{"$f":"F39*0.15","v":9.75},{"$f":"J39/F13","v":0.15725806451612903},{"$f":"SUM(L27:L35)/0.95-SUM(L27:L35)","v":2.8421052631578974},{"$f":"L39/F13","v":4.5840407470288669E-2},{"$f":"N$41*(F39/$F$41*100)","v":0.125},{"$f":"O$41*(F39/$F$41*100)","v":0.05}]
[]
[null,null,{"$f":"Т0!C49","v":"Вкупно:"},{"$f":"SUM(D27:D39)","v":1},null,{"$f":"SUM(F26:F40)","v":1300},{"$f":"F41/F13","v":20.967741935483872},{"$f":"SUM(H27:H39)","v":389.44736842105266},{"$f":"H41/F13","v":6.2814091680814945},{"$f":"SUM(J27:J39)","v":195},{"$f":"J41/F13","v":3.1451612903225805},{"$f":"SUM(L27:L39)","v":58.417105263157893},{"$f":"L41/F13","v":0.94221137521222409},2.5000000000000001E-2,0.01]

{"sheet":"В5","index":27,"n_rows":41,"n_cols":15,"rows_kept":41,"cut":false,"hidden":true,"merged":[[4,2,4,14],[7,6,7,7],[10,9,10,12],[11,9,11,12],[2,3,2,14],[6,9,6,12],[6,13,6,14],[7,9,7,12],[8,9,8,12],[10,3,10,5],[10,6,10,7],[12,9,12,12],[8,3,8,5],[8,6,8,7],[9,3,9,5],[9,6,9,7],[9,9,9,12],[11,3,11,5],[11,6,11,7],[21,13,22,13],[16,9,16,12],[15,3,15,5],[15,6,15,7],[16,3,16,5],[16,6,16,7],[21,14,22,14],[22,7,22,8],[22,11,22,12],[12,6,12,7],[17,9,17,12],[19,5,20,8],[19,9,19,12],[19,13,20,14],[20,9,20,12],[17,3,17,5],[17,6,17,7],[15,9,15,12],[14,9,14,12],[14,3,14,5],[14,6,14,7],[13,9,13,12],[23,5,23,6],[23,7,23,8],[23,9,23,10],[23,11,23,12],[21,5,22,6],[21,7,21,8],[21,9,22,10],[21,11,21,12]]}
[]
[]
[null,null,{"$f":"' Помош - Каталог на намени'!D30","v":"В5"},{"$f":"' Помош - Каталог на намени'!E30","v":"ВЕРСКИ ИНСТИТУЦИИ"}]
[]
[null,null,{"$f":"' Помош - Каталог на намени'!F30","v":"В5.1. - Цркви\nВ5.2. - Џамии\nВ5.3. - Синагоги\nВ5.4. - Манастири\nВ5.5. - Текиња\nВ5.6. - Други верски институции"}]
[]
[null,null,{"$f":"Т0!C8","v":"Површина на градба"},null,null,{"$f":"Калкулатор!D9","v":0},{"$f":"Т0!G8","v":"m²"},{"$f":"Т0!H8","v":"(варијабла)"},null,{"$f":"Т0!J8","v":"Вид на инженерска услуга"},null,null,null,{"$f":"Т0!N8","v":"Минимална вкупна цена"}]
[null,null,null,null,null,null,null,null,null,{"$f":"Т0!J9","v":"1. Изработка на проектна документација (1.1.+1.2)"},null,null,null,{"$f":"SUM(N9:N10)","v":0},{"$f":"SUM(O9:O10)","v":0}]
[null,null,{"$f":"Т0!C10","v":"Просечна цена на изведба за 1 m²"},{"$f":"G9*F13","v":59520},null,null,{"$f":"' Помош - Каталог на намени'!G30","v":960},null,null,{"$f":"Т0!J10","v":"1.1. Изработка на основен проект"},null,null,null,{"$f":"F7*F41","v":0},{"$f":"N9/F13","v":0}]
[null,null,null,null,null,null,null,null,null,{"$f":"Т0!J11","v":"1.2. Изработка на идеен проект"},null,null,null,{"$f":"F7*H41","v":0},{"$f":"N10/F13","v":0}]
[null,null,{"$f":"Т0!C12","v":"Вкупна инвестициона градежна  вредност"},{"$f":"F7*D9","v":0},null,null,{"$f":"D11/F13","v":0}]
[null,null,null,null,null,null,null,null,null,{"$f":"Т0!J13","v":"2. Ревизија на проектна документација (2.1.+2.2.)"},null,null,null,{"$f":"SUM(N13:N14)","v":0},{"$f":"SUM(O13:O14)","v":0}]
[null,null,{"$f":"Т0!C14","v":"Вредност на евро валута"},{"$f":"Т0!D14","v":1},{"$f":"Т0!E14","v":"="},{"$f":"Т0!F14","v":62},null,null,null,{"$f":"Т0!J14","v":"2.1. Ревизија на основен проект"},null,null,null,{"$f":"F7*J41","v":0},{"$f":"N13/F13","v":0}]
[null,null,null,null,null,null,null,null,null,{"$f":"Т0!J15","v":"2.2. Ревизија на идеен проект"},null,null,null,{"$f":"F7*L41","v":0},{"$f":"N14/F13","v":0}]
[null,null,{"$f":"Т0!C16","v":"Изработка на Основен проект"},{"$f":"Т0!D16:F16","v":"Ревизија на Основен проект"},null,null,{"$f":"Т0!G16:H16","v":"Надзор на изградба"}]
[null,null,{"$f":"G41/G9","v":2.1841397849462367E-2},{"$f":"K41/G9","v":3.2762096774193545E-3},null,null,{"$f":"N41","v":2.5000000000000001E-2},null,null,{"$f":"Т0!J17","v":"3. Надзор на градба (3.1.+3.2.)"},null,null,null,{"$f":"SUM(N17:N18)","v":0},{"$f":"SUM(O17:O18)","v":0}]
[null,null,{"$f":"Т0!C18","v":"Изработка на Идеен проект"},{"$f":"Т0!D18:F18","v":"Ревизија на Идеен проект"},null,null,{"$f":"Т0!G18:H18","v":"Проектантски надзор"},null,null,{"$f":"Т0!J18","v":"3.1. Надзор на градба"},null,null,null,{"$f":"F7*D9*N41","v":0},{"$f":"N17/F13","v":0}]
[null,null,{"$f":"I41/G9","v":6.5431345500848899E-3},{"$f":"M41/G9","v":9.8147018251273335E-4},null,null,{"$f":"O41","v":0.01},null,null,{"$f":"Т0!J19","v":"3.2. Проектантски надзор"},null,null,null,{"$f":"F7*D9*O41","v":0},{"$f":"N18/F13","v":0}]
[]
[null,null,null,null,null,{"$f":"Т0!F21","v":"Изработка на проектна документација"},null,null,null,{"$f":"Т0!J21","v":"Ревизија на проектна документација"},null,null,null,{"$f":"Т0!N21","v":"Надзор на изградба"}]
[null,null,null,null,null,null,null,null,null,{"$f":"Т0!J22","v":"(15% од вредноста на Изработка на проектна документација)"}]
[null,null,null,null,null,{"$f":"Т0!F23","v":"Основен проект"},null,{"$f":"Т0!H23","v":"Идеен проект"},null,{"$f":"Т0!J23","v":"Основен проект"},null,{"$f":"Т0!L23","v":"Идеен проект"},null,{"$f":"Т0!N23","v":"Надзор на изградба"},{"$f":"Т0!O23","v":"Проектантски надзор"}]
[null,null,null,null,null,null,null,{"$f":"Т0!H24","v":"(30% од вредноста на основниот проект)"},null,null,null,{"$f":"Т0!L24","v":"(30% од вредноста на ревизија на основниот проект)"}]
[null,null,{"$f":"Т0!C25","v":"Вид на проект"},{"$f":"Т0!D25","v":"Удел"},null,{"$f":"Т0!F25","v":"Минимална цена"},null,{"$f":"Т0!H25","v":"Минимална цена"},null,{"$f":"Т0!J25","v":"Минимална цена"},null,{"$f":"Т0!L25","v":"Минимална цена"},null,{"$f":"Т0!N25","v":"Минимален процент од инвестиција"},{"$f":"Т0!O25","v":"Минимален процент од инвестиција"}]
[null,null,{"$f":"Т0!C26","v":"(според намената)"},{"$f":"Т0!D26","v":"[%]"},null,{"$f":"Т0!F26","v":"[денари/m²]"},{"$f":"Т0!G26","v":"[€/m²]"},{"$f":"Т0!H26","v":"[денари/m²]"},{"$f":"Т0!I26","v":"[€/m²]"},{"$f":"Т0!J26","v":"[денари/m²]"},{"$f":"Т0!K26","v":"[€/m²]"},{"$f":"Т0!L26","v":"[денари/m²]"},{"$f":"Т0!M26","v":"[€/m²]"},{"$f":"Т0!N26","v":"[%]"},"[%]"]
[]
[null,null,{"$f":"Т0!C28","v":"Архитектонски проект"},{"$f":"F27/F41","v":0.37307692307692308},null,485,{"$f":"F27/F13","v":7.82258064516129},{"$f":"F27*0.3","v":145.5},{"$f":"H27/F13","v":2.346774193548387},{"$f":"F27*0.15","v":72.75},{"$f":"J27/F13","v":1.1733870967741935},{"$f":"J27*0.3","v":21.824999999999999},{"$f":"L27/F13","v":0.35201612903225804},{"$f":"N$41*(F27/$F$41*100)","v":0.93269230769230771},{"$f":"O$41*(F27/$F$41*100)","v":0.37307692307692308}]
[null,null,{"$f":"Т0!C29","v":"Градежно-конструктивен проект"},{"$f":"F28/F41","v":0.21153846153846154},null,275,{"$f":"F28/F13","v":4.435483870967742},82.5,{"$f":"H28/F13","v":1.3306451612903225},41.25,{"$f":"J28/F13","v":0.66532258064516125},12.375,{"$f":"L28/F13","v":0.19959677419354838},0.52884615384615385,0.21153846153846154]
[null,null,{"$f":"Т0!C30","v":"Електротехнички проект"},{"$f":"F29/F41","v":0.14076923076923076},null,183,{"$f":"F29/F13","v":2.9516129032258065},54.9,{"$f":"H29/F13","v":0.88548387096774195},27.45,{"$f":"J29/F13","v":0.44274193548387097},8.2349999999999994,{"$f":"L29/F13","v":0.13282258064516128},0.35192307692307695,0.14076923076923076]
[null,null,{"$f":"Т0!C32","v":"Проект за водовод и канализација"},{"$f":"F30/F41","v":5.5384615384615386E-2},null,72,{"$f":"F30/F13","v":1.1612903225806452},21.599999999999998,{"$f":"H30/F13","v":0.34838709677419349},10.799999999999999,{"$f":"J30/F13","v":0.17419354838709675},3.2399999999999998,{"$f":"L30/F13","v":5.2258064516129028E-2},0.13846153846153847,5.5384615384615386E-2]
[null,null,{"$f":"Т0!C33","v":"Термотехнички проект"},{"$f":"F31/F41","v":7.6923076923076927E-2},null,100,{"$f":"F31/F13","v":1.6129032258064515},30,{"$f":"H31/F13","v":0.4838709677419355},15,{"$f":"J31/F13","v":0.24193548387096775},4.5,{"$f":"L31/F13","v":7.2580645161290328E-2},0.19230769230769232,7.6923076923076927E-2]
[null,null,{"$f":"Т0!C44","v":"Проект за  партерно уредување и сообраќај"},{"$f":"F32/F41","v":2.3076923076923078E-2},null,30,{"$f":"F32/F13","v":0.4838709677419355},9,{"$f":"H32/F13","v":0.14516129032258066},4.5,{"$f":"J32/F13","v":7.2580645161290328E-2},1.3499999999999999,{"$f":"L32/F13","v":2.1774193548387093E-2},5.7692307692307702E-2,2.3076923076923078E-2]
[null,null,{"$f":"Т0!C38","v":"Елаборат за заштита од пожари"},{"$f":"F33/F41","v":1.5384615384615385E-2},null,20,{"$f":"F33/F13","v":0.32258064516129031},6,{"$f":"H33/F13","v":9.6774193548387094E-2},3,{"$f":"J33/F13","v":4.8387096774193547E-2},0.89999999999999991,{"$f":"L33/F13","v":1.4516129032258063E-2},3.8461538461538464E-2,1.5384615384615385E-2]
[null,null,{"$f":"Т0!C39","v":"Елаборат за заштита при работа"},{"$f":"F34/F41","v":1.1538461538461539E-2},null,15,{"$f":"F34/F13","v":0.24193548387096775},4.5,{"$f":"H34/F13","v":7.2580645161290328E-2},2.25,{"$f":"J34/F13","v":3.6290322580645164E-2},0.67499999999999993,{"$f":"L34/F13","v":1.0887096774193547E-2},2.8846153846153851E-2,1.1538461538461539E-2]
[null,null,{"$f":"Т0!C42","v":"Елаборат за енергетска ефикасност"},{"$f":"F35/F41","v":1.5384615384615385E-2},null,20,{"$f":"F35/F13","v":0.32258064516129031},6,{"$f":"H35/F13","v":9.6774193548387094E-2},{"$f":"F35*0.15","v":3},{"$f":"J35/F13","v":4.8387096774193547E-2},{"$f":"J35*0.3","v":0.89999999999999991},{"$f":"L35/F13","v":1.4516129032258063E-2},{"$f":"N$41*(F35/$F$41*100)","v":3.8461538461538464E-2},{"$f":"O$41*(F35/$F$41*100)","v":1.5384615384615385E-2}]
[null,null,{"$f":"Т0!C43","v":"Елаборат за заштита на животната средина"},{"$f":"F36/F41","v":1.1538461538461539E-2},null,15,0.24193548387096775,4.5,7.2580645161290328E-2,2.25,{"$f":"J36/F13","v":3.6290322580645164E-2},0.67499999999999993,{"$f":"L36/F13","v":1.0887096774193547E-2},2.8846153846153851E-2,1.1538461538461539E-2]
[null,null,{"$f":"Т0!C37","v":"Сообраќаен проект"},{"$f":"F37/F41","v":1.5384615384615385E-2},null,20,{"$f":"F37/F13","v":0.32258064516129031},{"$f":"F37*0.3","v":6},{"$f":"H37/F13","v":9.6774193548387094E-2},{"$f":"F37*0.15","v":3},{"$f":"J37/F13","v":4.8387096774193547E-2},{"$f":"J37*0.3","v":0.89999999999999991},{"$f":"L37/F13","v":1.4516129032258063E-2},{"$f":"N$41*(F37/$F$41*100)","v":3.8461538461538464E-2},{"$f":"O$41*(F37/$F$41*100)","v":1.5384615384615385E-2}]
[]
[null,null,{"$f":"Т0!C47","v":"Координација на проект"},{"$f":"F39/F41","v":0.05},null,{"$f":"SUM(F27:F38)/0.95-SUM(F27:F38)","v":65},{"$f":"F39/F13","v":1.0483870967741935},{"$f":"SUM(H27:H35)/0.95-SUM(H27:H35)","v":18.947368421052659},{"$f":"H39/F13","v":0.30560271646859127},{"$f":"F39*0.15","v":9.75},{"$f":"J39/F13","v":0.15725806451612903},{"$f":"SUM(L27:L35)/0.95-SUM(L27:L35)","v":2.8421052631578974},{"$f":"L39/F13","v":4.5840407470288669E-2},{"$f":"N$41*(F39/$F$41*100)","v":0.125},{"$f":"O$41*(F39/$F$41*100)","v":0.05}]
[]
[null,null,{"$f":"Т0!C49","v":"Вкупно:"},{"$f":"SUM(D27:D39)","v":1},null,{"$f":"SUM(F26:F40)","v":1300},{"$f":"F41/F13","v":20.967741935483872},{"$f":"SUM(H27:H39)","v":389.44736842105266},{"$f":"H41/F13","v":6.2814091680814945},{"$f":"SUM(J27:J39)","v":195},{"$f":"J41/F13","v":3.1451612903225805},{"$f":"SUM(L27:L39)","v":58.417105263157893},{"$f":"L41/F13","v":0.94221137521222409},2.5000000000000001E-2,0.01]

{"sheet":"В6-I-А","index":28,"n_rows":41,"n_cols":15,"rows_kept":41,"cut":false,"hidden":true,"merged":[[23,5,23,6],[23,7,23,8],[23,9,23,10],[23,11,23,12],[21,5,22,6],[21,7,21,8],[21,9,22,10],[21,11,21,12],[21,13,22,13],[21,14,22,14],[22,7,22,8],[22,11,22,12],[17,3,17,5],[17,6,17,7],[17,9,17,12],[19,5,20,8],[19,9,19,12],[19,13,20,14],[20,9,20,12],[15,3,15,5],[15,6,15,7],[15,9,15,12],[16,3,16,5],[16,6,16,7],[16,9,16,12],[12,6,12,7],[12,9,12,12],[13,9,13,12],[14,3,14,5],[14,6,14,7],[14,9,14,12],[10,3,10,5],[10,6,10,7],[10,9,10,12],[11,3,11,5],[11,6,11,7],[11,9,11,12],[8,3,8,5],[8,6,8,7],[8,9,8,12],[9,3,9,5],[9,6,9,7],[9,9,9,12],[2,3,2,14],[4,2,4,14],[6,9,6,12],[6,13,6,14],[7,6,7,7],[7,9,7,12]]}
[]
[]
[null,null,{"$f":"' Помош - Каталог на намени'!D31","v":"В6-I-А"},{"$f":"' Помош - Каталог на намени'!E31","v":"ЗАШТИТЕНИ СПОМЕНИЦИ НА КУЛТУРАТА\n(I-А ГРУПА)"}]
[]
[null,null,{"$f":"' Помош - Каталог на намени'!F31","v":"Градби со основна класа на намена од групата на класи на намена „А“ во состав на:\n\nВ.6.1. - Aрхеолошки локалитети и градби\nВ.6.2. - Културни целини: заштитени делови од населени места\nВ.6.3. - Предисториски градби, наоѓалишта, пештери"}]
[]
[null,null,{"$f":"Т0!C8","v":"Површина на градба"},null,null,{"$f":"Калкулатор!D9","v":0},{"$f":"Т0!G8","v":"m²"},{"$f":"Т0!H8","v":"(варијабла)"},null,{"$f":"Т0!J8","v":"Вид на инженерска услуга"},null,null,null,{"$f":"Т0!N8","v":"Минимална вкупна цена"}]
[null,null,null,null,null,null,null,null,null,{"$f":"Т0!J9","v":"1. Изработка на проектна документација (1.1.+1.2)"},null,null,null,{"$f":"SUM(N9:N10)","v":0},{"$f":"SUM(O9:O10)","v":0}]
[null,null,{"$f":"Т0!C10","v":"Просечна цена на изведба за 1 m²"},{"$f":"G9*F13","v":37820},null,null,{"$f":"' Помош - Каталог на намени'!G31","v":610},null,null,{"$f":"Т0!J10","v":"1.1. Изработка на основен проект"},null,null,null,{"$f":"F7*F41","v":0},{"$f":"N9/F13","v":0}]
[null,null,null,null,null,null,null,null,null,{"$f":"Т0!J11","v":"1.2. Изработка на идеен проект"},null,null,null,{"$f":"F7*H41","v":0},{"$f":"N10/F13","v":0}]
[null,null,{"$f":"Т0!C12","v":"Вкупна инвестициона градежна  вредност"},{"$f":"F7*D9","v":0},null,null,{"$f":"D11/F13","v":0}]
[null,null,null,null,null,null,null,null,null,{"$f":"Т0!J13","v":"2. Ревизија на проектна документација (2.1.+2.2.)"},null,null,null,{"$f":"SUM(N13:N14)","v":0},{"$f":"SUM(O13:O14)","v":0}]
[null,null,{"$f":"Т0!C14","v":"Вредност на евро валута"},{"$f":"Т0!D14","v":1},{"$f":"Т0!E14","v":"="},{"$f":"Т0!F14","v":62},null,null,null,{"$f":"Т0!J14","v":"2.1. Ревизија на основен проект"},null,null,null,{"$f":"F7*J41","v":0},{"$f":"N13/F13","v":0}]
[null,null,null,null,null,null,null,null,null,{"$f":"Т0!J15","v":"2.2. Ревизија на идеен проект"},null,null,null,{"$f":"F7*L41","v":0},{"$f":"N14/F13","v":0}]
[null,null,{"$f":"Т0!C16","v":"Изработка на Основен проект"},{"$f":"Т0!D16:F16","v":"Ревизија на Основен проект"},null,null,{"$f":"Т0!G16:H16","v":"Надзор на изградба"}]
[null,null,{"$f":"G41/G9","v":3.7810682178741409E-2},{"$f":"K41/G9","v":5.6716023268112087E-3},null,null,{"$f":"N41","v":2.5000000000000001E-2},null,null,{"$f":"Т0!J17","v":"3. Надзор на градба (3.1.+3.2.)"},null,null,null,{"$f":"SUM(N17:N18)","v":0},{"$f":"SUM(O17:O18)","v":0}]
[null,null,{"$f":"Т0!C18","v":"Изработка на Идеен проект"},{"$f":"Т0!D18:F18","v":"Ревизија на Идеен проект"},null,null,{"$f":"Т0!G18:H18","v":"Проектантски надзор"},null,null,{"$f":"Т0!J18","v":"3.1. Надзор на градба"},null,null,null,{"$f":"F7*D9*N41","v":0},{"$f":"N17/F13","v":0}]
[null,null,{"$f":"I41/G9","v":1.0731164240585594E-2},{"$f":"M41/G9","v":1.6096746360878401E-3},null,null,{"$f":"O41","v":0.01},null,null,{"$f":"Т0!J19","v":"3.2. Проектантски надзор"},null,null,null,{"$f":"F7*D9*O41","v":0},{"$f":"N18/F13","v":0}]
[]
[null,null,null,null,null,{"$f":"Т0!F21","v":"Изработка на проектна документација"},null,null,null,{"$f":"Т0!J21","v":"Ревизија на проектна документација"},null,null,null,{"$f":"Т0!N21","v":"Надзор на изградба"}]
[null,null,null,null,null,null,null,null,null,{"$f":"Т0!J22","v":"(15% од вредноста на Изработка на проектна документација)"}]
[null,null,null,null,null,{"$f":"Т0!F23","v":"Основен проект"},null,{"$f":"Т0!H23","v":"Идеен проект"},null,{"$f":"Т0!J23","v":"Основен проект"},null,{"$f":"Т0!L23","v":"Идеен проект"},null,{"$f":"Т0!N23","v":"Надзор на изградба"},{"$f":"Т0!O23","v":"Проектантски надзор"}]
[null,null,null,null,null,null,null,{"$f":"Т0!H24","v":"(30% од вредноста на основниот проект)"},null,null,null,{"$f":"Т0!L24","v":"(30% од вредноста на ревизија на основниот проект)"}]
[null,null,{"$f":"Т0!C25","v":"Вид на проект"},{"$f":"Т0!D25","v":"Удел"},null,{"$f":"Т0!F25","v":"Минимална цена"},null,{"$f":"Т0!H25","v":"Минимална цена"},null,{"$f":"Т0!J25","v":"Минимална цена"},null,{"$f":"Т0!L25","v":"Минимална цена"},null,{"$f":"Т0!N25","v":"Минимален процент од инвестиција"},{"$f":"Т0!O25","v":"Минимален процент од инвестиција"}]
[null,null,{"$f":"Т0!C26","v":"(според намената)"},{"$f":"Т0!D26","v":"[%]"},null,{"$f":"Т0!F26","v":"[денари/m²]"},{"$f":"Т0!G26","v":"[€/m²]"},{"$f":"Т0!H26","v":"[денари/m²]"},{"$f":"Т0!I26","v":"[€/m²]"},{"$f":"Т0!J26","v":"[денари/m²]"},{"$f":"Т0!K26","v":"[€/m²]"},{"$f":"Т0!L26","v":"[денари/m²]"},{"$f":"Т0!M26","v":"[€/m²]"},{"$f":"Т0!N26","v":"[%]"},"[%]"]
[]
[null,null,{"$f":"Т0!C28","v":"Архитектонски проект"},{"$f":"F27/F41","v":0.36363636363636365},null,520,{"$f":"F27/F13","v":8.387096774193548},{"$f":"F27*0.3","v":156},{"$f":"H27/F13","v":2.5161290322580645},{"$f":"F27*0.15","v":78},{"$f":"J27/F13","v":1.2580645161290323},{"$f":"J27*0.3","v":23.4},{"$f":"L27/F13","v":0.37741935483870964},{"$f":"N$41*(F27/$F$41*100)","v":0.90909090909090917},{"$f":"O$41*(F27/$F$41*100)","v":0.3636363636363637}]
[null,null,{"$f":"Т0!C29","v":"Градежно-конструктивен проект"},{"$f":"F28/F41","v":0.23076923076923078},null,330,{"$f":"F28/F13","v":5.32258064516129},99,{"$f":"H28/F13","v":1.596774193548387},49.5,{"$f":"J28/F13","v":0.79838709677419351},14.85,{"$f":"L28/F13","v":0.23951612903225805},0.57692307692307698,0.23076923076923078]
[null,null,{"$f":"Т0!C30","v":"Електротехнички проект"},{"$f":"F29/F41","v":8.0419580419580416E-2},null,115,{"$f":"F29/F13","v":1.8548387096774193},34.5,{"$f":"H29/F13","v":0.55645161290322576},17.25,{"$f":"J29/F13","v":0.27822580645161288},5.1749999999999998,{"$f":"L29/F13","v":8.3467741935483869E-2},0.20104895104895104,8.0419580419580416E-2]
[null,null,{"$f":"Т0!C32","v":"Проект за водовод и канализација"},{"$f":"F30/F41","v":5.5244755244755243E-2},null,79,{"$f":"F30/F13","v":1.2741935483870968},23.7,{"$f":"H30/F13","v":0.38225806451612904},11.85,{"$f":"J30/F13","v":0.19112903225806452},3.5549999999999997,{"$f":"L30/F13","v":5.7338709677419351E-2},0.1381118881118881,5.5244755244755243E-2]
[null,null,{"$f":"Т0!C33","v":"Термотехнички проект"},{"$f":"F31/F41","v":6.5034965034965031E-2},null,93,{"$f":"F31/F13","v":1.5},27.9,{"$f":"H31/F13","v":0.44999999999999996},13.95,{"$f":"J31/F13","v":0.22499999999999998},4.1849999999999996,{"$f":"L31/F13","v":6.7499999999999991E-2},0.16258741258741261,6.5034965034965031E-2]
[null,null,{"$f":"Т0!C44","v":"Проект за  партерно уредување и сообраќај"},{"$f":"F32/F41","v":3.3566433566433566E-2},null,48,{"$f":"F32/F13","v":0.77419354838709675},14.399999999999999,{"$f":"H32/F13","v":0.23225806451612901},7.1999999999999993,{"$f":"J32/F13","v":0.11612903225806451},2.1599999999999997,{"$f":"L32/F13","v":3.4838709677419352E-2},8.3916083916083919E-2,3.3566433566433566E-2]
[null,null,{"$f":"Т0!C38","v":"Елаборат за заштита од пожари"},{"$f":"F33/F41","v":1.6783216783216783E-2},null,24,{"$f":"F33/F13","v":0.38709677419354838},7.1999999999999993,{"$f":"H33/F13","v":0.11612903225806451},3.5999999999999996,{"$f":"J33/F13","v":5.8064516129032254E-2},1.0799999999999998,{"$f":"L33/F13","v":1.7419354838709676E-2},4.195804195804196E-2,1.6783216783216783E-2]
[null,null,{"$f":"Т0!C39","v":"Елаборат за заштита при работа"},{"$f":"F34/F41","v":1.2587412587412588E-2},null,18,{"$f":"F34/F13","v":0.29032258064516131},5.3999999999999995,{"$f":"H34/F13","v":8.7096774193548374E-2},2.6999999999999997,{"$f":"J34/F13","v":4.3548387096774187E-2},0.80999999999999994,{"$f":"L34/F13","v":1.3064516129032257E-2},3.1468531468531472E-2,1.2587412587412588E-2]
[null,null,{"$f":"Т0!C42","v":"Елаборат за енергетска ефикасност"},{"$f":"F35/F41","v":1.6783216783216783E-2},null,24,{"$f":"F35/F13","v":0.38709677419354838},7.1999999999999993,{"$f":"H35/F13","v":0.11612903225806451},{"$f":"F35*0.15","v":3.5999999999999996},{"$f":"J35/F13","v":5.8064516129032254E-2},{"$f":"J35*0.3","v":1.0799999999999998},{"$f":"L35/F13","v":1.7419354838709676E-2},{"$f":"N$41*(F35/$F$41*100)","v":4.195804195804196E-2},{"$f":"O$41*(F35/$F$41*100)","v":1.6783216783216783E-2}]
[null,null,{"$f":"Т0!C43","v":"Елаборат за заштита на животната средина"},{"$f":"F36/F41","v":1.2587412587412588E-2},null,18,{"$f":"F36/F13","v":0.29032258064516131},{"$f":"F36*0.3","v":5.3999999999999995},{"$f":"H36/F13","v":8.7096774193548374E-2},2.6999999999999997,{"$f":"J36/F13","v":4.3548387096774187E-2},0.80999999999999994,{"$f":"L36/F13","v":1.3064516129032257E-2},3.1468531468531472E-2,1.2587412587412588E-2]
[null,null,{"$f":"Т0!C37","v":"Сообраќаен проект"},{"$f":"F37/F41","v":1.2587412587412588E-2},null,18,{"$f":"F37/F13","v":0.29032258064516131},{"$f":"F37*0.3","v":5.3999999999999995},{"$f":"H37/F13","v":8.7096774193548374E-2},{"$f":"F37*0.15","v":2.6999999999999997},{"$f":"J37/F13","v":4.3548387096774187E-2},{"$f":"J37*0.3","v":0.80999999999999994},{"$f":"L37/F13","v":1.3064516129032257E-2},2.5174825174825177E-2,1.2587412587412588E-2]
[]
[null,null,{"$f":"Т0!C47","v":"Координација на проект"},{"$f":"F39/F41","v":0.1},null,{"$f":"SUM(F27:F38)/0.9-SUM(F27:F38)","v":143},{"$f":"F39/F13","v":2.306451612903226},{"$f":"SUM(H27:H35)/0.95-SUM(H27:H35)","v":19.752631578947387},{"$f":"H39/F13","v":0.31859083191850623},{"$f":"F39*0.15","v":21.45},{"$f":"J39/F13","v":0.34596774193548385},{"$f":"SUM(L27:L35)/0.95-SUM(L27:L35)","v":2.9628947368421095},{"$f":"L39/F13","v":4.7788624787775957E-2},{"$f":"N$41*(F39/$F$41*100)","v":0.25},{"$f":"O$41*(F39/$F$41*100)","v":0.1}]
[]
[null,null,{"$f":"Т0!C49","v":"Вкупно:"},{"$f":"SUM(D27:D39)","v":1},null,{"$f":"SUM(F27:F39)","v":1430},{"$f":"F41/F13","v":23.06451612903226},{"$f":"SUM(H27:H39)","v":405.85263157894724},{"$f":"H41/F13","v":6.5460101867572131},{"$f":"SUM(J27:J39)","v":214.49999999999991},{"$f":"J41/F13","v":3.4596774193548372},{"$f":"SUM(L27:L39)","v":60.877894736842109},{"$f":"L41/F13","v":0.98190152801358244},2.5000000000000001E-2,0.01]

{"sheet":"В6-I-Б","index":29,"n_rows":41,"n_cols":15,"rows_kept":41,"cut":false,"hidden":true,"merged":[[23,5,23,6],[23,7,23,8],[23,9,23,10],[23,11,23,12],[21,5,22,6],[21,7,21,8],[21,9,22,10],[21,11,21,12],[21,13,22,13],[21,14,22,14],[22,7,22,8],[22,11,22,12],[17,3,17,5],[17,6,17,7],[17,9,17,12],[19,5,20,8],[19,9,19,12],[19,13,20,14],[20,9,20,12],[15,3,15,5],[15,6,15,7],[15,9,15,12],[16,3,16,5],[16,6,16,7],[16,9,16,12],[12,6,12,7],[12,9,12,12],[13,9,13,12],[14,3,14,5],[14,6,14,7],[14,9,14,12],[10,3,10,5],[10,6,10,7],[10,9,10,12],[11,3,11,5],[11,6,11,7],[11,9,11,12],[8,3,8,5],[8,6,8,7],[8,9,8,12],[9,3,9,5],[9,6,9,7],[9,9,9,12],[2,3,2,14],[4,2,4,14],[6,9,6,12],[6,13,6,14],[7,6,7,7],[7,9,7,12]]}
[]
[]
[null,null,{"$f":"' Помош - Каталог на намени'!D32","v":"В6-I-Б"},{"$f":"' Помош - Каталог на намени'!E32","v":"ЗАШТИТЕНИ СПОМЕНИЦИ НА КУЛТУРАТА\n(I-Б ГРУПА)"}]
[]
[null,null,{"$f":"' Помош - Каталог на намени'!F32","v":"Градби со основна класа на намена од групата на класи на намена „Б“ во состав на:\n\nВ.6.1. - Aрхеолошки локалитети и градби\nВ.6.2. - Културни целини: заштитени делови од населени места\nВ.6.3. - Предисториски градби, наоѓалишта, пештери"}]
[]
[null,null,{"$f":"Т0!C8","v":"Површина на градба"},null,null,{"$f":"Калкулатор!D9","v":0},{"$f":"Т0!G8","v":"m²"},{"$f":"Т0!H8","v":"(варијабла)"},null,{"$f":"Т0!J8","v":"Вид на инженерска услуга"},null,null,null,{"$f":"Т0!N8","v":"Минимална вкупна цена"}]
[null,null,null,null,null,null,null,null,null,{"$f":"Т0!J9","v":"1. Изработка на проектна документација (1.1.+1.2)"},null,null,null,{"$f":"SUM(N9:N10)","v":0},{"$f":"SUM(O9:O10)","v":0}]
[null,null,{"$f":"Т0!C10","v":"Просечна цена на изведба за 1 m²"},{"$f":"G9*F13","v":51150},null,null,{"$f":"' Помош - Каталог на намени'!G32","v":825},null,null,{"$f":"Т0!J10","v":"1.1. Изработка на основен проект"},null,null,null,{"$f":"F7*F41","v":0},{"$f":"N9/F13","v":0}]
[null,null,null,null,null,null,null,null,null,{"$f":"Т0!J11","v":"1.2. Изработка на идеен проект"},null,null,null,{"$f":"F7*H41","v":0},{"$f":"N10/F13","v":0}]
[null,null,{"$f":"Т0!C12","v":"Вкупна инвестициона градежна  вредност"},{"$f":"F7*D9","v":0},null,null,{"$f":"D11/F13","v":0}]
[null,null,null,null,null,null,null,null,null,{"$f":"Т0!J13","v":"2. Ревизија на проектна документација (2.1.+2.2.)"},null,null,null,{"$f":"SUM(N13:N14)","v":0},{"$f":"SUM(O13:O14)","v":0}]
[null,null,{"$f":"Т0!C14","v":"Вредност на евро валута"},{"$f":"Т0!D14","v":1},{"$f":"Т0!E14","v":"="},{"$f":"Т0!F14","v":62},null,null,null,{"$f":"Т0!J14","v":"2.1. Ревизија на основен проект"},null,null,null,{"$f":"F7*J41","v":0},{"$f":"N13/F13","v":0}]
[null,null,null,null,null,null,null,null,null,{"$f":"Т0!J15","v":"2.2. Ревизија на идеен проект"},null,null,null,{"$f":"F7*L41","v":0},{"$f":"N14/F13","v":0}]
[null,null,{"$f":"Т0!C16","v":"Изработка на Основен проект"},{"$f":"Т0!D16:F16","v":"Ревизија на Основен проект"},null,null,{"$f":"Т0!G16:H16","v":"Надзор на изградба"}]
[null,null,{"$f":"G41/G9","v":3.4343434343434343E-2},{"$f":"K41/G9","v":5.1515151515151517E-3},null,null,{"$f":"N41","v":2.5000000000000001E-2},null,null,{"$f":"Т0!J17","v":"3. Надзор на градба (3.1.+3.2.)"},null,null,null,{"$f":"SUM(N17:N18)","v":0},{"$f":"SUM(O17:O18)","v":0}]
[null,null,{"$f":"Т0!C18","v":"Изработка на Идеен проект"},{"$f":"Т0!D18:F18","v":"Ревизија на Идеен проект"},null,null,{"$f":"Т0!G18:H18","v":"Проектантски надзор"},null,null,{"$f":"Т0!J18","v":"3.1. Надзор на градба"},null,null,null,{"$f":"F7*D9*N41","v":0},{"$f":"N17/F13","v":0}]
[null,null,{"$f":"I41/G9","v":9.7471832072850775E-3},{"$f":"M41/G9","v":1.4620774810927609E-3},null,null,{"$f":"O41","v":0.01},null,null,{"$f":"Т0!J19","v":"3.2. Проектантски надзор"},null,null,null,{"$f":"F7*D9*O41","v":0},{"$f":"N18/F13","v":0}]
[]
[null,null,null,null,null,{"$f":"Т0!F21","v":"Изработка на проектна документација"},null,null,null,{"$f":"Т0!J21","v":"Ревизија на проектна документација"},null,null,null,{"$f":"Т0!N21","v":"Надзор на изградба"}]
[null,null,null,null,null,null,null,null,null,{"$f":"Т0!J22","v":"(15% од вредноста на Изработка на проектна документација)"}]
[null,null,null,null,null,{"$f":"Т0!F23","v":"Основен проект"},null,{"$f":"Т0!H23","v":"Идеен проект"},null,{"$f":"Т0!J23","v":"Основен проект"},null,{"$f":"Т0!L23","v":"Идеен проект"},null,{"$f":"Т0!N23","v":"Надзор на изградба"},{"$f":"Т0!O23","v":"Проектантски надзор"}]
[null,null,null,null,null,null,null,{"$f":"Т0!H24","v":"(30% од вредноста на основниот проект)"},null,null,null,{"$f":"Т0!L24","v":"(30% од вредноста на ревизија на основниот проект)"}]
[null,null,{"$f":"Т0!C25","v":"Вид на проект"},{"$f":"Т0!D25","v":"Удел"},null,{"$f":"Т0!F25","v":"Минимална цена"},null,{"$f":"Т0!H25","v":"Минимална цена"},null,{"$f":"Т0!J25","v":"Минимална цена"},null,{"$f":"Т0!L25","v":"Минимална цена"},null,{"$f":"Т0!N25","v":"Минимален процент од инвестиција"},{"$f":"Т0!O25","v":"Минимален процент од инвестиција"}]
[null,null,{"$f":"Т0!C26","v":"(според намената)"},{"$f":"Т0!D26","v":"[%]"},null,{"$f":"Т0!F26","v":"[денари/m²]"},{"$f":"Т0!G26","v":"[€/m²]"},{"$f":"Т0!H26","v":"[денари/m²]"},{"$f":"Т0!I26","v":"[€/m²]"},{"$f":"Т0!J26","v":"[денари/m²]"},{"$f":"Т0!K26","v":"[€/m²]"},{"$f":"Т0!L26","v":"[денари/m²]"},{"$f":"Т0!M26","v":"[€/m²]"},{"$f":"Т0!N26","v":"[%]"},"[%]"]
[]
[null,null,{"$f":"Т0!C28","v":"Архитектонски проект"},{"$f":"F27/F41","v":0.34155597722960157},null,600,{"$f":"F27/F13","v":9.67741935483871},{"$f":"F27*0.3","v":180},{"$f":"H27/F13","v":2.903225806451613},{"$f":"F27*0.15","v":90},{"$f":"J27/F13","v":1.4516129032258065},{"$f":"J27*0.3","v":27},{"$f":"L27/F13","v":0.43548387096774194},{"$f":"N$41*(F27/$F$41*100)","v":0.85388994307400401},{"$f":"O$41*(F27/$F$41*100)","v":0.34155597722960163}]
[null,null,{"$f":"Т0!C29","v":"Градежно-конструктивен проект"},{"$f":"F28/F41","v":0.23624288425047441},null,415,{"$f":"F28/F13","v":6.693548387096774},124.5,{"$f":"H28/F13","v":2.0080645161290325},62.25,{"$f":"J28/F13","v":1.0040322580645162},18.675000000000001,{"$f":"L28/F13","v":0.30120967741935484},0.59060721062618604,0.23624288425047441]
[null,null,{"$f":"Т0!C30","v":"Електротехнички проект"},{"$f":"F29/F41","v":9.6774193548387108E-2},null,170,{"$f":"F29/F13","v":2.7419354838709675},51,{"$f":"H29/F13","v":0.82258064516129037},25.5,{"$f":"J29/F13","v":0.41129032258064518},7.6499999999999995,{"$f":"L29/F13","v":0.12338709677419354},0.24193548387096775,9.6774193548387108E-2]
[null,null,{"$f":"Т0!C32","v":"Проект за водовод и канализација"},{"$f":"F30/F41","v":5.1233396584440233E-2},null,90,{"$f":"F30/F13","v":1.4516129032258065},27,{"$f":"H30/F13","v":0.43548387096774194},13.5,{"$f":"J30/F13","v":0.21774193548387097},4.05,{"$f":"L30/F13","v":6.5322580645161291E-2},0.1280834914611006,5.1233396584440233E-2]
[null,null,{"$f":"Т0!C33","v":"Термотехнички проект"},{"$f":"F31/F41","v":7.5142314990512341E-2},null,132,{"$f":"F31/F13","v":2.129032258064516},39.6,{"$f":"H31/F13","v":0.63870967741935492},19.8,{"$f":"J31/F13","v":0.31935483870967746},5.94,{"$f":"L31/F13","v":9.5806451612903229E-2},0.18785578747628084,7.5142314990512341E-2]
[null,null,{"$f":"Т0!C44","v":"Проект за  партерно уредување и сообраќај"},{"$f":"F32/F41","v":2.7324478178368125E-2},null,48,{"$f":"F32/F13","v":0.77419354838709675},14.399999999999999,{"$f":"H32/F13","v":0.23225806451612901},7.1999999999999993,{"$f":"J32/F13","v":0.11612903225806451},2.1599999999999997,{"$f":"L32/F13","v":3.4838709677419352E-2},6.831119544592032E-2,2.7324478178368125E-2]
[null,null,{"$f":"Т0!C38","v":"Елаборат за заштита од пожари"},{"$f":"F33/F41","v":2.0493358633776094E-2},null,36,{"$f":"F33/F13","v":0.58064516129032262},10.799999999999999,{"$f":"H33/F13","v":0.17419354838709675},5.3999999999999995,{"$f":"J33/F13","v":8.7096774193548374E-2},1.6199999999999999,{"$f":"L33/F13","v":2.6129032258064514E-2},5.123339658444024E-2,2.0493358633776097E-2]
[null,null,{"$f":"Т0!C39","v":"Елаборат за заштита при работа"},{"$f":"F34/F41","v":1.2523719165085391E-2},null,22,{"$f":"F34/F13","v":0.35483870967741937},6.6,{"$f":"H34/F13","v":0.1064516129032258},3.3,{"$f":"J34/F13","v":5.32258064516129E-2},0.98999999999999988,{"$f":"L34/F13","v":1.5967741935483868E-2},3.1309297912713474E-2,1.2523719165085391E-2]
[null,null,{"$f":"Т0!C42","v":"Елаборат за енергетска ефикасност"},{"$f":"F35/F41","v":1.3662239089184063E-2},null,24,{"$f":"F35/F13","v":0.38709677419354838},7.1999999999999993,{"$f":"H35/F13","v":0.11612903225806451},{"$f":"F35*0.15","v":3.5999999999999996},{"$f":"J35/F13","v":5.8064516129032254E-2},{"$f":"J35*0.3","v":1.0799999999999998},{"$f":"L35/F13","v":1.7419354838709676E-2},{"$f":"N$41*(F35/$F$41*100)","v":3.415559772296016E-2},{"$f":"O$41*(F35/$F$41*100)","v":1.3662239089184063E-2}]
[null,null,{"$f":"Т0!C43","v":"Елаборат за заштита на животната средина"},{"$f":"F36/F41","v":1.2523719165085391E-2},null,22,{"$f":"F36/F13","v":0.35483870967741937},{"$f":"F36*0.3","v":6.6},{"$f":"H36/F13","v":0.1064516129032258},3.3,{"$f":"J36/F13","v":5.32258064516129E-2},0.98999999999999988,{"$f":"L36/F13","v":1.5967741935483868E-2},3.1309297912713474E-2,1.2523719165085391E-2]
[null,null,{"$f":"Т0!C37","v":"Сообраќаен проект"},{"$f":"F37/F41","v":1.2523719165085391E-2},null,22,{"$f":"F37/F13","v":0.35483870967741937},{"$f":"F37*0.3","v":6.6},{"$f":"H37/F13","v":0.1064516129032258},{"$f":"F37*0.15","v":3.3},{"$f":"J37/F13","v":5.32258064516129E-2},{"$f":"J37*0.3","v":0.98999999999999988},{"$f":"L37/F13","v":1.5967741935483868E-2},2.511734111378917E-2,1.2558670556894585E-2]
[]
[null,null,{"$f":"Т0!C47","v":"Координација на проект"},{"$f":"F39/F41","v":9.9999999999999922E-2},null,{"$f":"SUM(F27:F38)/0.9-SUM(F27:F38)","v":175.66666666666652},{"$f":"F39/F13","v":2.8333333333333308},{"$f":"SUM(H27:H35)/0.95-SUM(H27:H35)","v":24.268421052631595},{"$f":"H39/F13","v":0.39142614601018699},{"$f":"F39*0.15","v":26.349999999999977},{"$f":"J39/F13","v":0.4249999999999996},{"$f":"SUM(L27:L35)/0.95-SUM(L27:L35)","v":3.6402631578947364},{"$f":"L39/F13","v":5.8713921901528007E-2},{"$f":"N$41*(F39/$F$41*100)","v":0.24999999999999983},{"$f":"O$41*(F39/$F$41*100)","v":9.9999999999999936E-2}]
[]
[null,null,{"$f":"Т0!C49","v":"Вкупно:"},{"$f":"SUM(D27:D39)","v":1.0000000000000002},null,{"$f":"SUM(F27:F39)","v":1756.6666666666665},{"$f":"F41/F13","v":28.333333333333332},{"$f":"SUM(H27:H39)","v":498.56842105263166},{"$f":"H41/F13","v":8.0414261460101883},{"$f":"SUM(J27:J39)","v":263.5},{"$f":"J41/F13","v":4.25},{"$f":"SUM(L27:L39)","v":74.785263157894718},{"$f":"L41/F13","v":1.2062139219015278},2.5000000000000001E-2,0.01]

{"sheet":"В6-I-В","index":30,"n_rows":41,"n_cols":15,"rows_kept":41,"cut":false,"hidden":true,"merged":[[23,5,23,6],[23,7,23,8],[23,9,23,10],[23,11,23,12],[21,5,22,6],[21,7,21,8],[21,9,22,10],[21,11,21,12],[21,13,22,13],[21,14,22,14],[22,7,22,8],[22,11,22,12],[17,3,17,5],[17,6,17,7],[17,9,17,12],[19,5,20,8],[19,9,19,12],[19,13,20,14],[20,9,20,12],[15,3,15,5],[15,6,15,7],[15,9,15,12],[16,3,16,5],[16,6,16,7],[16,9,16,12],[12,6,12,7],[12,9,12,12],[13,9,13,12],[14,3,14,5],[14,6,14,7],[14,9,14,12],[10,3,10,5],[10,6,10,7],[10,9,10,12],[11,3,11,5],[11,6,11,7],[11,9,11,12],[8,3,8,5],[8,6,8,7],[8,9,8,12],[9,3,9,5],[9,6,9,7],[9,9,9,12],[2,3,2,14],[4,2,4,14],[6,9,6,12],[6,13,6,14],[7,6,7,7],[7,9,7,12]]}
[]
[]
[null,null,{"$f":"' Помош - Каталог на намени'!D33","v":"В6-I-В"},{"$f":"' Помош - Каталог на намени'!E33","v":"ЗАШТИТЕНИ СПОМЕНИЦИ НА КУЛТУРАТА\n(I-В ГРУПА)"}]
[]
[null,null,{"$f":"' Помош - Каталог на намени'!F33","v":"Градби со основна класа на намена од групата на класи на намена „В“ во состав на:\n\nВ.6.1. - Aрхеолошки локалитети и градби\nВ.6.2. - Културни целини: заштитени делови од населени места\nВ.6.3. - Предисториски градби, наоѓалишта, пештери"}]
[]
[null,null,{"$f":"Т0!C8","v":"Површина на градба"},null,null,{"$f":"Калкулатор!D9","v":0},{"$f":"Т0!G8","v":"m²"},{"$f":"Т0!H8","v":"(варијабла)"},null,{"$f":"Т0!J8","v":"Вид на инженерска услуга"},null,null,null,{"$f":"Т0!N8","v":"Минимална вкупна цена"}]
[null,null,null,null,null,null,null,null,null,{"$f":"Т0!J9","v":"1. Изработка на проектна документација (1.1.+1.2)"},null,null,null,{"$f":"SUM(N9:N10)","v":0},{"$f":"SUM(O9:O10)","v":0}]
[null,null,{"$f":"Т0!C10","v":"Просечна цена на изведба за 1 m²"},{"$f":"G9*F13","v":60760},null,null,{"$f":"' Помош - Каталог на намени'!G33","v":980},null,null,{"$f":"Т0!J10","v":"1.1. Изработка на основен проект"},null,null,null,{"$f":"F7*F41","v":0},{"$f":"N9/F13","v":0}]
[null,null,null,null,null,null,null,null,null,{"$f":"Т0!J11","v":"1.2. Изработка на идеен проект"},null,null,null,{"$f":"F7*H41","v":0},{"$f":"N10/F13","v":0}]
[null,null,{"$f":"Т0!C12","v":"Вкупна инвестициона градежна  вредност"},{"$f":"F7*D9","v":0},null,null,{"$f":"D11/F13","v":0}]
[null,null,null,null,null,null,null,null,null,{"$f":"Т0!J13","v":"2. Ревизија на проектна документација (2.1.+2.2.)"},null,null,null,{"$f":"SUM(N13:N14)","v":0},{"$f":"SUM(O13:O14)","v":0}]
[null,null,{"$f":"Т0!C14","v":"Вредност на евро валута"},{"$f":"Т0!D14","v":1},{"$f":"Т0!E14","v":"="},{"$f":"Т0!F14","v":62},null,null,null,{"$f":"Т0!J14","v":"2.1. Ревизија на основен проект"},null,null,null,{"$f":"F7*J41","v":0},{"$f":"N13/F13","v":0}]
[null,null,null,null,null,null,null,null,null,{"$f":"Т0!J15","v":"2.2. Ревизија на идеен проект"},null,null,null,{"$f":"F7*L41","v":0},{"$f":"N14/F13","v":0}]
[null,null,{"$f":"Т0!C16","v":"Изработка на Основен проект"},{"$f":"Т0!D16:F16","v":"Ревизија на Основен проект"},null,null,{"$f":"Т0!G16:H16","v":"Надзор на изградба"}]
[null,null,{"$f":"G41/G9","v":3.3026113671274955E-2},{"$f":"K41/G9","v":4.953917050691245E-3},null,null,{"$f":"N41","v":2.5000000000000001E-2},null,null,{"$f":"Т0!J17","v":"3. Надзор на градба (3.1.+3.2.)"},null,null,null,{"$f":"SUM(N17:N18)","v":0},{"$f":"SUM(O17:O18)","v":0}]
[null,null,{"$f":"Т0!C18","v":"Изработка на Идеен проект"},{"$f":"Т0!D18:F18","v":"Ревизија на Идеен проект"},null,null,{"$f":"Т0!G18:H18","v":"Проектантски надзор"},null,null,{"$f":"Т0!J18","v":"3.1. Надзор на градба"},null,null,null,{"$f":"F7*D9*N41","v":0},{"$f":"N17/F13","v":0}]
[null,null,{"$f":"I41/G9","v":9.3738955684141267E-3},{"$f":"M41/G9","v":1.4060843352621181E-3},null,null,{"$f":"O41","v":0.01},null,null,{"$f":"Т0!J19","v":"3.2. Проектантски надзор"},null,null,null,{"$f":"F7*D9*O41","v":0},{"$f":"N18/F13","v":0}]
[]
[null,null,null,null,null,{"$f":"Т0!F21","v":"Изработка на проектна документација"},null,null,null,{"$f":"Т0!J21","v":"Ревизија на проектна документација"},null,null,null,{"$f":"Т0!N21","v":"Надзор на изградба"}]
[null,null,null,null,null,null,null,null,null,{"$f":"Т0!J22","v":"(15% од вредноста на Изработка на проектна документација)"}]
[null,null,null,null,null,{"$f":"Т0!F23","v":"Основен проект"},null,{"$f":"Т0!H23","v":"Идеен проект"},null,{"$f":"Т0!J23","v":"Основен проект"},null,{"$f":"Т0!L23","v":"Идеен проект"},null,{"$f":"Т0!N23","v":"Надзор на изградба"},{"$f":"Т0!O23","v":"Проектантски надзор"}]
[null,null,null,null,null,null,null,{"$f":"Т0!H24","v":"(30% од вредноста на основниот проект)"},null,null,null,{"$f":"Т0!L24","v":"(30% од вредноста на ревизија на основниот проект)"}]
[null,null,{"$f":"Т0!C25","v":"Вид на проект"},{"$f":"Т0!D25","v":"Удел"},null,{"$f":"Т0!F25","v":"Минимална цена"},null,{"$f":"Т0!H25","v":"Минимална цена"},null,{"$f":"Т0!J25","v":"Минимална цена"},null,{"$f":"Т0!L25","v":"Минимална цена"},null,{"$f":"Т0!N25","v":"Минимален процент од инвестиција"},{"$f":"Т0!O25","v":"Минимален процент од инвестиција"}]
[null,null,{"$f":"Т0!C26","v":"(според намената)"},{"$f":"Т0!D26","v":"[%]"},null,{"$f":"Т0!F26","v":"[денари/m²]"},{"$f":"Т0!G26","v":"[€/m²]"},{"$f":"Т0!H26","v":"[денари/m²]"},{"$f":"Т0!I26","v":"[€/m²]"},{"$f":"Т0!J26","v":"[денари/m²]"},{"$f":"Т0!K26","v":"[€/m²]"},{"$f":"Т0!L26","v":"[денари/m²]"},{"$f":"Т0!M26","v":"[€/m²]"},{"$f":"Т0!N26","v":"[%]"},"[%]"]
[]
[null,null,{"$f":"Т0!C28","v":"Архитектонски проект"},{"$f":"F27/F41","v":0.36877076411960136},null,740,{"$f":"F27/F13","v":11.935483870967742},{"$f":"F27*0.3","v":222},{"$f":"H27/F13","v":3.5806451612903225},{"$f":"F27*0.15","v":111},{"$f":"J27/F13","v":1.7903225806451613},{"$f":"J27*0.3","v":33.299999999999997},{"$f":"L27/F13","v":0.53709677419354829},{"$f":"N$41*(F27/$F$41*100)","v":0.92192691029900331},{"$f":"O$41*(F27/$F$41*100)","v":0.36877076411960136}]
[null,null,{"$f":"Т0!C29","v":"Градежно-конструктивен проект"},{"$f":"F28/F41","v":0.2217607973421927},null,445,{"$f":"F28/F13","v":7.17741935483871},133.5,{"$f":"H28/F13","v":2.153225806451613},66.75,{"$f":"J28/F13","v":1.0766129032258065},20.024999999999999,{"$f":"L28/F13","v":0.32298387096774189},0.55440199335548179,0.22176079734219273]
[null,null,{"$f":"Т0!C30","v":"Електротехнички проект"},{"$f":"F29/F41","v":9.9667774086378738E-2},null,200,{"$f":"F29/F13","v":3.225806451612903},60,{"$f":"H29/F13","v":0.967741935483871},30,{"$f":"J29/F13","v":0.4838709677419355},9,{"$f":"L29/F13","v":0.14516129032258066},0.24916943521594687,9.9667774086378738E-2]
[null,null,{"$f":"Т0!C32","v":"Проект за водовод и канализација"},{"$f":"F30/F41","v":4.9833887043189369E-2},null,100,{"$f":"F30/F13","v":1.6129032258064515},30,{"$f":"H30/F13","v":0.4838709677419355},15,{"$f":"J30/F13","v":0.24193548387096775},4.5,{"$f":"L30/F13","v":7.2580645161290328E-2},0.12458471760797343,4.9833887043189369E-2]
[null,null,{"$f":"Т0!C33","v":"Термотехнички проект"},{"$f":"F31/F41","v":7.4750830564784057E-2},null,150,{"$f":"F31/F13","v":2.4193548387096775},45,{"$f":"H31/F13","v":0.72580645161290325},22.5,{"$f":"J31/F13","v":0.36290322580645162},6.75,{"$f":"L31/F13","v":0.10887096774193548},0.18687707641196016,7.4750830564784057E-2]
[null,null,{"$f":"Т0!C44","v":"Проект за  партерно уредување и сообраќај"},{"$f":"F32/F41","v":1.993355481727575E-2},null,40,{"$f":"F32/F13","v":0.64516129032258063},12,{"$f":"H32/F13","v":0.19354838709677419},6,{"$f":"J32/F13","v":9.6774193548387094E-2},1.7999999999999998,{"$f":"L32/F13","v":2.9032258064516127E-2},4.9833887043189376E-2,1.993355481727575E-2]
[null,null,{"$f":"Т0!C38","v":"Елаборат за заштита од пожари"},{"$f":"F33/F41","v":1.7441860465116279E-2},null,35,{"$f":"F33/F13","v":0.56451612903225812},10.5,{"$f":"H33/F13","v":0.16935483870967741},5.25,{"$f":"J33/F13","v":8.4677419354838704E-2},1.575,{"$f":"L33/F13","v":2.5403225806451612E-2},4.3604651162790699E-2,1.7441860465116279E-2]
[null,null,{"$f":"Т0!C39","v":"Елаборат за заштита при работа"},{"$f":"F34/F41","v":1.196013289036545E-2},null,24,{"$f":"F34/F13","v":0.38709677419354838},7.1999999999999993,{"$f":"H34/F13","v":0.11612903225806451},3.5999999999999996,{"$f":"J34/F13","v":5.8064516129032254E-2},1.0799999999999998,{"$f":"L34/F13","v":1.7419354838709676E-2},2.9900332225913623E-2,1.196013289036545E-2]
[null,null,{"$f":"Т0!C42","v":"Елаборат за енергетска ефикасност"},{"$f":"F35/F41","v":1.196013289036545E-2},null,24,{"$f":"F35/F13","v":0.38709677419354838},7.1999999999999993,{"$f":"H35/F13","v":0.11612903225806451},{"$f":"F35*0.15","v":3.5999999999999996},{"$f":"J35/F13","v":5.8064516129032254E-2},{"$f":"J35*0.3","v":1.0799999999999998},{"$f":"L35/F13","v":1.7419354838709676E-2},{"$f":"N$41*(F35/$F$41*100)","v":2.9900332225913623E-2},{"$f":"O$41*(F35/$F$41*100)","v":1.196013289036545E-2}]
[null,null,{"$f":"Т0!C43","v":"Елаборат за заштита на животната средина"},{"$f":"F36/F41","v":1.196013289036545E-2},null,24,{"$f":"F36/F13","v":0.38709677419354838},{"$f":"F36*0.3","v":7.1999999999999993},{"$f":"H36/F13","v":0.11612903225806451},3.5999999999999996,{"$f":"J36/F13","v":5.8064516129032254E-2},1.0799999999999998,{"$f":"L36/F13","v":1.7419354838709676E-2},2.9900332225913623E-2,1.196013289036545E-2]
[null,null,{"$f":"Т0!C37","v":"Сообраќаен проект"},{"$f":"F37/F41","v":1.196013289036545E-2},null,24,{"$f":"F37/F13","v":0.38709677419354838},{"$f":"F37*0.3","v":7.1999999999999993},{"$f":"H37/F13","v":0.11612903225806451},{"$f":"F37*0.15","v":3.5999999999999996},{"$f":"J37/F13","v":5.8064516129032254E-2},{"$f":"J37*0.3","v":1.0799999999999998},{"$f":"L37/F13","v":1.7419354838709676E-2},{"$f":"N$41*(F37/$F$41*100)","v":2.9900332225913623E-2},{"$f":"O$41*(F37/$F$41*100)","v":1.196013289036545E-2}]
[]
[null,null,{"$f":"Т0!C47","v":"Координација на проект"},{"$f":"F39/F41","v":9.9999999999999936E-2},null,{"$f":"SUM(F27:F38)/0.9-SUM(F27:F38)","v":200.66666666666652},{"$f":"F39/F13","v":3.2365591397849438},{"$f":"SUM(H27:H35)/0.95-SUM(H27:H35)","v":27.757894736842104},{"$f":"H39/F13","v":0.44770797962648556},{"$f":"F39*0.15","v":30.099999999999977},{"$f":"J39/F13","v":0.48548387096774154},{"$f":"SUM(L27:L35)/0.95-SUM(L27:L35)","v":4.1636842105263128},{"$f":"L39/F13","v":6.715619694397279E-2},{"$f":"N$41*(F39/$F$41*100)","v":0.24999999999999983},{"$f":"O$41*(F39/$F$41*100)","v":9.9999999999999936E-2}]
[]
[null,null,{"$f":"Т0!C49","v":"Вкупно:"},{"$f":"SUM(D27:D39)","v":1},null,{"$f":"SUM(F27:F39)","v":2006.6666666666665},{"$f":"F41/F13","v":32.365591397849457},{"$f":"SUM(H27:H39)","v":569.55789473684229},{"$f":"H41/F13","v":9.186417657045844},{"$f":"SUM(J27:J39)","v":301.00000000000006},{"$f":"J41/F13","v":4.8548387096774199},{"$f":"SUM(L27:L39)","v":85.433684210526295},{"$f":"L41/F13","v":1.3779626485568757},2.5000000000000001E-2,0.01]

{"sheet":"В6-I-Г","index":31,"n_rows":42,"n_cols":15,"rows_kept":42,"cut":false,"hidden":true,"merged":[[23,5,23,6],[23,7,23,8],[23,9,23,10],[23,11,23,12],[21,5,22,6],[21,7,21,8],[21,9,22,10],[21,11,21,12],[21,13,22,13],[21,14,22,14],[22,7,22,8],[22,11,22,12],[17,3,17,5],[17,6,17,7],[17,9,17,12],[19,5,20,8],[19,9,19,12],[19,13,20,14],[20,9,20,12],[15,3,15,5],[15,6,15,7],[15,9,15,12],[16,3,16,5],[16,6,16,7],[16,9,16,12],[12,6,12,7],[12,9,12,12],[13,9,13,12],[14,3,14,5],[14,6,14,7],[14,9,14,12],[10,3,10,5],[10,6,10,7],[10,9,10,12],[11,3,11,5],[11,6,11,7],[11,9,11,12],[8,3,8,5],[8,6,8,7],[8,9,8,12],[9,3,9,5],[9,6,9,7],[9,9,9,12],[2,3,2,14],[4,2,4,14],[6,9,6,12],[6,13,6,14],[7,6,7,7],[7,9,7,12]]}
[]
[]
[null,null,{"$f":"' Помош - Каталог на намени'!D34","v":"В6-I-Г"},{"$f":"' Помош - Каталог на намени'!E34","v":"ЗАШТИТЕНИ СПОМЕНИЦИ НА КУЛТУРАТА\n(I-Г ГРУПА)"}]
[]
[null,null,{"$f":"' Помош - Каталог на намени'!F34","v":"Градби со основна класа на намена од групата на класи на намена „Г“ во состав на:\n\nВ.6.1. - Aрхеолошки локалитети и градби\nВ.6.2. - Културни целини: заштитени делови од населени места\nВ.6.3. - Предисториски градби, наоѓалишта, пештери"}]
[]
[null,null,{"$f":"Т0!C8","v":"Површина на градба"},null,null,{"$f":"Калкулатор!D9","v":0},{"$f":"Т0!G8","v":"m²"},{"$f":"Т0!H8","v":"(варијабла)"},null,{"$f":"Т0!J8","v":"Вид на инженерска услуга"},null,null,null,{"$f":"Т0!N8","v":"Минимална вкупна цена"}]
[null,null,null,null,null,null,null,null,null,{"$f":"Т0!J9","v":"1. Изработка на проектна документација (1.1.+1.2)"},null,null,null,{"$f":"SUM(N9:N10)","v":0},{"$f":"SUM(O9:O10)","v":0}]
[null,null,{"$f":"Т0!C10","v":"Просечна цена на изведба за 1 m²"},{"$f":"G9*F13","v":41540},null,null,{"$f":"' Помош - Каталог на намени'!G34","v":670},null,null,{"$f":"Т0!J10","v":"1.1. Изработка на основен проект"},null,null,null,{"$f":"F7*F42","v":0},{"$f":"N9/F13","v":0}]
[null,null,null,null,null,null,null,null,null,{"$f":"Т0!J11","v":"1.2. Изработка на идеен проект"},null,null,null,{"$f":"F7*H42","v":0},{"$f":"N10/F13","v":0}]
[null,null,{"$f":"Т0!C12","v":"Вкупна инвестициона градежна  вредност"},{"$f":"F7*D9","v":0},null,null,{"$f":"D11/F13","v":0}]
[null,null,null,null,null,null,null,null,null,{"$f":"Т0!J13","v":"2. Ревизија на проектна документација (2.1.+2.2.)"},null,null,null,{"$f":"SUM(N13:N14)","v":0},{"$f":"SUM(O13:O14)","v":0}]
[null,null,{"$f":"Т0!C14","v":"Вредност на евро валута"},{"$f":"Т0!D14","v":1},{"$f":"Т0!E14","v":"="},{"$f":"Т0!F14","v":62},null,null,null,{"$f":"Т0!J14","v":"2.1. Ревизија на основен проект"},null,null,null,{"$f":"F7*J42","v":0},{"$f":"N13/F13","v":0}]
[null,null,null,null,null,null,null,null,null,{"$f":"Т0!J15","v":"2.2. Ревизија на идеен проект"},null,null,null,{"$f":"F7*L42","v":0},{"$f":"N14/F13","v":0}]
[null,null,{"$f":"Т0!C16","v":"Изработка на Основен проект"},{"$f":"Т0!D16:F16","v":"Ревизија на Основен проект"},null,null,{"$f":"Т0!G16:H16","v":"Надзор на изградба"}]
[null,null,{"$f":"G42/G9","v":3.2819772107205908E-2},{"$f":"K42/G9","v":4.9229658160808848E-3},null,null,{"$f":"N42","v":2.5000000000000001E-2},null,null,{"$f":"Т0!J17","v":"3. Надзор на градба (3.1.+3.2.)"},null,null,null,{"$f":"SUM(N17:N18)","v":0},{"$f":"SUM(O17:O18)","v":0}]
[null,null,{"$f":"Т0!C18","v":"Изработка на Идеен проект"},{"$f":"Т0!D18:F18","v":"Ревизија на Идеен проект"},null,null,{"$f":"Т0!G18:H18","v":"Проектантски надзор"},null,null,{"$f":"Т0!J18","v":"3.1. Надзор на градба"},null,null,null,{"$f":"F7*D9*N42","v":0},{"$f":"N17/F13","v":0}]
[null,null,{"$f":"I42/G9","v":9.3094797658566254E-3},{"$f":"M42/G9","v":1.3964219648784934E-3},null,null,{"$f":"O42","v":0.01},null,null,{"$f":"Т0!J19","v":"3.2. Проектантски надзор"},null,null,null,{"$f":"F7*D9*O42","v":0},{"$f":"N18/F13","v":0}]
[]
[null,null,null,null,null,{"$f":"Т0!F21","v":"Изработка на проектна документација"},null,null,null,{"$f":"Т0!J21","v":"Ревизија на проектна документација"},null,null,null,{"$f":"Т0!N21","v":"Надзор на изградба"}]
[null,null,null,null,null,null,null,null,null,{"$f":"Т0!J22","v":"(15% од вредноста на Изработка на проектна документација)"}]
[null,null,null,null,null,{"$f":"Т0!F23","v":"Основен проект"},null,{"$f":"Т0!H23","v":"Идеен проект"},null,{"$f":"Т0!J23","v":"Основен проект"},null,{"$f":"Т0!L23","v":"Идеен проект"},null,{"$f":"Т0!N23","v":"Надзор на изградба"},{"$f":"Т0!O23","v":"Проектантски надзор"}]
[null,null,null,null,null,null,null,{"$f":"Т0!H24","v":"(30% од вредноста на основниот проект)"},null,null,null,{"$f":"Т0!L24","v":"(30% од вредноста на ревизија на основниот проект)"}]
[null,null,{"$f":"Т0!C25","v":"Вид на проект"},{"$f":"Т0!D25","v":"Удел"},null,{"$f":"Т0!F25","v":"Минимална цена"},null,{"$f":"Т0!H25","v":"Минимална цена"},null,{"$f":"Т0!J25","v":"Минимална цена"},null,{"$f":"Т0!L25","v":"Минимална цена"},null,{"$f":"Т0!N25","v":"Минимален процент од инвестиција"},{"$f":"Т0!O25","v":"Минимален процент од инвестиција"}]
[null,null,{"$f":"Т0!C26","v":"(според намената)"},{"$f":"Т0!D26","v":"[%]"},null,{"$f":"Т0!F26","v":"[денари/m²]"},{"$f":"Т0!G26","v":"[€/m²]"},{"$f":"Т0!H26","v":"[денари/m²]"},{"$f":"Т0!I26","v":"[€/m²]"},{"$f":"Т0!J26","v":"[денари/m²]"},{"$f":"Т0!K26","v":"[€/m²]"},{"$f":"Т0!L26","v":"[денари/m²]"},{"$f":"Т0!M26","v":"[€/m²]"},{"$f":"Т0!N26","v":"[%]"},"[%]"]
[]
[null,null,{"$f":"Т0!C28","v":"Архитектонски проект"},{"$f":"F27/F42","v":0.22004889975550124},null,300,{"$f":"F27/F13","v":4.838709677419355},{"$f":"F27*0.3","v":90},{"$f":"H27/F13","v":1.4516129032258065},{"$f":"F27*0.15","v":45},{"$f":"J27/F13","v":0.72580645161290325},{"$f":"J27*0.3","v":13.5},{"$f":"L27/F13","v":0.21774193548387097},{"$f":"N$42*(F27/$F$42*100)","v":0.55012224938875309},{"$f":"O$42*(F27/$F$42*100)","v":0.22004889975550124}]
[null,null,{"$f":"Т0!C29","v":"Градежно-конструктивен проект"},{"$f":"F28/F42","v":0.18337408312958436},null,250,{"$f":"F28/F13","v":4.032258064516129},75,{"$f":"H28/F13","v":1.2096774193548387},37.5,{"$f":"J28/F13","v":0.60483870967741937},11.25,{"$f":"L28/F13","v":0.18145161290322581},0.45843520782396097,0.18337408312958439]
[null,null,{"$f":"Т0!C30","v":"Електротехнички проект"},{"$f":"F29/F42","v":0.10268948655256724},null,140,{"$f":"F29/F13","v":2.2580645161290325},42,{"$f":"H29/F13","v":0.67741935483870963},21,{"$f":"J29/F13","v":0.33870967741935482},6.3,{"$f":"L29/F13","v":0.10161290322580645},0.25672371638141811,0.10268948655256724]
[null,null,{"$f":"Т0!C32","v":"Проект за водовод и канализација"},{"$f":"F30/F42","v":5.9413202933985332E-2},null,81,{"$f":"F30/F13","v":1.3064516129032258},24.3,{"$f":"H30/F13","v":0.39193548387096777},12.15,{"$f":"J30/F13","v":0.19596774193548389},3.645,{"$f":"L30/F13","v":5.8790322580645163E-2},0.14853300733496333,5.9413202933985332E-2]
[null,null,{"$f":"Т0!C33","v":"Термотехнички проект"},{"$f":"F31/F42","v":0.10268948655256724},null,140,{"$f":"F31/F13","v":2.2580645161290325},42,{"$f":"H31/F13","v":0.67741935483870963},21,{"$f":"J31/F13","v":0.33870967741935482},6.3,{"$f":"L31/F13","v":0.10161290322580645},0.25672371638141811,0.10268948655256724]
[null,null,{"$f":"Т0!C36","v":"Технолошки проект"},{"$f":"F32/F42","v":0.10268948655256724},null,140,{"$f":"F32/F13","v":2.2580645161290325},42,{"$f":"H32/F13","v":0.67741935483870963},21,{"$f":"J32/F13","v":0.33870967741935482},6.3,{"$f":"L32/F13","v":0.10161290322580645},0.25672371638141811,0.10268948655256724]
[null,null,{"$f":"Т0!C44","v":"Проект за  партерно уредување и сообраќај"},{"$f":"F33/F42","v":2.93398533007335E-2},null,40,{"$f":"F33/F13","v":0.64516129032258063},12,{"$f":"H33/F13","v":0.19354838709677419},6,{"$f":"J33/F13","v":9.6774193548387094E-2},1.7999999999999998,{"$f":"L33/F13","v":2.9032258064516127E-2},7.3349633251833746E-2,2.93398533007335E-2]
[null,null,{"$f":"Т0!C38","v":"Елаборат за заштита од пожари"},{"$f":"F34/F42","v":2.93398533007335E-2},null,40,{"$f":"F34/F13","v":0.64516129032258063},12,{"$f":"H34/F13","v":0.19354838709677419},6,{"$f":"J34/F13","v":9.6774193548387094E-2},1.7999999999999998,{"$f":"L34/F13","v":2.9032258064516127E-2},7.3349633251833746E-2,2.93398533007335E-2]
[null,null,{"$f":"Т0!C39","v":"Елаборат за заштита при работа"},{"$f":"F35/F42","v":1.76039119804401E-2},null,24,{"$f":"F35/F13","v":0.38709677419354838},7.1999999999999993,{"$f":"H35/F13","v":0.11612903225806451},3.5999999999999996,{"$f":"J35/F13","v":5.8064516129032254E-2},1.0799999999999998,{"$f":"L35/F13","v":1.7419354838709676E-2},4.4009779951100253E-2,1.76039119804401E-2]
[null,null,{"$f":"Т0!C42","v":"Елаборат за енергетска ефикасност"},{"$f":"F36/F42","v":1.76039119804401E-2},null,24,{"$f":"F36/F13","v":0.38709677419354838},7.1999999999999993,{"$f":"H36/F13","v":0.11612903225806451},{"$f":"F36*0.15","v":3.5999999999999996},{"$f":"J36/F13","v":5.8064516129032254E-2},{"$f":"J36*0.3","v":1.0799999999999998},{"$f":"L36/F13","v":1.7419354838709676E-2},{"$f":"N$42*(F36/$F$42*100)","v":4.4009779951100253E-2},{"$f":"O$42*(F36/$F$42*100)","v":1.76039119804401E-2}]
[null,null,{"$f":"Т0!C43","v":"Елаборат за заштита на животната средина"},{"$f":"F37/F42","v":1.76039119804401E-2},null,24,{"$f":"F37/F13","v":0.38709677419354838},{"$f":"F37*0.3","v":7.1999999999999993},{"$f":"H37/F13","v":0.11612903225806451},3.5999999999999996,{"$f":"J37/F13","v":5.8064516129032254E-2},1.0799999999999998,{"$f":"L37/F13","v":1.7419354838709676E-2},4.4009779951100253E-2,1.76039119804401E-2]
[null,null,{"$f":"Т0!C37","v":"Сообраќаен проект"},{"$f":"F38/F42","v":1.76039119804401E-2},null,24,{"$f":"F38/F13","v":0.38709677419354838},{"$f":"F38*0.3","v":7.1999999999999993},{"$f":"H38/F13","v":0.11612903225806451},{"$f":"F38*0.15","v":3.5999999999999996},{"$f":"J38/F13","v":5.8064516129032254E-2},{"$f":"J38*0.3","v":1.0799999999999998},{"$f":"L38/F13","v":1.7419354838709676E-2},4.4020542920029354E-2,1.7608217168011739E-2]
[]
[null,null,{"$f":"Т0!C47","v":"Координација на проект"},{"$f":"F40/F42","v":9.999999999999995E-2},null,{"$f":"SUM(F27:F38)/0.9-SUM(F27:F38)","v":136.33333333333326},{"$f":"F40/F13","v":2.1989247311827946},{"$f":"SUM(H27:H36)/0.95-SUM(H27:H36)","v":18.615789473684231},{"$f":"H40/F13","v":0.30025466893039082},{"$f":"F40*0.15","v":20.449999999999989},{"$f":"J40/F13","v":0.32983870967741918},{"$f":"SUM(L27:L36)/0.95-SUM(L27:L36)","v":2.7923684210526361},{"$f":"L40/F13","v":4.5038200339558646E-2},{"$f":"N$42*(F40/$F$42*100)","v":0.24999999999999989},{"$f":"O$42*(F40/$F$42*100)","v":9.999999999999995E-2}]
[]
[null,null,{"$f":"Т0!C49","v":"Вкупно:"},{"$f":"SUM(D27:D40)","v":1},null,{"$f":"SUM(F27:F40)","v":1363.3333333333333},{"$f":"F42/F13","v":21.989247311827956},{"$f":"SUM(H27:H40)","v":386.7157894736842},{"$f":"H42/F13","v":6.2373514431239387},{"$f":"SUM(J27:J40)","v":204.49999999999997},{"$f":"J42/F13","v":3.2983870967741931},{"$f":"SUM(L27:L40)","v":58.007368421052618},{"$f":"L42/F13","v":0.93560271646859061},2.5000000000000001E-2,0.01]

{"sheet":"В6-I-Д","index":32,"n_rows":41,"n_cols":15,"rows_kept":41,"cut":false,"hidden":true,"merged":[[23,5,23,6],[23,7,23,8],[23,9,23,10],[23,11,23,12],[21,5,22,6],[21,7,21,8],[21,9,22,10],[21,11,21,12],[21,13,22,13],[21,14,22,14],[22,7,22,8],[22,11,22,12],[17,3,17,5],[17,6,17,7],[17,9,17,12],[19,5,20,8],[19,9,19,12],[19,13,20,14],[20,9,20,12],[15,3,15,5],[15,6,15,7],[15,9,15,12],[16,3,16,5],[16,6,16,7],[16,9,16,12],[12,6,12,7],[12,9,12,12],[13,9,13,12],[14,3,14,5],[14,6,14,7],[14,9,14,12],[10,3,10,5],[10,6,10,7],[10,9,10,12],[11,3,11,5],[11,6,11,7],[11,9,11,12],[8,3,8,5],[8,6,8,7],[8,9,8,12],[9,3,9,5],[9,6,9,7],[9,9,9,12],[2,3,2,14],[4,2,4,14],[6,9,6,12],[6,13,6,14],[7,6,7,7],[7,9,7,12]]}
[]
[]
[null,null,{"$f":"' Помош - Каталог на намени'!D35","v":"В6-I-Д"},{"$f":"' Помош - Каталог на намени'!E35","v":"ЗАШТИТЕНИ СПОМЕНИЦИ НА КУЛТУРАТА\n(I-Д ГРУПА)"}]
[]
[null,null,{"$f":"' Помош - Каталог на намени'!F35","v":"Градби со основна класа на намена од групата на класи на намена „Д“ во состав на:\n\nВ.6.1. - Aрхеолошки локалитети и градби\nВ.6.2. - Културни целини: заштитени делови од населени места\nВ.6.3. - Предисториски градби, наоѓалишта, пештери"}]
[]
[null,null,{"$f":"Т0!C8","v":"Површина на градба"},null,null,{"$f":"Калкулатор!D9","v":0},{"$f":"Т0!G8","v":"m²"},{"$f":"Т0!H8","v":"(варијабла)"},null,{"$f":"Т0!J8","v":"Вид на инженерска услуга"},null,null,null,{"$f":"Т0!N8","v":"Минимална вкупна цена"}]
[null,null,null,null,null,null,null,null,null,{"$f":"Т0!J9","v":"1. Изработка на проектна документација (1.1.+1.2)"},null,null,null,{"$f":"SUM(N9:N10)","v":0},{"$f":"SUM(O9:O10)","v":0}]
[null,null,{"$f":"Т0!C10","v":"Просечна цена на изведба за 1 m²"},{"$f":"G9*F13","v":57040},null,null,{"$f":"' Помош - Каталог на намени'!G35","v":920},null,null,{"$f":"Т0!J10","v":"1.1. Изработка на основен проект"},null,null,null,{"$f":"F7*F41","v":0},{"$f":"N9/F13","v":0}]
[null,null,null,null,null,null,null,null,null,{"$f":"Т0!J11","v":"1.2. Изработка на идеен проект"},null,null,null,{"$f":"F7*H41","v":0},{"$f":"N10/F13","v":0}]
[null,null,{"$f":"Т0!C12","v":"Вкупна инвестициона градежна  вредност"},{"$f":"F7*D9","v":0},null,null,{"$f":"D11/F13","v":0}]
[null,null,null,null,null,null,null,null,null,{"$f":"Т0!J13","v":"2. Ревизија на проектна документација (2.1.+2.2.)"},null,null,null,{"$f":"SUM(N13:N14)","v":0},{"$f":"SUM(O13:O14)","v":0}]
[null,null,{"$f":"Т0!C14","v":"Вредност на евро валута"},{"$f":"Т0!D14","v":1},{"$f":"Т0!E14","v":"="},{"$f":"Т0!F14","v":62},null,null,null,{"$f":"Т0!J14","v":"2.1. Ревизија на основен проект"},null,null,null,{"$f":"F7*J41","v":0},{"$f":"N13/F13","v":0}]
[null,null,null,null,null,null,null,null,null,{"$f":"Т0!J15","v":"2.2. Ревизија на идеен проект"},null,null,null,{"$f":"F7*L41","v":0},{"$f":"N14/F13","v":0}]
[null,null,{"$f":"Т0!C16","v":"Изработка на Основен проект"},{"$f":"Т0!D16:F16","v":"Ревизија на Основен проект"},null,null,{"$f":"Т0!G16:H16","v":"Надзор на изградба"}]
[null,null,{"$f":"G41/G9","v":2.997896213183731E-2},{"$f":"K41/G9","v":4.4968443197755956E-3},null,null,{"$f":"N41","v":0.02},null,null,{"$f":"Т0!J17","v":"3. Надзор на градба (3.1.+3.2.)"},null,null,null,{"$f":"SUM(N17:N18)","v":0},{"$f":"SUM(O17:O18)","v":0}]
[null,null,{"$f":"Т0!C18","v":"Изработка на Идеен проект"},{"$f":"Т0!D18:F18","v":"Ревизија на Идеен проект"},null,null,{"$f":"Т0!G18:H18","v":"Проектантски надзор"},null,null,{"$f":"Т0!J18","v":"3.1. Надзор на градба"},null,null,null,{"$f":"F7*D9*N41","v":0},{"$f":"N17/F13","v":0}]
[null,null,{"$f":"I41/G9","v":8.5078799734258498E-3},{"$f":"M41/G9","v":1.2761819960138779E-3},null,null,{"$f":"O41","v":0.01},null,null,{"$f":"Т0!J19","v":"3.2. Проектантски надзор"},null,null,null,{"$f":"F7*D9*O41","v":0},{"$f":"N18/F13","v":0}]
[]
[null,null,null,null,null,{"$f":"Т0!F21","v":"Изработка на проектна документација"},null,null,null,{"$f":"Т0!J21","v":"Ревизија на проектна документација"},null,null,null,{"$f":"Т0!N21","v":"Надзор на изградба"}]
[null,null,null,null,null,null,null,null,null,{"$f":"Т0!J22","v":"(15% од вредноста на Изработка на проектна документација)"}]
[null,null,null,null,null,{"$f":"Т0!F23","v":"Основен проект"},null,{"$f":"Т0!H23","v":"Идеен проект"},null,{"$f":"Т0!J23","v":"Основен проект"},null,{"$f":"Т0!L23","v":"Идеен проект"},null,{"$f":"Т0!N23","v":"Надзор на изградба"},{"$f":"Т0!O23","v":"Проектантски надзор"}]
[null,null,null,null,null,null,null,{"$f":"Т0!H24","v":"(30% од вредноста на основниот проект)"},null,null,null,{"$f":"Т0!L24","v":"(30% од вредноста на ревизија на основниот проект)"}]
[null,null,{"$f":"Т0!C25","v":"Вид на проект"},{"$f":"Т0!D25","v":"Удел"},null,{"$f":"Т0!F25","v":"Минимална цена"},null,{"$f":"Т0!H25","v":"Минимална цена"},null,{"$f":"Т0!J25","v":"Минимална цена"},null,{"$f":"Т0!L25","v":"Минимална цена"},null,{"$f":"Т0!N25","v":"Минимален процент од инвестиција"},{"$f":"Т0!O25","v":"Минимален процент од инвестиција"}]
[null,null,{"$f":"Т0!C26","v":"(според намената)"},{"$f":"Т0!D26","v":"[%]"},null,{"$f":"Т0!F26","v":"[денари/m²]"},{"$f":"Т0!G26","v":"[€/m²]"},{"$f":"Т0!H26","v":"[денари/m²]"},{"$f":"Т0!I26","v":"[€/m²]"},{"$f":"Т0!J26","v":"[денари/m²]"},{"$f":"Т0!K26","v":"[€/m²]"},{"$f":"Т0!L26","v":"[денари/m²]"},{"$f":"Т0!M26","v":"[€/m²]"},{"$f":"Т0!N26","v":"[%]"},"[%]"]
[]
[null,null,{"$f":"Т0!C28","v":"Архитектонски проект"},{"$f":"F27/F41","v":0.33567251461988307},null,574,{"$f":"F27/F13","v":9.258064516129032},{"$f":"F27*0.3","v":172.2},{"$f":"H27/F13","v":2.7774193548387096},{"$f":"F27*0.15","v":86.1},{"$f":"J27/F13","v":1.3887096774193548},{"$f":"J27*0.3","v":25.83},{"$f":"L27/F13","v":0.41661290322580641},{"$f":"N$41*(F27/$F$41*100)","v":0.67134502923976613},{"$f":"O$41*(F27/$F$41*100)","v":0.33567251461988307}]
[null,null,{"$f":"Т0!C29","v":"Градежно-конструктивен проект"},{"$f":"F28/F41","v":0.23391812865497075},null,400,{"$f":"F28/F13","v":6.4516129032258061},120,{"$f":"H28/F13","v":1.935483870967742},60,{"$f":"J28/F13","v":0.967741935483871},18,{"$f":"L28/F13","v":0.29032258064516131},0.46783625730994149,0.23391812865497075]
[null,null,{"$f":"Т0!C30","v":"Електротехнички проект"},{"$f":"F29/F41","v":0.10526315789473684},null,180,{"$f":"F29/F13","v":2.903225806451613},54,{"$f":"H29/F13","v":0.87096774193548387},27,{"$f":"J29/F13","v":0.43548387096774194},8.1,{"$f":"L29/F13","v":0.13064516129032258},0.21052631578947367,0.10526315789473684]
[null,null,{"$f":"Т0!C32","v":"Проект за водовод и канализација"},{"$f":"F30/F41","v":5.2631578947368418E-2},null,90,{"$f":"F30/F13","v":1.4516129032258065},27,{"$f":"H30/F13","v":0.43548387096774194},13.5,{"$f":"J30/F13","v":0.21774193548387097},4.05,{"$f":"L30/F13","v":6.5322580645161291E-2},0.10526315789473684,5.2631578947368418E-2]
[null,null,{"$f":"Т0!C33","v":"Термотехнички проект"},{"$f":"F31/F41","v":7.6023391812865493E-2},null,130,{"$f":"F31/F13","v":2.096774193548387},39,{"$f":"H31/F13","v":0.62903225806451613},19.5,{"$f":"J31/F13","v":0.31451612903225806},5.85,{"$f":"L31/F13","v":9.435483870967741E-2},0.15204678362573099,7.6023391812865493E-2]
[null,null,{"$f":"Т0!C44","v":"Проект за  партерно уредување и сообраќај"},{"$f":"F32/F41","v":2.9239766081871343E-2},null,50,{"$f":"F32/F13","v":0.80645161290322576},15,{"$f":"H32/F13","v":0.24193548387096775},7.5,{"$f":"J32/F13","v":0.12096774193548387},2.25,{"$f":"L32/F13","v":3.6290322580645164E-2},5.8479532163742687E-2,2.9239766081871343E-2]
[null,null,{"$f":"Т0!C38","v":"Елаборат за заштита од пожари"},{"$f":"F33/F41","v":1.4619883040935672E-2},null,25,{"$f":"F33/F13","v":0.40322580645161288},7.5,{"$f":"H33/F13","v":0.12096774193548387},3.75,{"$f":"J33/F13","v":6.0483870967741937E-2},1.125,{"$f":"L33/F13","v":1.8145161290322582E-2},2.9239766081871343E-2,1.4619883040935672E-2]
[null,null,{"$f":"Т0!C39","v":"Елаборат за заштита при работа"},{"$f":"F34/F41","v":1.1695906432748537E-2},null,20,{"$f":"F34/F13","v":0.32258064516129031},6,{"$f":"H34/F13","v":9.6774193548387094E-2},3,{"$f":"J34/F13","v":4.8387096774193547E-2},0.89999999999999991,{"$f":"L34/F13","v":1.4516129032258063E-2},2.3391812865497075E-2,1.1695906432748537E-2]
[null,null,{"$f":"Т0!C42","v":"Елаборат за енергетска ефикасност"},{"$f":"F35/F41","v":1.4619883040935672E-2},null,25,{"$f":"F35/F13","v":0.40322580645161288},7.5,{"$f":"H35/F13","v":0.12096774193548387},{"$f":"F35*0.15","v":3.75},{"$f":"J35/F13","v":6.0483870967741937E-2},{"$f":"J35*0.3","v":1.125},{"$f":"L35/F13","v":1.8145161290322582E-2},{"$f":"N$41*(F35/$F$41*100)","v":2.9239766081871343E-2},{"$f":"O$41*(F35/$F$41*100)","v":1.4619883040935672E-2}]
[null,null,{"$f":"Т0!C43","v":"Елаборат за заштита на животната средина"},{"$f":"F36/F41","v":1.1695906432748537E-2},null,20,{"$f":"F36/F13","v":0.32258064516129031},{"$f":"F36*0.3","v":6},{"$f":"H36/F13","v":9.6774193548387094E-2},3,{"$f":"J36/F13","v":4.8387096774193547E-2},0.89999999999999991,{"$f":"L36/F13","v":1.4516129032258063E-2},2.3391812865497075E-2,1.1695906432748537E-2]
[null,null,{"$f":"Т0!C37","v":"Сообраќаен проект"},{"$f":"F37/F41","v":1.4619883040935672E-2},null,25,{"$f":"F37/F13","v":0.40322580645161288},{"$f":"F37*0.3","v":7.5},{"$f":"H37/F13","v":0.12096774193548387},{"$f":"F37*0.15","v":3.75},{"$f":"J37/F13","v":6.0483870967741937E-2},{"$f":"J37*0.3","v":1.125},{"$f":"L37/F13","v":1.8145161290322582E-2},{"$f":"N$41*(F37/$F$41*100)","v":2.9239766081871343E-2},{"$f":"O$41*(F37/$F$41*100)","v":1.4619883040935672E-2}]
[]
[null,null,{"$f":"Т0!C47","v":"Координација на проект"},{"$f":"F39/F41","v":0.1},null,{"$f":"SUM(F27:F38)/0.9-SUM(F27:F38)","v":171},{"$f":"F39/F13","v":2.7580645161290325},{"$f":"SUM(H27:H35)/0.95-SUM(H27:H35)","v":23.589473684210532},{"$f":"H39/F13","v":0.38047538200339565},{"$f":"F39*0.15","v":25.65},{"$f":"J39/F13","v":0.41370967741935483},{"$f":"SUM(L27:L35)/0.95-SUM(L27:L35)","v":3.5384210526315769},{"$f":"L39/F13","v":5.7071307300509307E-2},{"$f":"N$41*(F39/$F$41*100)","v":0.2},{"$f":"O$41*(F39/$F$41*100)","v":0.1}]
[]
[null,null,{"$f":"Т0!C49","v":"Вкупно:"},{"$f":"SUM(D27:D39)","v":0.99999999999999989},null,{"$f":"SUM(F27:F39)","v":1710},{"$f":"F41/F13","v":27.580645161290324},{"$f":"SUM(H27:H39)","v":485.28947368421052},{"$f":"H41/F13","v":7.8272495755517824},{"$f":"SUM(J27:J39)","v":256.5},{"$f":"J41/F13","v":4.137096774193548},{"$f":"SUM(L27:L39)","v":72.793421052631587},{"$f":"L41/F13","v":1.1740874363327676},0.02,0.01]

{"sheet":"В6-I-Е","index":33,"n_rows":42,"n_cols":15,"rows_kept":42,"cut":false,"hidden":true,"merged":[[23,5,23,6],[23,7,23,8],[23,9,23,10],[23,11,23,12],[21,5,22,6],[21,7,21,8],[21,9,22,10],[21,11,21,12],[21,13,22,13],[21,14,22,14],[22,7,22,8],[22,11,22,12],[17,3,17,5],[17,6,17,7],[17,9,17,12],[19,5,20,8],[19,9,19,12],[19,13,20,14],[20,9,20,12],[15,3,15,5],[15,6,15,7],[15,9,15,12],[16,3,16,5],[16,6,16,7],[16,9,16,12],[12,6,12,7],[12,9,12,12],[13,9,13,12],[14,3,14,5],[14,6,14,7],[14,9,14,12],[10,3,10,5],[10,6,10,7],[10,9,10,12],[11,3,11,5],[11,6,11,7],[11,9,11,12],[8,3,8,5],[8,6,8,7],[8,9,8,12],[9,3,9,5],[9,6,9,7],[9,9,9,12],[2,3,2,14],[4,2,4,14],[6,9,6,12],[6,13,6,14],[7,6,7,7],[7,9,7,12]]}
[]
[]
[null,null,{"$f":"' Помош - Каталог на намени'!D36","v":"В6-I-Е"},{"$f":"' Помош - Каталог на намени'!E36","v":"ЗАШТИТЕНИ СПОМЕНИЦИ НА КУЛТУРАТА\n(I-Е ГРУПА)"}]
[]
[null,null,{"$f":"' Помош - Каталог на намени'!F36","v":"Градби со основна класа на намена од групата на класи на намена „Е“ во состав на:\n\nВ.6.1. - Aрхеолошки локалитети и градби\nВ.6.2. - Културни целини: заштитени делови од населени места\nВ.6.3. - Предисториски градби, наоѓалишта, пештери"}]
[]
[null,null,{"$f":"Т0!C8","v":"Површина на градба"},null,null,{"$f":"Калкулатор!D9","v":0},{"$f":"Т0!G8","v":"m²"},{"$f":"Т0!H8","v":"(варијабла)"},null,{"$f":"Т0!J8","v":"Вид на инженерска услуга"},null,null,null,{"$f":"Т0!N8","v":"Минимална вкупна цена"}]
[null,null,null,null,null,null,null,null,null,{"$f":"Т0!J9","v":"1. Изработка на проектна документација (1.1.+1.2)"},null,null,null,{"$f":"SUM(N9:N10)","v":0},{"$f":"SUM(O9:O10)","v":0}]
[null,null,{"$f":"Т0!C10","v":"Просечна цена на изведба за 1 m²"},{"$f":"G9*F13","v":59520},null,null,{"$f":"' Помош - Каталог на намени'!G36","v":960},null,null,{"$f":"Т0!J10","v":"1.1. Изработка на основен проект"},null,null,null,{"$f":"F7*F42","v":0},{"$f":"N9/F13","v":0}]
[null,null,null,null,null,null,null,null,null,{"$f":"Т0!J11","v":"1.2. Изработка на идеен проект"},null,null,null,{"$f":"F7*H42","v":0},{"$f":"N10/F13","v":0}]
[null,null,{"$f":"Т0!C12","v":"Вкупна инвестициона градежна  вредност"},{"$f":"F7*D9","v":0},null,null,{"$f":"D11/F13","v":0}]
[null,null,null,null,null,null,null,null,null,{"$f":"Т0!J13","v":"2. Ревизија на проектна документација (2.1.+2.2.)"},null,null,null,{"$f":"SUM(N13:N14)","v":0},{"$f":"SUM(O13:O14)","v":0}]
[null,null,{"$f":"Т0!C14","v":"Вредност на евро валута"},{"$f":"Т0!D14","v":1},{"$f":"Т0!E14","v":"="},{"$f":"Т0!F14","v":62},null,null,null,{"$f":"Т0!J14","v":"2.1. Ревизија на основен проект"},null,null,null,{"$f":"F7*J42","v":0},{"$f":"N13/F13","v":0}]
[null,null,null,null,null,null,null,null,null,{"$f":"Т0!J15","v":"2.2. Ревизија на идеен проект"},null,null,null,{"$f":"F7*L42","v":0},{"$f":"N14/F13","v":0}]
[null,null,{"$f":"Т0!C16","v":"Изработка на Основен проект"},{"$f":"Т0!D16:F16","v":"Ревизија на Основен проект"},null,null,{"$f":"Т0!G16:H16","v":"Надзор на изградба"}]
[null,null,{"$f":"G42/G9","v":3.0615292712066904E-2},{"$f":"K42/G9","v":4.5922939068100358E-3},null,null,{"$f":"N42","v":2.5000000000000001E-2},null,null,{"$f":"Т0!J17","v":"3. Надзор на градба (3.1.+3.2.)"},null,null,null,{"$f":"SUM(N17:N18)","v":0},{"$f":"SUM(O17:O18)","v":0}]
[null,null,{"$f":"Т0!C18","v":"Изработка на Идеен проект"},{"$f":"Т0!D18:F18","v":"Ревизија на Идеен проект"},null,null,{"$f":"Т0!G18:H18","v":"Проектантски надзор"},null,null,{"$f":"Т0!J18","v":"3.1. Надзор на градба"},null,null,null,{"$f":"F7*D9*N42","v":0},{"$f":"N17/F13","v":0}]
[null,null,{"$f":"I42/G9","v":8.6905772495755526E-3},{"$f":"M42/G9","v":1.3035865874363333E-3},null,null,{"$f":"O42","v":0.01},null,null,{"$f":"Т0!J19","v":"3.2. Проектантски надзор"},null,null,null,{"$f":"F7*D9*O42","v":0},{"$f":"N18/F13","v":0}]
[]
[null,null,null,null,null,{"$f":"Т0!F21","v":"Изработка на проектна документација"},null,null,null,{"$f":"Т0!J21","v":"Ревизија на проектна документација"},null,null,null,{"$f":"Т0!N21","v":"Надзор на изградба"}]
[null,null,null,null,null,null,null,null,null,{"$f":"Т0!J22","v":"(15% од вредноста на Изработка на проектна документација)"}]
[null,null,null,null,null,{"$f":"Т0!F23","v":"Основен проект"},null,{"$f":"Т0!H23","v":"Идеен проект"},null,{"$f":"Т0!J23","v":"Основен проект"},null,{"$f":"Т0!L23","v":"Идеен проект"},null,{"$f":"Т0!N23","v":"Надзор на изградба"},{"$f":"Т0!O23","v":"Проектантски надзор"}]
[null,null,null,null,null,null,null,{"$f":"Т0!H24","v":"(30% од вредноста на основниот проект)"},null,null,null,{"$f":"Т0!L24","v":"(30% од вредноста на ревизија на основниот проект)"}]
[null,null,{"$f":"Т0!C25","v":"Вид на проект"},{"$f":"Т0!D25","v":"Удел"},null,{"$f":"Т0!F25","v":"Минимална цена"},null,{"$f":"Т0!H25","v":"Минимална цена"},null,{"$f":"Т0!J25","v":"Минимална цена"},null,{"$f":"Т0!L25","v":"Минимална цена"},null,{"$f":"Т0!N25","v":"Минимален процент од инвестиција"},{"$f":"Т0!O25","v":"Минимален процент од инвестиција"}]
[null,null,{"$f":"Т0!C26","v":"(според намената)"},{"$f":"Т0!D26","v":"[%]"},null,{"$f":"Т0!F26","v":"[денари/m²]"},{"$f":"Т0!G26","v":"[€/m²]"},{"$f":"Т0!H26","v":"[денари/m²]"},{"$f":"Т0!I26","v":"[€/m²]"},{"$f":"Т0!J26","v":"[денари/m²]"},{"$f":"Т0!K26","v":"[€/m²]"},{"$f":"Т0!L26","v":"[денари/m²]"},{"$f":"Т0!M26","v":"[€/m²]"},{"$f":"Т0!N26","v":"[%]"},"[%]"]
[]
[null,null,{"$f":"Т0!C28","v":"Архитектонски проект"},{"$f":"F27/F42","v":0.3073170731707317},null,560,{"$f":"F27/F13","v":9.0322580645161299},{"$f":"F27*0.3","v":168},{"$f":"H27/F13","v":2.7096774193548385},{"$f":"F27*0.15","v":84},{"$f":"J27/F13","v":1.3548387096774193},{"$f":"J27*0.3","v":25.2},{"$f":"L27/F13","v":0.40645161290322579},{"$f":"N$42*(F27/$F$42*100)","v":0.76829268292682928},{"$f":"O$42*(F27/$F$42*100)","v":0.3073170731707317}]
[null,null,{"$f":"Т0!C29","v":"Градежно-конструктивен проект"},{"$f":"F28/F42","v":0.21951219512195122},null,400,{"$f":"F28/F13","v":6.4516129032258061},120,{"$f":"H28/F13","v":1.935483870967742},60,{"$f":"J28/F13","v":0.967741935483871},18,{"$f":"L28/F13","v":0.29032258064516131},0.54878048780487809,0.21951219512195125]
[null,null,{"$f":"Т0!C30","v":"Електротехнички проект"},{"$f":"F29/F42","v":0.10152439024390245},null,185,{"$f":"F29/F13","v":2.9838709677419355},55.5,{"$f":"H29/F13","v":0.89516129032258063},27.75,{"$f":"J29/F13","v":0.44758064516129031},8.3249999999999993,{"$f":"L29/F13","v":0.13427419354838707},0.25381097560975613,0.10152439024390245]
[null,null,{"$f":"Т0!C32","v":"Проект за водовод и канализација"},{"$f":"F30/F42","v":5.2134146341463419E-2},null,95,{"$f":"F30/F13","v":1.532258064516129},28.5,{"$f":"H30/F13","v":0.45967741935483869},14.25,{"$f":"J30/F13","v":0.22983870967741934},4.2749999999999995,{"$f":"L30/F13","v":6.8951612903225795E-2},0.13033536585365854,5.2134146341463419E-2]
[null,null,{"$f":"Т0!C33","v":"Термотехнички проект"},{"$f":"F31/F42","v":0.10152439024390245},null,185,{"$f":"F31/F13","v":2.9838709677419355},55.5,{"$f":"H31/F13","v":0.89516129032258063},27.75,{"$f":"J31/F13","v":0.44758064516129031},8.3249999999999993,{"$f":"L31/F13","v":0.13427419354838707},0.25381097560975613,0.10152439024390245]
[null,null,{"$f":"Т0!C36","v":"Технолошки проект"},{"$f":"F32/F42","v":1.9207317073170731E-2},null,35,{"$f":"F32/F13","v":0.56451612903225812},10.5,{"$f":"H32/F13","v":0.16935483870967741},5.25,{"$f":"J32/F13","v":8.4677419354838704E-2},1.575,{"$f":"L32/F13","v":2.5403225806451612E-2},4.801829268292683E-2,1.9207317073170731E-2]
[null,null,{"$f":"Т0!C44","v":"Проект за  партерно уредување и сообраќај"},{"$f":"F33/F42","v":1.9207317073170731E-2},null,35,{"$f":"F33/F13","v":0.56451612903225812},10.5,{"$f":"H33/F13","v":0.16935483870967741},5.25,{"$f":"J33/F13","v":8.4677419354838704E-2},1.575,{"$f":"L33/F13","v":2.5403225806451612E-2},4.801829268292683E-2,1.9207317073170731E-2]
[null,null,{"$f":"Т0!C38","v":"Елаборат за заштита од пожари"},{"$f":"F34/F42","v":2.7439024390243903E-2},null,50,{"$f":"F34/F13","v":0.80645161290322576},15,{"$f":"H34/F13","v":0.24193548387096775},7.5,{"$f":"J34/F13","v":0.12096774193548387},2.25,{"$f":"L34/F13","v":3.6290322580645164E-2},6.8597560975609762E-2,2.7439024390243906E-2]
[null,null,{"$f":"Т0!C39","v":"Елаборат за заштита при работа"},{"$f":"F35/F42","v":1.9207317073170731E-2},null,35,{"$f":"F35/F13","v":0.56451612903225812},10.5,{"$f":"H35/F13","v":0.16935483870967741},5.25,{"$f":"J35/F13","v":8.4677419354838704E-2},1.575,{"$f":"L35/F13","v":2.5403225806451612E-2},4.801829268292683E-2,1.9207317073170731E-2]
[null,null,{"$f":"Т0!C42","v":"Елаборат за енергетска ефикасност"},{"$f":"F36/F42","v":1.0975609756097562E-2},null,20,{"$f":"F36/F13","v":0.32258064516129031},6,{"$f":"H36/F13","v":9.6774193548387094E-2},{"$f":"F36*0.15","v":3},{"$f":"J36/F13","v":4.8387096774193547E-2},{"$f":"J36*0.3","v":0.89999999999999991},{"$f":"L36/F13","v":1.4516129032258063E-2},{"$f":"N$42*(F36/$F$42*100)","v":2.7439024390243906E-2},{"$f":"O$42*(F36/$F$42*100)","v":1.0975609756097562E-2}]
[null,null,{"$f":"Т0!C43","v":"Елаборат за заштита на животната средина"},{"$f":"F37/F42","v":1.0975609756097562E-2},null,20,{"$f":"F37/F13","v":0.32258064516129031},6,{"$f":"H37/F13","v":9.6774193548387094E-2},3,{"$f":"J37/F13","v":4.8387096774193547E-2},0.89999999999999991,{"$f":"L37/F13","v":1.4516129032258063E-2},2.7439024390243906E-2,1.0975609756097562E-2]
[null,null,{"$f":"Т0!C37","v":"Сообраќаен проект"},{"$f":"F38/F42","v":1.0975609756097562E-2},null,20,{"$f":"F38/F13","v":0.32258064516129031},6,{"$f":"H38/F13","v":9.6774193548387094E-2},3,{"$f":"J38/F13","v":4.8387096774193547E-2},0.89999999999999991,{"$f":"L38/F13","v":1.4516129032258063E-2},{"$f":"N$42*(F38/$F$42*100)","v":2.7439024390243906E-2},{"$f":"O$42*(F38/$F$42*100)","v":1.0975609756097562E-2}]
[]
[null,null,{"$f":"Т0!C47","v":"Координација на проект"},{"$f":"F40/F42","v":9.9999999999999978E-2},null,{"$f":"SUM(F27:F38)/0.9-SUM(F27:F38)","v":182.22222222222217},{"$f":"F40/F13","v":2.9390681003584223},{"$f":"SUM(H27:H36)/0.95-SUM(H27:H36)","v":25.263157894736878},{"$f":"H40/F13","v":0.40747028862478835},{"$f":"F40*0.15","v":27.333333333333325},{"$f":"J40/F13","v":0.44086021505376333},{"$f":"SUM(L27:L36)/0.95-SUM(L27:L36)","v":3.7894736842105345},{"$f":"L40/F13","v":6.1120543293718299E-2},{"$f":"N$42*(F40/$F$42*100)","v":0.24999999999999997},{"$f":"O$42*(F40/$F$42*100)","v":9.9999999999999978E-2}]
[]
[null,null,{"$f":"Т0!C49","v":"Вкупно:"},{"$f":"SUM(D27:D40)","v":1},null,{"$f":"SUM(F27:F40)","v":1822.2222222222222},{"$f":"F42/F13","v":29.390681003584227},{"$f":"SUM(H27:H40)","v":517.26315789473688},{"$f":"H42/F13","v":8.3429541595925301},{"$f":"SUM(J27:J40)","v":273.33333333333331},{"$f":"J42/F13","v":4.408602150537634},{"$f":"SUM(L27:L40)","v":77.58947368421056},{"$f":"L42/F13","v":1.2514431239388799},2.5000000000000001E-2,0.01]

{"sheet":"В6-II","index":34,"n_rows":38,"n_cols":15,"rows_kept":38,"cut":false,"hidden":true,"merged":[[4,2,4,14],[7,6,7,7],[10,9,10,12],[11,9,11,12],[2,3,2,14],[6,9,6,12],[6,13,6,14],[7,9,7,12],[8,9,8,12],[10,3,10,5],[10,6,10,7],[12,9,12,12],[8,3,8,5],[8,6,8,7],[9,3,9,5],[9,6,9,7],[9,9,9,12],[11,3,11,5],[11,6,11,7],[21,13,22,13],[16,9,16,12],[15,3,15,5],[15,6,15,7],[16,3,16,5],[16,6,16,7],[21,14,22,14],[22,7,22,8],[22,11,22,12],[12,6,12,7],[17,9,17,12],[19,5,20,8],[19,9,19,12],[19,13,20,14],[20,9,20,12],[17,3,17,5],[17,6,17,7],[15,9,15,12],[14,9,14,12],[14,3,14,5],[14,6,14,7],[13,9,13,12],[23,5,23,6],[23,7,23,8],[23,9,23,10],[23,11,23,12],[21,5,22,6],[21,7,21,8],[21,9,22,10],[21,11,21,12]]}
[]
[]
[null,null,{"$f":"' Помош - Каталог на намени'!D37","v":"В6-II"},{"$f":"' Помош - Каталог на намени'!E37","v":"ЗАШТИТЕНИ СПОМЕНИЦИ НА КУЛТУРАТА\n(II ГРУПА)"}]
[]
[null,null,{"$f":"' Помош - Каталог на намени'!F37","v":"В.6.4. - Споменици, меморијални комплекси"}]
[]
[null,null,{"$f":"Т0!C8","v":"Површина на градба"},null,null,{"$f":"Калкулатор!D9","v":0},{"$f":"Т0!G8","v":"m²"},{"$f":"Т0!H8","v":"(варијабла)"},null,{"$f":"Т0!J8","v":"Вид на инженерска услуга"},null,null,null,{"$f":"Т0!N8","v":"Минимална вкупна цена"}]
[null,null,null,null,null,null,null,null,null,{"$f":"Т0!J9","v":"1. Изработка на проектна документација (1.1.+1.2)"},null,null,null,{"$f":"SUM(N9:N10)","v":0},{"$f":"SUM(O9:O10)","v":0}]
[null,null,{"$f":"Т0!C10","v":"Просечна цена на изведба за 1 m²"},24180,null,null,{"$f":"' Помош - Каталог на намени'!G37","v":475},null,null,{"$f":"Т0!J10","v":"1.1. Изработка на основен проект"},null,null,null,{"$f":"F7*F38","v":0},{"$f":"N9/F13","v":0}]
[null,null,null,null,null,null,null,null,null,{"$f":"Т0!J11","v":"1.2. Изработка на идеен проект"},null,null,null,{"$f":"F7*H38","v":0},{"$f":"N10/F13","v":0}]
[null,null,{"$f":"Т0!C12","v":"Вкупна инвестициона градежна  вредност"},{"$f":"F7*D9","v":0},null,null,{"$f":"D11/F13","v":0}]
[null,null,null,null,null,null,null,null,null,{"$f":"Т0!J13","v":"2. Ревизија на проектна документација (2.1.+2.2.)"},null,null,null,{"$f":"SUM(N13:N14)","v":0},{"$f":"SUM(O13:O14)","v":0}]
[null,null,{"$f":"Т0!C14","v":"Вредност на евро валута"},{"$f":"Т0!D14","v":1},{"$f":"Т0!E14","v":"="},{"$f":"Т0!F14","v":62},null,null,null,{"$f":"Т0!J14","v":"2.1. Ревизија на основен проект"},null,null,null,{"$f":"F7*J38","v":0},{"$f":"N13/F13","v":0}]
[null,null,null,null,null,null,null,null,null,{"$f":"Т0!J15","v":"2.2. Ревизија на идеен проект"},null,null,null,{"$f":"F7*L38","v":0},{"$f":"N14/F13","v":0}]
[null,null,{"$f":"Т0!C16","v":"Изработка на Основен проект"},{"$f":"Т0!D16:F16","v":"Ревизија на Основен проект"},null,null,{"$f":"Т0!G16:H16","v":"Надзор на изградба"}]
[null,null,{"$f":"G38/G9","v":2.8058261102671792E-2},{"$f":"K38/G9","v":4.208739165400769E-3},null,null,{"$f":"N38","v":2.5000000000000001E-2},null,null,{"$f":"Т0!J17","v":"3. Надзор на градба (3.1.+3.2.)"},null,null,null,{"$f":"SUM(N17:N18)","v":0},{"$f":"SUM(O17:O18)","v":0}]
[null,null,{"$f":"Т0!C18","v":"Изработка на Идеен проект"},{"$f":"Т0!D18:F18","v":"Ревизија на Идеен проект"},null,null,{"$f":"Т0!G18:H18","v":"Проектантски надзор"},null,null,{"$f":"Т0!J18","v":"3.1. Надзор на градба"},null,null,null,{"$f":"F7*D9*N38","v":0},{"$f":"N17/F13","v":0}]
[null,null,{"$f":"I38/G9","v":8.3933518005540175E-3},{"$f":"M38/G9","v":1.2590027700831027E-3},null,null,{"$f":"O38","v":0.01},null,null,{"$f":"Т0!J19","v":"3.2. Проектантски надзор"},null,null,null,{"$f":"F7*D9*O38","v":0},{"$f":"N18/F13","v":0}]
[]
[null,null,null,null,null,{"$f":"Т0!F21","v":"Изработка на проектна документација"},null,null,null,{"$f":"Т0!J21","v":"Ревизија на проектна документација"},null,null,null,{"$f":"Т0!N21","v":"Надзор на изградба"}]
[null,null,null,null,null,null,null,null,null,{"$f":"Т0!J22","v":"(15% од вредноста на Изработка на проектна документација)"}]
[null,null,null,null,null,{"$f":"Т0!F23","v":"Основен проект"},null,{"$f":"Т0!H23","v":"Идеен проект"},null,{"$f":"Т0!J23","v":"Основен проект"},null,{"$f":"Т0!L23","v":"Идеен проект"},null,{"$f":"Т0!N23","v":"Надзор на изградба"},{"$f":"Т0!O23","v":"Проектантски надзор"}]
[null,null,null,null,null,null,null,{"$f":"Т0!H24","v":"(30% од вредноста на основниот проект)"},null,null,null,{"$f":"Т0!L24","v":"(30% од вредноста на ревизија на основниот проект)"}]
[null,null,{"$f":"Т0!C25","v":"Вид на проект"},{"$f":"Т0!D25","v":"Удел"},null,{"$f":"Т0!F25","v":"Минимална цена"},null,{"$f":"Т0!H25","v":"Минимална цена"},null,{"$f":"Т0!J25","v":"Минимална цена"},null,{"$f":"Т0!L25","v":"Минимална цена"},null,{"$f":"Т0!N25","v":"Минимален процент од инвестиција"},{"$f":"Т0!O25","v":"Минимален процент од инвестиција"}]
[null,null,{"$f":"Т0!C26","v":"(според намената)"},{"$f":"Т0!D26","v":"[%]"},null,{"$f":"Т0!F26","v":"[денари/m²]"},{"$f":"Т0!G26","v":"[€/m²]"},{"$f":"Т0!H26","v":"[денари/m²]"},{"$f":"Т0!I26","v":"[€/m²]"},{"$f":"Т0!J26","v":"[денари/m²]"},{"$f":"Т0!K26","v":"[€/m²]"},{"$f":"Т0!L26","v":"[денари/m²]"},{"$f":"Т0!M26","v":"[€/m²]"},{"$f":"Т0!N26","v":"[%]"},"[%]"]
[]
[null,null,{"$f":"Т0!C28","v":"Архитектонски проект"},{"$f":"F27/F38","v":0.43566878980891716},null,360,{"$f":"F27/F13","v":5.806451612903226},{"$f":"F27*0.3","v":108},{"$f":"H27/F13","v":1.7419354838709677},{"$f":"F27*0.15","v":54},{"$f":"J27/F13","v":0.87096774193548387},{"$f":"J27*0.3","v":16.2},{"$f":"L27/F13","v":0.26129032258064516},{"$f":"N$38*(F27/$F$38*100)","v":1.089171974522293},{"$f":"O$38*(F27/$F$38*100)","v":0.43566878980891716}]
[null,null,{"$f":"Т0!C30","v":"Електротехнички проект"},{"$f":"F28/F38","v":0.26624203821656051},null,220,{"$f":"F28/F13","v":3.5483870967741935},66,{"$f":"H28/F13","v":1.064516129032258},33,{"$f":"J28/F13","v":0.532258064516129},9.9,{"$f":"L28/F13","v":0.15967741935483873},0.66560509554140124,0.26624203821656051]
[null,null,{"$f":"Т0!C32","v":"Проект за водовод и канализација"},{"$f":"F29/F38","v":0.10891719745222929},null,90,{"$f":"F29/F13","v":1.4516129032258065},27,{"$f":"H29/F13","v":0.43548387096774194},13.5,{"$f":"J29/F13","v":0.21774193548387097},4.05,{"$f":"L29/F13","v":6.5322580645161291E-2},0.27229299363057324,0.10891719745222929]
[null,null,{"$f":"Т0!C44","v":"Проект за  партерно уредување и сообраќај"},{"$f":"F30/F38","v":6.0509554140127382E-2},null,50,{"$f":"F30/F13","v":0.80645161290322576},15,{"$f":"H30/F13","v":0.24193548387096775},7.5,{"$f":"J30/F13","v":0.12096774193548387},2.25,{"$f":"L30/F13","v":3.6290322580645164E-2},0.15127388535031847,6.0509554140127382E-2]
[null,null,{"$f":"Т0!C38","v":"Елаборат за заштита од пожари"},{"$f":"F31/F38","v":2.4203821656050954E-2},null,20,{"$f":"F31/F13","v":0.32258064516129031},6,{"$f":"H31/F13","v":9.6774193548387094E-2},3,{"$f":"J31/F13","v":4.8387096774193547E-2},0.89999999999999991,{"$f":"L31/F13","v":1.4516129032258063E-2},6.0509554140127389E-2,2.4203821656050954E-2]
[null,null,{"$f":"Т0!C42","v":"Елаборат за енергетска ефикасност"},{"$f":"F32/F38","v":1.8152866242038216E-2},null,15,{"$f":"F32/F13","v":0.24193548387096775},4.5,{"$f":"H32/F13","v":7.2580645161290328E-2},{"$f":"F32*0.15","v":2.25},{"$f":"J32/F13","v":3.6290322580645164E-2},{"$f":"J32*0.3","v":0.67499999999999993},{"$f":"L32/F13","v":1.0887096774193547E-2},{"$f":"N$38*(F32/$F$38*100)","v":4.5382165605095545E-2},{"$f":"O$38*(F32/$F$38*100)","v":1.8152866242038216E-2}]
[null,null,{"$f":"Т0!C43","v":"Елаборат за заштита на животната средина"},{"$f":"F33/F38","v":1.8152866242038216E-2},null,15,{"$f":"F33/F13","v":0.24193548387096775},4.5,{"$f":"H33/F13","v":7.2580645161290328E-2},2.25,{"$f":"J33/F13","v":3.6290322580645164E-2},0.67499999999999993,{"$f":"L33/F13","v":1.0887096774193547E-2},4.5382165605095545E-2,1.8152866242038216E-2]
[null,null,{"$f":"Т0!C37","v":"Сообраќаен проект"},{"$f":"F34/F38","v":1.8152866242038216E-2},null,15,{"$f":"F34/F13","v":0.24193548387096775},4.5,{"$f":"H34/F13","v":7.2580645161290328E-2},2.25,{"$f":"J34/F13","v":3.6290322580645164E-2},0.67499999999999993,{"$f":"L34/F13","v":1.0887096774193547E-2},4.5382165605095545E-2,1.8152866242038216E-2]
[]
[null,null,{"$f":"Т0!C47","v":"Координација на проект"},{"$f":"F36/F38","v":5.0000000000000079E-2},null,{"$f":"SUM(F27:F34)/0.95-SUM(F27:F34)","v":41.315789473684276},{"$f":"F36/F13","v":0.66638370118845602},{"$f":"SUM(H27:H31)/0.95-SUM(H27:H31)","v":11.684210526315809},{"$f":"H36/F13","v":0.18845500848896465},{"$f":"F36*0.15","v":6.1973684210526416},{"$f":"J36/F13","v":9.9957555178268417E-2},{"$f":"SUM(L27:L31)/0.95-SUM(L27:L31)","v":1.7526315789473728},{"$f":"L36/F13","v":2.8268251273344723E-2},{"$f":"N$38*(F36/$F$38*100)","v":0.12500000000000019},{"$f":"O$38*(F36/$F$38*100)","v":5.0000000000000079E-2}]
[]
[null,null,{"$f":"Т0!C49","v":"Вкупно:"},{"$f":"SUM(D27:D36)","v":1.0000000000000002},null,{"$f":"SUM(F27:F36)","v":826.31578947368428},{"$f":"F38/F13","v":13.3276740237691},{"$f":"SUM(H27:H36)","v":247.18421052631581},{"$f":"H38/F13","v":3.9868421052631584},{"$f":"SUM(J27:J36)","v":123.94736842105264},{"$f":"J38/F13","v":1.9991511035653653},{"$f":"SUM(L27:L36)","v":37.077631578947368},{"$f":"L38/F13","v":0.59802631578947374},2.5000000000000001E-2,0.01]

{"sheet":"В7-I","index":35,"n_rows":41,"n_cols":15,"rows_kept":41,"cut":false,"hidden":true,"merged":[[4,2,4,14],[7,6,7,7],[10,9,10,12],[11,9,11,12],[2,3,2,14],[6,9,6,12],[6,13,6,14],[7,9,7,12],[8,9,8,12],[10,3,10,5],[10,6,10,7],[12,9,12,12],[8,3,8,5],[8,6,8,7],[9,3,9,5],[9,6,9,7],[9,9,9,12],[11,3,11,5],[11,6,11,7],[21,13,22,13],[16,9,16,12],[15,3,15,5],[15,6,15,7],[16,3,16,5],[16,6,16,7],[21,14,22,14],[22,7,22,8],[22,11,22,12],[12,6,12,7],[17,9,17,12],[19,5,20,8],[19,9,19,12],[19,13,20,14],[20,9,20,12],[17,3,17,5],[17,6,17,7],[15,9,15,12],[14,9,14,12],[14,3,14,5],[14,6,14,7],[13,9,13,12],[23,5,23,6],[23,7,23,8],[23,9,23,10],[23,11,23,12],[21,5,22,6],[21,7,21,8],[21,9,22,10],[21,11,21,12]]}
[]
[]
[null,null,{"$f":"' Помош - Каталог на намени'!D38","v":"В7-I"},{"$f":"' Помош - Каталог на намени'!E38","v":"ДРЖАВНИ ИНСТИТУЦИИ ЗА ПРЕСТОЈ НА ЛУЃЕ ВО СПЕЦИЈАЛЕН РЕЖИМ\n(I ГРУПА)"}]
[]
[null,null,{"$f":"' Помош - Каталог на намени'!F38","v":"В7.1. - Касарниски комплекси, сместување и престој на војска, згради за резервен состав, караули и стражарски пунктови\nВ7.2. - Затвори и казненопоправни установи, притворни затвори, затвори со посебно обезбедување\nВ7.3. - Полициски станици, згради за сместување на полиција, специјални полициски единици"}]
[]
[null,null,{"$f":"Т0!C8","v":"Површина на градба"},null,null,{"$f":"Калкулатор!D9","v":0},{"$f":"Т0!G8","v":"m²"},{"$f":"Т0!H8","v":"(варијабла)"},null,{"$f":"Т0!J8","v":"Вид на инженерска услуга"},null,null,null,{"$f":"Т0!N8","v":"Минимална вкупна цена"}]
[null,null,null,null,null,null,null,null,null,{"$f":"Т0!J9","v":"1. Изработка на проектна документација (1.1.+1.2)"},null,null,null,{"$f":"SUM(N9:N10)","v":0},{"$f":"SUM(O9:O10)","v":0}]
[null,null,{"$f":"Т0!C10","v":"Просечна цена на изведба за 1 m²"},{"$f":"G9*F13","v":58590},null,null,{"$f":"' Помош - Каталог на намени'!G38","v":945},null,null,{"$f":"Т0!J10","v":"1.1. Изработка на основен проект"},null,null,null,{"$f":"F7*F41","v":0},{"$f":"N9/F13","v":0}]
[null,null,null,null,null,null,null,null,null,{"$f":"Т0!J11","v":"1.2. Изработка на идеен проект"},null,null,null,{"$f":"F7*H41","v":0},{"$f":"N10/F13","v":0}]
[null,null,{"$f":"Т0!C12","v":"Вкупна инвестициона градежна  вредност"},{"$f":"F7*D9","v":0},null,null,{"$f":"D11/F13","v":0}]
[null,null,null,null,null,null,null,null,null,{"$f":"Т0!J13","v":"2. Ревизија на проектна документација (2.1.+2.2.)"},null,null,null,{"$f":"SUM(N13:N14)","v":0},{"$f":"SUM(O13:O14)","v":0}]
[null,null,{"$f":"Т0!C14","v":"Вредност на евро валута"},{"$f":"Т0!D14","v":1},{"$f":"Т0!E14","v":"="},{"$f":"Т0!F14","v":62},null,null,null,{"$f":"Т0!J14","v":"2.1. Ревизија на основен проект"},null,null,null,{"$f":"F7*J41","v":0},{"$f":"N13/F13","v":0}]
[null,null,null,null,null,null,null,null,null,{"$f":"Т0!J15","v":"2.2. Ревизија на идеен проект"},null,null,null,{"$f":"F7*L41","v":0},{"$f":"N14/F13","v":0}]
[null,null,{"$f":"Т0!C16","v":"Изработка на Основен проект"},{"$f":"Т0!D16:F16","v":"Ревизија на Основен проект"},null,null,{"$f":"Т0!G16:H16","v":"Надзор на изградба"}]
[null,null,{"$f":"G41/G9","v":2.1792833337824849E-2},{"$f":"K41/G9","v":3.2689250006737273E-3},null,null,{"$f":"N41","v":2.5000000000000001E-2},null,null,{"$f":"Т0!J17","v":"3. Надзор на градба (3.1.+3.2.)"},null,null,null,{"$f":"SUM(N17:N18)","v":0},{"$f":"SUM(O17:O18)","v":0}]
[null,null,{"$f":"Т0!C18","v":"Изработка на Идеен проект"},{"$f":"Т0!D18:F18","v":"Ревизија на Идеен проект"},null,null,{"$f":"Т0!G18:H18","v":"Проектантски надзор"},null,null,{"$f":"Т0!J18","v":"3.1. Надзор на градба"},null,null,null,{"$f":"F7*D9*N41","v":0},{"$f":"N17/F13","v":0}]
[null,null,{"$f":"I41/G9","v":6.5284178187403992E-3},{"$f":"M41/G9","v":9.7926267281105974E-4},null,null,{"$f":"O41","v":0.01},null,null,{"$f":"Т0!J19","v":"3.2. Проектантски надзор"},null,null,null,{"$f":"F7*D9*O41","v":0},{"$f":"N18/F13","v":0}]
[]
[null,null,null,null,null,{"$f":"Т0!F21","v":"Изработка на проектна документација"},null,null,null,{"$f":"Т0!J21","v":"Ревизија на проектна документација"},null,null,null,{"$f":"Т0!N21","v":"Надзор на изградба"}]
[null,null,null,null,null,null,null,null,null,{"$f":"Т0!J22","v":"(15% од вредноста на Изработка на проектна документација)"}]
[null,null,null,null,null,{"$f":"Т0!F23","v":"Основен проект"},null,{"$f":"Т0!H23","v":"Идеен проект"},null,{"$f":"Т0!J23","v":"Основен проект"},null,{"$f":"Т0!L23","v":"Идеен проект"},null,{"$f":"Т0!N23","v":"Надзор на изградба"},{"$f":"Т0!O23","v":"Проектантски надзор"}]
[null,null,null,null,null,null,null,{"$f":"Т0!H24","v":"(30% од вредноста на основниот проект)"},null,null,null,{"$f":"Т0!L24","v":"(30% од вредноста на ревизија на основниот проект)"}]
[null,null,{"$f":"Т0!C25","v":"Вид на проект"},{"$f":"Т0!D25","v":"Удел"},null,{"$f":"Т0!F25","v":"Минимална цена"},null,{"$f":"Т0!H25","v":"Минимална цена"},null,{"$f":"Т0!J25","v":"Минимална цена"},null,{"$f":"Т0!L25","v":"Минимална цена"},null,{"$f":"Т0!N25","v":"Минимален процент од инвестиција"},{"$f":"Т0!O25","v":"Минимален процент од инвестиција"}]
[null,null,{"$f":"Т0!C26","v":"(според намената)"},{"$f":"Т0!D26","v":"[%]"},null,{"$f":"Т0!F26","v":"[денари/m²]"},{"$f":"Т0!G26","v":"[€/m²]"},{"$f":"Т0!H26","v":"[денари/m²]"},{"$f":"Т0!I26","v":"[€/m²]"},{"$f":"Т0!J26","v":"[денари/m²]"},{"$f":"Т0!K26","v":"[€/m²]"},{"$f":"Т0!L26","v":"[денари/m²]"},{"$f":"Т0!M26","v":"[€/m²]"},{"$f":"Т0!N26","v":"[%]"},"[%]"]
[]
[null,null,{"$f":"Т0!C28","v":"Архитектонски проект"},{"$f":"F27/F41","v":0.36417971970321517},null,465,{"$f":"F27/F13","v":7.5},{"$f":"F27*0.3","v":139.5},{"$f":"H27/F13","v":2.25},{"$f":"F27*0.15","v":69.75},{"$f":"J27/F13","v":1.125},{"$f":"J27*0.3","v":20.925000000000001},{"$f":"L27/F13","v":0.33750000000000002},{"$f":"N$41*(F27/$F$41*100)","v":0.91044929925803797},{"$f":"O$41*(F27/$F$41*100)","v":0.36417971970321517}]
[null,null,{"$f":"Т0!C29","v":"Градежно-конструктивен проект"},{"$f":"F28/F41","v":0.21537510305028854},null,275,{"$f":"F28/F13","v":4.435483870967742},82.5,{"$f":"H28/F13","v":1.3306451612903225},41.25,{"$f":"J28/F13","v":0.66532258064516125},12.375,{"$f":"L28/F13","v":0.19959677419354838},0.53843775762572132,0.21537510305028854]
[null,null,{"$f":"Т0!C30","v":"Електротехнички проект"},{"$f":"F29/F41","v":0.14332234130255564},null,183,{"$f":"F29/F13","v":2.9516129032258065},54.9,{"$f":"H29/F13","v":0.88548387096774195},27.45,{"$f":"J29/F13","v":0.44274193548387097},8.2349999999999994,{"$f":"L29/F13","v":0.13282258064516128},0.35830585325638914,0.14332234130255564]
[null,null,{"$f":"Т0!C32","v":"Проект за водовод и канализација"},{"$f":"F30/F41","v":5.4822753503709812E-2},null,70,{"$f":"F30/F13","v":1.1290322580645162},21,{"$f":"H30/F13","v":0.33870967741935482},10.5,{"$f":"J30/F13","v":0.16935483870967741},3.15,{"$f":"L30/F13","v":5.0806451612903224E-2},0.13705688375927455,5.4822753503709819E-2]
[null,null,{"$f":"Т0!C33","v":"Термотехнички проект"},{"$f":"F31/F41","v":7.8318219291014013E-2},null,100,{"$f":"F31/F13","v":1.6129032258064515},30,{"$f":"H31/F13","v":0.4838709677419355},15,{"$f":"J31/F13","v":0.24193548387096775},4.5,{"$f":"L31/F13","v":7.2580645161290328E-2},0.19579554822753506,7.8318219291014013E-2]
[null,null,{"$f":"Т0!C44","v":"Проект за  партерно уредување и сообраќај"},{"$f":"F32/F41","v":2.3495465787304205E-2},null,30,{"$f":"F32/F13","v":0.4838709677419355},9,{"$f":"H32/F13","v":0.14516129032258066},4.5,{"$f":"J32/F13","v":7.2580645161290328E-2},1.3499999999999999,{"$f":"L32/F13","v":2.1774193548387093E-2},5.8738664468260517E-2,2.3495465787304208E-2]
[null,null,{"$f":"Т0!C38","v":"Елаборат за заштита од пожари"},{"$f":"F33/F41","v":1.5663643858202802E-2},null,20,{"$f":"F33/F13","v":0.32258064516129031},6,{"$f":"H33/F13","v":9.6774193548387094E-2},3,{"$f":"J33/F13","v":4.8387096774193547E-2},0.89999999999999991,{"$f":"L33/F13","v":1.4516129032258063E-2},3.9159109645507006E-2,1.5663643858202802E-2]
[null,null,{"$f":"Т0!C39","v":"Елаборат за заштита при работа"},{"$f":"F34/F41","v":1.1747732893652102E-2},null,15,{"$f":"F34/F13","v":0.24193548387096775},4.5,{"$f":"H34/F13","v":7.2580645161290328E-2},2.25,{"$f":"J34/F13","v":3.6290322580645164E-2},0.67499999999999993,{"$f":"L34/F13","v":1.0887096774193547E-2},2.9369332234130258E-2,1.1747732893652104E-2]
[null,null,{"$f":"Т0!C42","v":"Елаборат за енергетска ефикасност"},{"$f":"F35/F41","v":1.5663643858202802E-2},null,20,{"$f":"F35/F13","v":0.32258064516129031},6,{"$f":"H35/F13","v":9.6774193548387094E-2},{"$f":"F35*0.15","v":3},{"$f":"J35/F13","v":4.8387096774193547E-2},{"$f":"J35*0.3","v":0.89999999999999991},{"$f":"L35/F13","v":1.4516129032258063E-2},{"$f":"N$41*(F35/$F$41*100)","v":3.9159109645507006E-2},{"$f":"O$41*(F35/$F$41*100)","v":1.5663643858202802E-2}]
[null,null,{"$f":"Т0!C43","v":"Елаборат за заштита на животната средина"},{"$f":"F36/F41","v":1.1747732893652102E-2},null,15,{"$f":"F36/F13","v":0.24193548387096775},{"$f":"F36*0.3","v":4.5},{"$f":"H36/F13","v":7.2580645161290328E-2},2.25,{"$f":"J36/F13","v":3.6290322580645164E-2},0.67499999999999993,{"$f":"L36/F13","v":1.0887096774193547E-2},2.9369332234130258E-2,1.1747732893652104E-2]
[null,null,{"$f":"Т0!C37","v":"Сообраќаен проект"},{"$f":"F37/F41","v":1.5663643858202802E-2},null,20,{"$f":"F37/F13","v":0.32258064516129031},{"$f":"F37*0.3","v":6},{"$f":"H37/F13","v":9.6774193548387094E-2},{"$f":"F37*0.15","v":3},{"$f":"J37/F13","v":4.8387096774193547E-2},{"$f":"J37*0.3","v":0.89999999999999991},{"$f":"L37/F13","v":1.4516129032258063E-2},{"$f":"N$41*(F37/$F$41*100)","v":3.9159109645507006E-2},{"$f":"O$41*(F37/$F$41*100)","v":1.5663643858202802E-2}]
[]
[null,null,{"$f":"Т0!C47","v":"Координација на проект"},{"$f":"F39/F41","v":5.0000000000000017E-2},null,{"$f":"SUM(F27:F38)/0.95-SUM(F27:F38)","v":63.842105263157919},{"$f":"F39/F13","v":1.0297113752122244},{"$f":"SUM(H27:H35)/0.95-SUM(H27:H35)","v":18.600000000000023},{"$f":"H39/F13","v":0.30000000000000038},{"$f":"F39*0.15","v":9.5763157894736874},{"$f":"J39/F13","v":0.15445670628183367},{"$f":"SUM(L27:L35)/0.95-SUM(L27:L35)","v":2.7899999999999991},{"$f":"L39/F13","v":4.4999999999999984E-2},{"$f":"N$41*(F39/$F$41*100)","v":0.12500000000000006},{"$f":"O$41*(F39/$F$41*100)","v":5.0000000000000017E-2}]
[]
[null,null,{"$f":"Т0!C49","v":"Вкупно:"},{"$f":"SUM(D27:D39)","v":1},null,{"$f":"SUM(F27:F39)","v":1276.8421052631579},{"$f":"F41/F13","v":20.594227504244483},{"$f":"SUM(H27:H39)","v":382.5},{"$f":"H41/F13","v":6.169354838709677},{"$f":"SUM(J27:J39)","v":191.52631578947367},{"$f":"J41/F13","v":3.0891341256366722},{"$f":"SUM(L27:L39)","v":57.374999999999986},{"$f":"L41/F13","v":0.9254032258064514},2.5000000000000001E-2,0.01]

{"sheet":"В7-II","index":36,"n_rows":41,"n_cols":15,"rows_kept":41,"cut":false,"hidden":true,"merged":[[4,2,4,14],[7,6,7,7],[10,9,10,12],[11,9,11,12],[2,3,2,14],[6,9,6,12],[6,13,6,14],[7,9,7,12],[8,9,8,12],[10,3,10,5],[10,6,10,7],[12,9,12,12],[8,3,8,5],[8,6,8,7],[9,3,9,5],[9,6,9,7],[9,9,9,12],[11,3,11,5],[11,6,11,7],[21,13,22,13],[16,9,16,12],[15,3,15,5],[15,6,15,7],[16,3,16,5],[16,6,16,7],[21,14,22,14],[22,7,22,8],[22,11,22,12],[12,6,12,7],[17,9,17,12],[19,5,20,8],[19,9,19,12],[19,13,20,14],[20,9,20,12],[17,3,17,5],[17,6,17,7],[15,9,15,12],[14,9,14,12],[14,3,14,5],[14,6,14,7],[13,9,13,12],[23,5,23,6],[23,7,23,8],[23,9,23,10],[23,11,23,12],[21,5,22,6],[21,7,21,8],[21,9,22,10],[21,11,21,12]]}
[]
[]
[null,null,{"$f":"' Помош - Каталог на намени'!D39","v":"В7-II"},{"$f":"' Помош - Каталог на намени'!E39","v":"ДРЖАВНИ ИНСТИТУЦИИ ЗА ПРЕСТОЈ НА ЛУЃЕ ВО СПЕЦИЈАЛЕН РЕЖИМ\n(II ГРУПА)"}]
[]
[null,null,{"$f":"' Помош - Каталог на намени'!F39","v":"В7.4. - Противпожарни станици"}]
[]
[null,null,{"$f":"Т0!C8","v":"Површина на градба"},null,null,{"$f":"Калкулатор!D9","v":0},{"$f":"Т0!G8","v":"m²"},{"$f":"Т0!H8","v":"(варијабла)"},null,{"$f":"Т0!J8","v":"Вид на инженерска услуга"},null,null,null,{"$f":"Т0!N8","v":"Минимална вкупна цена"}]
[null,null,null,null,null,null,null,null,null,{"$f":"Т0!J9","v":"1. Изработка на проектна документација (1.1.+1.2)"},null,null,null,{"$f":"SUM(N9:N10)","v":0},{"$f":"SUM(O9:O10)","v":0}]
[null,null,{"$f":"Т0!C10","v":"Просечна цена на изведба за 1 m²"},{"$f":"G9*F13","v":60760},null,null,{"$f":"' Помош - Каталог на намени'!G39","v":980},null,null,{"$f":"Т0!J10","v":"1.1. Изработка на основен проект"},null,null,null,{"$f":"F7*F41","v":0},{"$f":"N9/F13","v":0}]
[null,null,null,null,null,null,null,null,null,{"$f":"Т0!J11","v":"1.2. Изработка на идеен проект"},null,null,null,{"$f":"F7*H41","v":0},{"$f":"N10/F13","v":0}]
[null,null,{"$f":"Т0!C12","v":"Вкупна инвестициона градежна  вредност"},{"$f":"F7*D9","v":0},null,null,{"$f":"D11/F13","v":0}]
[null,null,null,null,null,null,null,null,null,{"$f":"Т0!J13","v":"2. Ревизија на проектна документација (2.1.+2.2.)"},null,null,null,{"$f":"SUM(N13:N14)","v":0},{"$f":"SUM(O13:O14)","v":0}]
[null,null,{"$f":"Т0!C14","v":"Вредност на евро валута"},{"$f":"Т0!D14","v":1},{"$f":"Т0!E14","v":"="},{"$f":"Т0!F14","v":62},null,null,null,{"$f":"Т0!J14","v":"2.1. Ревизија на основен проект"},null,null,null,{"$f":"F7*J41","v":0},{"$f":"N13/F13","v":0}]
[null,null,null,null,null,null,null,null,null,{"$f":"Т0!J15","v":"2.2. Ревизија на идеен проект"},null,null,null,{"$f":"F7*L41","v":0},{"$f":"N14/F13","v":0}]
[null,null,{"$f":"Т0!C16","v":"Изработка на Основен проект"},{"$f":"Т0!D16:F16","v":"Ревизија на Основен проект"},null,null,{"$f":"Т0!G16:H16","v":"Надзор на изградба"}]
[null,null,{"$f":"G41/G9","v":2.5726759294549737E-2},{"$f":"K41/G9","v":3.8590138941824604E-3},null,null,{"$f":"N41","v":2.5000000000000001E-2},null,null,{"$f":"Т0!J17","v":"3. Надзор на градба (3.1.+3.2.)"},null,null,null,{"$f":"SUM(N17:N18)","v":0},{"$f":"SUM(O17:O18)","v":0}]
[null,null,{"$f":"Т0!C18","v":"Изработка на Идеен проект"},{"$f":"Т0!D18:F18","v":"Ревизија на Идеен проект"},null,null,{"$f":"Т0!G18:H18","v":"Проектантски надзор"},null,null,{"$f":"Т0!J18","v":"3.1. Надзор на градба"},null,null,null,{"$f":"F7*D9*N41","v":0},{"$f":"N17/F13","v":0}]
[null,null,{"$f":"I41/G9","v":7.7141297945324139E-3},{"$f":"M41/G9","v":1.1571194691798621E-3},null,null,{"$f":"O41","v":0.01},null,null,{"$f":"Т0!J19","v":"3.2. Проектантски надзор"},null,null,null,{"$f":"F7*D9*O41","v":0},{"$f":"N18/F13","v":0}]
[]
[null,null,null,null,null,{"$f":"Т0!F21","v":"Изработка на проектна документација"},null,null,null,{"$f":"Т0!J21","v":"Ревизија на проектна документација"},null,null,null,{"$f":"Т0!N21","v":"Надзор на изградба"}]
[null,null,null,null,null,null,null,null,null,{"$f":"Т0!J22","v":"(15% од вредноста на Изработка на проектна документација)"}]
[null,null,null,null,null,{"$f":"Т0!F23","v":"Основен проект"},null,{"$f":"Т0!H23","v":"Идеен проект"},null,{"$f":"Т0!J23","v":"Основен проект"},null,{"$f":"Т0!L23","v":"Идеен проект"},null,{"$f":"Т0!N23","v":"Надзор на изградба"},{"$f":"Т0!O23","v":"Проектантски надзор"}]
[null,null,null,null,null,null,null,{"$f":"Т0!H24","v":"(30% од вредноста на основниот проект)"},null,null,null,{"$f":"Т0!L24","v":"(30% од вредноста на ревизија на основниот проект)"}]
[null,null,{"$f":"Т0!C25","v":"Вид на проект"},{"$f":"Т0!D25","v":"Удел"},null,{"$f":"Т0!F25","v":"Минимална цена"},null,{"$f":"Т0!H25","v":"Минимална цена"},null,{"$f":"Т0!J25","v":"Минимална цена"},null,{"$f":"Т0!L25","v":"Минимална цена"},null,{"$f":"Т0!N25","v":"Минимален процент од инвестиција"},{"$f":"Т0!O25","v":"Минимален процент од инвестиција"}]
[null,null,{"$f":"Т0!C26","v":"(според намената)"},{"$f":"Т0!D26","v":"[%]"},null,{"$f":"Т0!F26","v":"[денари/m²]"},{"$f":"Т0!G26","v":"[€/m²]"},{"$f":"Т0!H26","v":"[денари/m²]"},{"$f":"Т0!I26","v":"[€/m²]"},{"$f":"Т0!J26","v":"[денари/m²]"},{"$f":"Т0!K26","v":"[€/m²]"},{"$f":"Т0!L26","v":"[денари/m²]"},{"$f":"Т0!M26","v":"[€/m²]"},{"$f":"Т0!N26","v":"[%]"},"[%]"]
[]
[null,null,{"$f":"Т0!C28","v":"Архитектонски проект"},{"$f":"F27/F41","v":0.33585858585858586},null,525,{"$f":"F27/F13","v":8.4677419354838701},{"$f":"F27*0.3","v":157.5},{"$f":"H27/F13","v":2.5403225806451615},{"$f":"F27*0.15","v":78.75},{"$f":"J27/F13","v":1.2701612903225807},{"$f":"J27*0.3","v":23.625},{"$f":"L27/F13","v":0.38104838709677419},{"$f":"N$41*(F27/$F$41*100)","v":0.83964646464646475},{"$f":"O$41*(F27/$F$41*100)","v":0.33585858585858591}]
[null,null,{"$f":"Т0!C29","v":"Градежно-конструктивен проект"},{"$f":"F28/F41","v":0.24309764309764309},null,380,{"$f":"F28/F13","v":6.129032258064516},114,{"$f":"H28/F13","v":1.8387096774193548},57,{"$f":"J28/F13","v":0.91935483870967738},17.099999999999998,{"$f":"L28/F13","v":0.27580645161290318},0.6077441077441077,0.24309764309764309]
[null,null,{"$f":"Т0!C30","v":"Електротехнички проект"},{"$f":"F29/F41","v":0.11835016835016836},null,185,{"$f":"F29/F13","v":2.9838709677419355},55.5,{"$f":"H29/F13","v":0.89516129032258063},27.75,{"$f":"J29/F13","v":0.44758064516129031},8.3249999999999993,{"$f":"L29/F13","v":0.13427419354838707},0.2958754208754209,0.11835016835016836]
[null,null,{"$f":"Т0!C32","v":"Проект за водовод и канализација"},{"$f":"F30/F41","v":5.1178451178451177E-2},null,80,{"$f":"F30/F13","v":1.2903225806451613},24,{"$f":"H30/F13","v":0.38709677419354838},12,{"$f":"J30/F13","v":0.19354838709677419},3.5999999999999996,{"$f":"L30/F13","v":5.8064516129032254E-2},0.12794612794612795,5.1178451178451177E-2]
[null,null,{"$f":"Т0!C33","v":"Термотехнички проект"},{"$f":"F31/F41","v":7.9966329966329963E-2},null,125,{"$f":"F31/F13","v":2.0161290322580645},37.5,{"$f":"H31/F13","v":0.60483870967741937},18.75,{"$f":"J31/F13","v":0.30241935483870969},5.625,{"$f":"L31/F13","v":9.0725806451612906E-2},0.19991582491582494,7.9966329966329963E-2]
[null,null,{"$f":"Т0!C37","v":"Сообраќаен проект"},{"$f":"F32/F41","v":1.9191919191919191E-2},null,30,{"$f":"F32/F13","v":0.4838709677419355},9,{"$f":"H32/F13","v":0.14516129032258066},4.5,{"$f":"J32/F13","v":7.2580645161290328E-2},1.3499999999999999,{"$f":"L32/F13","v":2.1774193548387093E-2},4.7979797979797983E-2,1.9191919191919191E-2]
[null,null,{"$f":"Т0!C44","v":"Проект за  партерно уредување и сообраќај"},{"$f":"F33/F41","v":4.1582491582491582E-2},null,65,{"$f":"F33/F13","v":1.0483870967741935},19.5,{"$f":"H33/F13","v":0.31451612903225806},9.75,{"$f":"J33/F13","v":0.15725806451612903},2.9249999999999998,{"$f":"L33/F13","v":4.7177419354838705E-2},0.10395622895622897,4.1582491582491582E-2]
[null,null,{"$f":"Т0!C38","v":"Елаборат за заштита од пожари"},{"$f":"F34/F41","v":2.5589225589225589E-2},null,40,{"$f":"F34/F13","v":0.64516129032258063},12,{"$f":"H34/F13","v":0.19354838709677419},6,{"$f":"J34/F13","v":9.6774193548387094E-2},1.7999999999999998,{"$f":"L34/F13","v":2.9032258064516127E-2},6.3973063973063973E-2,2.5589225589225589E-2]
[null,null,{"$f":"Т0!C39","v":"Елаборат за заштита при работа"},{"$f":"F35/F41","v":1.2794612794612794E-2},null,20,{"$f":"F35/F13","v":0.32258064516129031},6,{"$f":"H35/F13","v":9.6774193548387094E-2},3,{"$f":"J35/F13","v":4.8387096774193547E-2},0.89999999999999991,{"$f":"L35/F13","v":1.4516129032258063E-2},3.1986531986531987E-2,1.2794612794612794E-2]
[null,null,{"$f":"Т0!C42","v":"Елаборат за енергетска ефикасност"},{"$f":"F36/F41","v":1.2794612794612794E-2},null,20,{"$f":"F36/F13","v":0.32258064516129031},6,{"$f":"H36/F13","v":9.6774193548387094E-2},{"$f":"F36*0.15","v":3},{"$f":"J36/F13","v":4.8387096774193547E-2},{"$f":"J36*0.3","v":0.89999999999999991},{"$f":"L36/F13","v":1.4516129032258063E-2},3.1986531986531987E-2,1.2794612794612794E-2]
[null,null,{"$f":"Т0!C43","v":"Елаборат за заштита на животната средина"},{"$f":"F37/F41","v":9.5959595959595953E-3},null,15,{"$f":"F37/F13","v":0.24193548387096775},4.5,{"$f":"H37/F13","v":7.2580645161290328E-2},2.25,{"$f":"J37/F13","v":3.6290322580645164E-2},0.67499999999999993,{"$f":"L37/F13","v":1.0887096774193547E-2},2.3989898989898992E-2,9.5959595959595953E-3]
[]
[null,null,{"$f":"Т0!C47","v":"Координација на проект"},{"$f":"F39/F41","v":4.9999999999999989E-2},null,{"$f":"SUM(F27:F38)/0.95-SUM(F27:F38)","v":78.157894736842081},{"$f":"F39/F13","v":1.2606112054329368},{"$f":"SUM(H27:H36)/0.95-SUM(H27:H36)","v":23.21052631578948},{"$f":"H39/F13","v":0.37436332767402386},{"$f":"F39*0.15","v":11.723684210526311},{"$f":"J39/F13","v":0.18909168081494052},{"$f":"SUM(L27:L36)/0.95-SUM(L27:L36)","v":3.4815789473684191},{"$f":"L39/F13","v":5.6154499151103536E-2},{"$f":"N$41*(F39/$F$41*100)","v":0.12499999999999999},{"$f":"O$41*(F39/$F$41*100)","v":4.9999999999999989E-2}]
[]
[null,null,{"$f":"Т0!C49","v":"Вкупно:"},{"$f":"SUM(D27:D39)","v":1},null,{"$f":"SUM(F27:F39)","v":1563.1578947368421},{"$f":"F41/F13","v":25.212224108658742},{"$f":"SUM(H27:H39)","v":468.71052631578948},{"$f":"H41/F13","v":7.5598471986417657},{"$f":"SUM(J27:J39)","v":234.4736842105263},{"$f":"J41/F13","v":3.7818336162988113},{"$f":"SUM(L27:L39)","v":70.306578947368422},{"$f":"L41/F13","v":1.1339770797962649},2.5000000000000001E-2,0.01]

{"sheet":"Г1-I","index":37,"n_rows":43,"n_cols":15,"rows_kept":43,"cut":false,"hidden":true,"merged":[[24,5,24,6],[24,7,24,8],[24,9,24,10],[24,11,24,12],[22,5,23,6],[22,7,22,8],[22,9,23,10],[22,11,22,12],[22,13,23,13],[22,14,23,14],[23,7,23,8],[23,11,23,12],[18,3,18,5],[18,6,18,7],[18,9,18,12],[20,5,21,8],[20,9,20,12],[20,13,21,14],[21,9,21,12],[16,3,16,5],[16,6,16,7],[16,9,16,12],[17,3,17,5],[17,6,17,7],[17,9,17,12],[13,6,13,7],[13,9,13,12],[14,9,14,12],[15,3,15,5],[15,6,15,7],[15,9,15,12],[11,3,11,5],[11,6,11,7],[11,9,11,12],[12,3,12,5],[12,6,12,7],[12,9,12,12],[9,3,9,5],[9,6,9,7],[9,9,9,12],[10,3,10,5],[10,6,10,7],[10,9,10,12],[2,3,2,14],[4,2,4,14],[7,9,7,12],[7,13,7,14],[8,6,8,7],[8,9,8,12],[5,2,5,14]]}
[]
[]
[null,null,{"$f":"' Помош - Каталог на намени'!D41","v":"Г1-I"},{"$f":"' Помош - Каталог на намени'!E41","v":"ПРОИЗВОДСТВО НА ЕНЕРГИЈА И ТЕШКА И ЗАГАДУВАЧКА ИНДУСТРИЈА\n(I ГРУПА)"}]
[]
[null,null,{"$f":"' Помош - Каталог на намени'!F41","v":"Г1.1. - Рударство и вадење на нафта и гас: градби и постројки за површински и подземни копови, каменоломи\nГ1.9. - Големи електрични централи: хидроелектрични централи, термоелектрични централи на јаглен, мазут, природен гас, јаловишта и пепелишта, нуклеарни електрани"}]
[null,null,{"$f":"Т0!C6","v":"*Напомена: Одредувањето на цената за проектирање на секој од објектите се одредува според неговата основна намена. Доколку некој објект нема специфична јасно одредена класа на намена, цената за проектирање се одредува според групата на објекти во кои е класифициран"}]
[]
[null,null,{"$f":"Т0!C8","v":"Површина на градба"},null,null,{"$f":"Калкулатор!D9","v":0},{"$f":"Т0!G8","v":"m²"},{"$f":"Т0!H8","v":"(варијабла)"},null,{"$f":"Т0!J8","v":"Вид на инженерска услуга"},null,null,null,{"$f":"Т0!N8","v":"Минимална вкупна цена"}]
[null,null,null,null,null,null,null,null,null,{"$f":"Т0!J9","v":"1. Изработка на проектна документација (1.1.+1.2)"},null,null,null,{"$f":"SUM(N10:N11)","v":0},{"$f":"SUM(O10:O11)","v":0}]
[null,null,{"$f":"Т0!C10","v":"Просечна цена на изведба за 1 m²"},{"$f":"G10*F14","v":41850},null,null,{"$f":"' Помош - Каталог на намени'!G41","v":675},null,null,{"$f":"Т0!J10","v":"1.1. Изработка на основен проект"},null,null,null,{"$f":"F8*F43","v":0},{"$f":"N10/F14","v":0}]
[null,null,null,null,null,null,null,null,null,{"$f":"Т0!J11","v":"1.2. Изработка на идеен проект"},null,null,null,{"$f":"F8*H43","v":0},{"$f":"N11/F14","v":0}]
[null,null,{"$f":"Т0!C12","v":"Вкупна инвестициона градежна  вредност"},{"$f":"F8*D10","v":0},null,null,{"$f":"D12/F14","v":0}]
[null,null,null,null,null,null,null,null,null,{"$f":"Т0!J13","v":"2. Ревизија на проектна документација (2.1.+2.2.)"},null,null,null,{"$f":"SUM(N14:N15)","v":0},{"$f":"SUM(O14:O15)","v":0}]
[null,null,{"$f":"Т0!C14","v":"Вредност на евро валута"},{"$f":"Т0!D14","v":1},{"$f":"Т0!E14","v":"="},{"$f":"Т0!F14","v":62},null,null,null,{"$f":"Т0!J14","v":"2.1. Ревизија на основен проект"},null,null,null,{"$f":"F8*J43","v":0},{"$f":"N14/F14","v":0}]
[null,null,null,null,null,null,null,null,null,{"$f":"Т0!J15","v":"2.2. Ревизија на идеен проект"},null,null,null,{"$f":"F8*L43","v":0},{"$f":"N15/F14","v":0}]
[null,null,{"$f":"Т0!C16","v":"Изработка на Основен проект"},{"$f":"Т0!D16:F16","v":"Ревизија на Основен проект"},null,null,{"$f":"Т0!G16:H16","v":"Надзор на изградба"}]
[null,null,{"$f":"G43/G10","v":2.5806451612903222E-2},{"$f":"K43/G10","v":3.8709677419354839E-3},null,null,{"$f":"N43","v":2.5000000000000001E-2},null,null,{"$f":"Т0!J17","v":"3. Надзор на градба (3.1.+3.2.)"},null,null,null,{"$f":"SUM(N18:N19)","v":0},{"$f":"SUM(O18:O19)","v":0}]
[null,null,{"$f":"Т0!C18","v":"Изработка на Идеен проект"},{"$f":"Т0!D18:F18","v":"Ревизија на Идеен проект"},null,null,{"$f":"Т0!G18:H18","v":"Проектантски надзор"},null,null,{"$f":"Т0!J18","v":"3.1. Надзор на градба"},null,null,null,{"$f":"F8*D10*N43","v":0},{"$f":"N18/F14","v":0}]
[null,null,{"$f":"I43/G10","v":7.7268439916996796E-3},{"$f":"M43/G10","v":1.1590265987549515E-3},null,null,{"$f":"O43","v":0.01},null,null,{"$f":"Т0!J19","v":"3.2. Проектантски надзор"},null,null,null,{"$f":"F8*D10*O43","v":0},{"$f":"N19/F14","v":0}]
[]
[null,null,null,null,null,{"$f":"Т0!F21","v":"Изработка на проектна документација"},null,null,null,{"$f":"Т0!J21","v":"Ревизија на проектна документација"},null,null,null,{"$f":"Т0!N21","v":"Надзор на изградба"}]
[null,null,null,null,null,null,null,null,null,{"$f":"Т0!J22","v":"(15% од вредноста на Изработка на проектна документација)"}]
[null,null,null,null,null,{"$f":"Т0!F23","v":"Основен проект"},null,{"$f":"Т0!H23","v":"Идеен проект"},null,{"$f":"Т0!J23","v":"Основен проект"},null,{"$f":"Т0!L23","v":"Идеен проект"},null,{"$f":"Т0!N23","v":"Надзор на изградба"},{"$f":"Т0!O23","v":"Проектантски надзор"}]
[null,null,null,null,null,null,null,{"$f":"Т0!H24","v":"(30% од вредноста на основниот проект)"},null,null,null,{"$f":"Т0!L24","v":"(30% од вредноста на ревизија на основниот проект)"}]
[null,null,{"$f":"Т0!C25","v":"Вид на проект"},{"$f":"Т0!D25","v":"Удел"},null,{"$f":"Т0!F25","v":"Минимална цена"},null,{"$f":"Т0!H25","v":"Минимална цена"},null,{"$f":"Т0!J25","v":"Минимална цена"},null,{"$f":"Т0!L25","v":"Минимална цена"},null,{"$f":"Т0!N25","v":"Минимален процент од инвестиција"},{"$f":"Т0!O25","v":"Минимален процент од инвестиција"}]
[null,null,{"$f":"Т0!C26","v":"(според намената)"},{"$f":"Т0!D26","v":"[%]"},null,{"$f":"Т0!F26","v":"[денари/m²]"},{"$f":"Т0!G26","v":"[€/m²]"},{"$f":"Т0!H26","v":"[денари/m²]"},{"$f":"Т0!I26","v":"[€/m²]"},{"$f":"Т0!J26","v":"[денари/m²]"},{"$f":"Т0!K26","v":"[€/m²]"},{"$f":"Т0!L26","v":"[денари/m²]"},{"$f":"Т0!M26","v":"[€/m²]"},{"$f":"Т0!N26","v":"[%]"},"[%]"]
[]
[null,null,{"$f":"Т0!C28","v":"Архитектонски проект"},{"$f":"F28/F43","v":0.16203703703703703},null,175,{"$f":"F28/F14","v":2.8225806451612905},{"$f":"F28*0.3","v":52.5},{"$f":"H28/F14","v":0.84677419354838712},{"$f":"F28*0.15","v":26.25},{"$f":"J28/F14","v":0.42338709677419356},{"$f":"J28*0.3","v":7.875},{"$f":"L28/F14","v":0.12701612903225806},{"$f":"N$43*(F28/$F$43*100)","v":0.40509259259259256},{"$f":"O$43*(F28/$F$43*100)","v":0.16203703703703703}]
[null,null,{"$f":"Т0!C29","v":"Градежно-конструктивен проект"},{"$f":"F29/F43","v":0.20370370370370369},null,220,{"$f":"F29/F14","v":3.5483870967741935},66,{"$f":"H29/F14","v":1.064516129032258},33,{"$f":"J29/F14","v":0.532258064516129},9.9,{"$f":"L29/F14","v":0.15967741935483873},0.5092592592592593,0.20370370370370372]
[null,null,{"$f":"Т0!C30","v":"Електротехнички проект"},{"$f":"F30/F43","v":0.12962962962962962},null,140,{"$f":"F30/F14","v":2.2580645161290325},42,{"$f":"H30/F14","v":0.67741935483870963},21,{"$f":"J30/F14","v":0.33870967741935482},6.3,{"$f":"L30/F14","v":0.10161290322580645},0.32407407407407407,0.12962962962962962]
[null,null,{"$f":"Т0!C32","v":"Проект за водовод и канализација"},{"$f":"F31/F43","v":5.648148148148148E-2},null,61,{"$f":"F31/F14","v":0.9838709677419355},18.3,{"$f":"H31/F14","v":0.29516129032258065},9.15,{"$f":"J31/F14","v":0.14758064516129032},2.7450000000000001,{"$f":"L31/F14","v":4.4274193548387096E-2},0.14120370370370369,5.648148148148148E-2]
[null,null,{"$f":"Т0!C33","v":"Термотехнички проект"},{"$f":"F32/F43","v":0.12962962962962962},null,140,{"$f":"F32/F14","v":2.2580645161290325},42,{"$f":"H32/F14","v":0.67741935483870963},21,{"$f":"J32/F14","v":0.33870967741935482},6.3,{"$f":"L32/F14","v":0.10161290322580645},0.32407407407407407,0.12962962962962962]
[null,null,{"$f":"Т0!C36","v":"Технолошки проект"},{"$f":"F33/F43","v":0.12962962962962962},null,140,{"$f":"F33/F14","v":2.2580645161290325},42,{"$f":"H33/F14","v":0.67741935483870963},21,{"$f":"J33/F14","v":0.33870967741935482},6.3,{"$f":"L33/F14","v":0.10161290322580645},0.32407407407407407,0.12962962962962962]
[null,null,{"$f":"Т0!C44","v":"Проект за  партерно уредување и сообраќај"},{"$f":"F34/F43","v":2.7777777777777776E-2},null,30,{"$f":"F34/F14","v":0.4838709677419355},9,{"$f":"H34/F14","v":0.14516129032258066},4.5,{"$f":"J34/F14","v":7.2580645161290328E-2},1.3499999999999999,{"$f":"L34/F14","v":2.1774193548387093E-2},6.9444444444444448E-2,2.7777777777777776E-2]
[null,null,{"$f":"Т0!C38","v":"Елаборат за заштита од пожари"},{"$f":"F35/F43","v":3.7037037037037035E-2},null,40,{"$f":"F35/F14","v":0.64516129032258063},12,{"$f":"H35/F14","v":0.19354838709677419},6,{"$f":"J35/F14","v":9.6774193548387094E-2},1.7999999999999998,{"$f":"L35/F14","v":2.9032258064516127E-2},9.2592592592592587E-2,3.7037037037037035E-2]
[null,null,{"$f":"Т0!C39","v":"Елаборат за заштита при работа"},{"$f":"F36/F43","v":1.8518518518518517E-2},null,20,{"$f":"F36/F14","v":0.32258064516129031},6,{"$f":"H36/F14","v":9.6774193548387094E-2},3,{"$f":"J36/F14","v":4.8387096774193547E-2},0.89999999999999991,{"$f":"L36/F14","v":1.4516129032258063E-2},4.6296296296296294E-2,1.8518518518518517E-2]
[null,null,{"$f":"Т0!C42","v":"Елаборат за енергетска ефикасност"},{"$f":"F37/F43","v":1.8518518518518517E-2},null,20,{"$f":"F37/F14","v":0.32258064516129031},6,{"$f":"H37/F14","v":9.6774193548387094E-2},{"$f":"F37*0.15","v":3},{"$f":"J37/F14","v":4.8387096774193547E-2},{"$f":"J37*0.3","v":0.89999999999999991},{"$f":"L37/F14","v":1.4516129032258063E-2},{"$f":"N$43*(F37/$F$43*100)","v":4.6296296296296294E-2},{"$f":"O$43*(F37/$F$43*100)","v":1.8518518518518517E-2}]
[null,null,{"$f":"Т0!C43","v":"Елаборат за заштита на животната средина"},{"$f":"F38/F43","v":1.8518518518518517E-2},null,20,{"$f":"F38/F14","v":0.32258064516129031},{"$f":"F38*0.3","v":6},{"$f":"H38/F14","v":9.6774193548387094E-2},3,{"$f":"J38/F14","v":4.8387096774193547E-2},0.89999999999999991,{"$f":"L38/F14","v":1.4516129032258063E-2},4.6296296296296294E-2,1.8518518518518517E-2]
[null,null,{"$f":"Т0!C37","v":"Сообраќаен проект"},{"$f":"F39/F43","v":1.8518518518518517E-2},null,20,{"$f":"F39/F14","v":0.32258064516129031},{"$f":"F39*0.3","v":6},{"$f":"H39/F14","v":9.6774193548387094E-2},{"$f":"F39*0.15","v":3},{"$f":"J39/F14","v":4.8387096774193547E-2},{"$f":"J39*0.3","v":0.89999999999999991},{"$f":"L39/F14","v":1.4516129032258063E-2},4.7027840481565081E-2,1.8811136192626032E-2]
[]
[null,null,{"$f":"Т0!C47","v":"Координација на проект"},{"$f":"F41/F43","v":0.05},null,{"$f":"SUM(F27:F39)/0.95-SUM(F27:F39)","v":54},{"$f":"F41/F14","v":0.87096774193548387},{"$f":"SUM(H28:H37)/0.95-SUM(H28:H37)","v":15.568421052631606},{"$f":"H41/F14","v":0.25110356536502593},{"$f":"F41*0.15","v":8.1},{"$f":"J41/F14","v":0.13064516129032258},{"$f":"SUM(L28:L37)/0.95-SUM(L28:L37)","v":2.3352631578947367},{"$f":"L41/F14","v":3.766553480475382E-2},{"$f":"N$43*(F41/$F$43*100)","v":0.125},{"$f":"O$43*(F41/$F$43*100)","v":0.05}]
[]
[null,null,{"$f":"Т0!C49","v":"Вкупно:"},{"$f":"SUM(D28:D41)","v":1},null,{"$f":"SUM(F27:F42)","v":1080},{"$f":"F43/F14","v":17.419354838709676},{"$f":"SUM(H28:H41)","v":323.36842105263162},{"$f":"H43/F14","v":5.2156196943972839},{"$f":"SUM(J28:J41)","v":162},{"$f":"J43/F14","v":2.6129032258064515},{"$f":"SUM(L28:L41)","v":48.505263157894724},{"$f":"L43/F14","v":0.78234295415959232},2.5000000000000001E-2,0.01]

{"sheet":"Г1-II","index":38,"n_rows":43,"n_cols":15,"rows_kept":43,"cut":false,"hidden":true,"merged":[[24,5,24,6],[24,7,24,8],[24,9,24,10],[24,11,24,12],[22,5,23,6],[22,7,22,8],[22,9,23,10],[22,11,22,12],[22,13,23,13],[22,14,23,14],[23,7,23,8],[23,11,23,12],[18,3,18,5],[18,6,18,7],[18,9,18,12],[20,5,21,8],[20,9,20,12],[20,13,21,14],[21,9,21,12],[16,3,16,5],[16,6,16,7],[16,9,16,12],[17,3,17,5],[17,6,17,7],[17,9,17,12],[13,6,13,7],[13,9,13,12],[14,9,14,12],[15,3,15,5],[15,6,15,7],[15,9,15,12],[11,3,11,5],[11,6,11,7],[11,9,11,12],[12,3,12,5],[12,6,12,7],[12,9,12,12],[9,3,9,5],[9,6,9,7],[9,9,9,12],[10,3,10,5],[10,6,10,7],[10,9,10,12],[2,3,2,14],[4,2,4,14],[7,9,7,12],[7,13,7,14],[8,6,8,7],[8,9,8,12],[5,2,5,14]]}
[]
[]
[null,null,{"$f":"' Помош - Каталог на намени'!D42","v":"Г1-II"},{"$f":"' Помош - Каталог на намени'!E42","v":"ПРОИЗВОДСТВО НА ЕНЕРГИЈА И ТЕШКА И ЗАГАДУВАЧКА ИНДУСТРИЈА\n(II ГРУПА)"}]
[]
[null,null,{"$f":"' Помош - Каталог на намени'!F42","v":"Г1.2. - Базна и преработувачка хемиска индустрија: петрохемиска индустрија, рафинерии, коксари и плинари, производство на бои, производство на пестициди и вештачки ѓубрива, производство на биогориво, радиоизотопи\nГ1.3. - Црна и обоена металургија: железарници, валавници, ливници, топилници на железо и челик, производство на лимови, кабли од цинк, бакар, алуминиум и легури\nГ1.4. - Тешка градежна индустрија и производство на неметали: циглани, ќерамидници, гипсари, цементари, производство на керамика и други неметали, производи од азбест, преработка на дрво, целулоза и хартија\nГ1.5. - Индустрија за преработка на кожа, текстилна индустрија за преработка и боење на предиво\nГ1.6. - Индустрија за преработка на каучук и гума, експлозивни производи и муниција\nГ1.7. - Прехранбена индустрија: производство на месо и меснати производи, кланици, млечни производи, производство на екстрахирани масла, желатин, шеќер\nГ1.8. - Базична фармацевтска индустрија, производство на сапун и детергенти"}]
[null,null,{"$f":"Т0!C6","v":"*Напомена: Одредувањето на цената за проектирање на секој од објектите се одредува според неговата основна намена. Доколку некој објект нема специфична јасно одредена класа на намена, цената за проектирање се одредува според групата на објекти во кои е класифициран"}]
[]
[null,null,{"$f":"Т0!C8","v":"Површина на градба"},null,null,{"$f":"Калкулатор!D9","v":0},{"$f":"Т0!G8","v":"m²"},{"$f":"Т0!H8","v":"(варијабла)"},null,{"$f":"Т0!J8","v":"Вид на инженерска услуга"},null,null,null,{"$f":"Т0!N8","v":"Минимална вкупна цена"}]
[null,null,null,null,null,null,null,null,null,{"$f":"Т0!J9","v":"1. Изработка на проектна документација (1.1.+1.2)"},null,null,null,{"$f":"SUM(N10:N11)","v":0},{"$f":"SUM(O10:O11)","v":0}]
[null,null,{"$f":"Т0!C10","v":"Просечна цена на изведба за 1 m²"},{"$f":"G10*F14","v":41850},null,null,{"$f":"' Помош - Каталог на намени'!G41","v":675},null,null,{"$f":"Т0!J10","v":"1.1. Изработка на основен проект"},null,null,null,{"$f":"F8*F43","v":0},{"$f":"N10/F14","v":0}]
[null,null,null,null,null,null,null,null,null,{"$f":"Т0!J11","v":"1.2. Изработка на идеен проект"},null,null,null,{"$f":"F8*H43","v":0},{"$f":"N11/F14","v":0}]
[null,null,{"$f":"Т0!C12","v":"Вкупна инвестициона градежна  вредност"},{"$f":"F8*D10","v":0},null,null,{"$f":"D12/F14","v":0}]
[null,null,null,null,null,null,null,null,null,{"$f":"Т0!J13","v":"2. Ревизија на проектна документација (2.1.+2.2.)"},null,null,null,{"$f":"SUM(N14:N15)","v":0},{"$f":"SUM(O14:O15)","v":0}]
[null,null,{"$f":"Т0!C14","v":"Вредност на евро валута"},{"$f":"Т0!D14","v":1},{"$f":"Т0!E14","v":"="},{"$f":"Т0!F14","v":62},null,null,null,{"$f":"Т0!J14","v":"2.1. Ревизија на основен проект"},null,null,null,{"$f":"F8*J43","v":0},{"$f":"N14/F14","v":0}]
[null,null,null,null,null,null,null,null,null,{"$f":"Т0!J15","v":"2.2. Ревизија на идеен проект"},null,null,null,{"$f":"F8*L43","v":0},{"$f":"N15/F14","v":0}]
[null,null,{"$f":"Т0!C16","v":"Изработка на Основен проект"},{"$f":"Т0!D16:F16","v":"Ревизија на Основен проект"},null,null,{"$f":"Т0!G16:H16","v":"Надзор на изградба"}]
[null,null,{"$f":"G43/G10","v":2.5806451612903222E-2},{"$f":"K43/G10","v":3.8709677419354839E-3},null,null,{"$f":"N43","v":2.5000000000000001E-2},null,null,{"$f":"Т0!J17","v":"3. Надзор на градба (3.1.+3.2.)"},null,null,null,{"$f":"SUM(N18:N19)","v":0},{"$f":"SUM(O18:O19)","v":0}]
[null,null,{"$f":"Т0!C18","v":"Изработка на Идеен проект"},{"$f":"Т0!D18:F18","v":"Ревизија на Идеен проект"},null,null,{"$f":"Т0!G18:H18","v":"Проектантски надзор"},null,null,{"$f":"Т0!J18","v":"3.1. Надзор на градба"},null,null,null,{"$f":"F8*D10*N43","v":0},{"$f":"N18/F14","v":0}]
[null,null,{"$f":"I43/G10","v":7.7268439916996796E-3},{"$f":"M43/G10","v":1.1590265987549515E-3},null,null,{"$f":"O43","v":0.01},null,null,{"$f":"Т0!J19","v":"3.2. Проектантски надзор"},null,null,null,{"$f":"F8*D10*O43","v":0},{"$f":"N19/F14","v":0}]
[]
[null,null,null,null,null,{"$f":"Т0!F21","v":"Изработка на проектна документација"},null,null,null,{"$f":"Т0!J21","v":"Ревизија на проектна документација"},null,null,null,{"$f":"Т0!N21","v":"Надзор на изградба"}]
[null,null,null,null,null,null,null,null,null,{"$f":"Т0!J22","v":"(15% од вредноста на Изработка на проектна документација)"}]
[null,null,null,null,null,{"$f":"Т0!F23","v":"Основен проект"},null,{"$f":"Т0!H23","v":"Идеен проект"},null,{"$f":"Т0!J23","v":"Основен проект"},null,{"$f":"Т0!L23","v":"Идеен проект"},null,{"$f":"Т0!N23","v":"Надзор на изградба"},{"$f":"Т0!O23","v":"Проектантски надзор"}]
[null,null,null,null,null,null,null,{"$f":"Т0!H24","v":"(30% од вредноста на основниот проект)"},null,null,null,{"$f":"Т0!L24","v":"(30% од вредноста на ревизија на основниот проект)"}]
[null,null,{"$f":"Т0!C25","v":"Вид на проект"},{"$f":"Т0!D25","v":"Удел"},null,{"$f":"Т0!F25","v":"Минимална цена"},null,{"$f":"Т0!H25","v":"Минимална цена"},null,{"$f":"Т0!J25","v":"Минимална цена"},null,{"$f":"Т0!L25","v":"Минимална цена"},null,{"$f":"Т0!N25","v":"Минимален процент од инвестиција"},{"$f":"Т0!O25","v":"Минимален процент од инвестиција"}]
[null,null,{"$f":"Т0!C26","v":"(според намената)"},{"$f":"Т0!D26","v":"[%]"},null,{"$f":"Т0!F26","v":"[денари/m²]"},{"$f":"Т0!G26","v":"[€/m²]"},{"$f":"Т0!H26","v":"[денари/m²]"},{"$f":"Т0!I26","v":"[€/m²]"},{"$f":"Т0!J26","v":"[денари/m²]"},{"$f":"Т0!K26","v":"[€/m²]"},{"$f":"Т0!L26","v":"[денари/m²]"},{"$f":"Т0!M26","v":"[€/m²]"},{"$f":"Т0!N26","v":"[%]"},"[%]"]
[]
[null,null,{"$f":"Т0!C28","v":"Архитектонски проект"},{"$f":"F28/F43","v":0.28703703703703703},null,310,{"$f":"F28/F14","v":5},{"$f":"F28*0.3","v":93},{"$f":"H28/F14","v":1.5},{"$f":"F28*0.15","v":46.5},{"$f":"J28/F14","v":0.75},{"$f":"J28*0.3","v":13.95},{"$f":"L28/F14","v":0.22499999999999998},{"$f":"N$43*(F28/$F$43*100)","v":0.71759259259259256},{"$f":"O$43*(F28/$F$43*100)","v":0.28703703703703703}]
[null,null,{"$f":"Т0!C29","v":"Градежно-конструктивен проект"},{"$f":"F29/F43","v":0.18981481481481483},null,205,{"$f":"F29/F14","v":3.306451612903226},61.5,{"$f":"H29/F14","v":0.99193548387096775},30.75,{"$f":"J29/F14","v":0.49596774193548387},9.2249999999999996,{"$f":"L29/F14","v":0.14879032258064515},0.47453703703703703,0.18981481481481483]
[null,null,{"$f":"Т0!C30","v":"Електротехнички проект"},{"$f":"F30/F43","v":0.1111111111111111},null,120,{"$f":"F30/F14","v":1.935483870967742},36,{"$f":"H30/F14","v":0.58064516129032262},18,{"$f":"J30/F14","v":0.29032258064516131},5.3999999999999995,{"$f":"L30/F14","v":8.7096774193548374E-2},0.27777777777777779,0.1111111111111111]
[null,null,{"$f":"Т0!C32","v":"Проект за водовод и канализација"},{"$f":"F31/F43","v":5.648148148148148E-2},null,61,{"$f":"F31/F14","v":0.9838709677419355},18.3,{"$f":"H31/F14","v":0.29516129032258065},9.15,{"$f":"J31/F14","v":0.14758064516129032},2.7450000000000001,{"$f":"L31/F14","v":4.4274193548387096E-2},0.14120370370370369,5.648148148148148E-2]
[null,null,{"$f":"Т0!C33","v":"Термотехнички проект"},{"$f":"F32/F43","v":9.2592592592592587E-2},null,100,{"$f":"F32/F14","v":1.6129032258064515},30,{"$f":"H32/F14","v":0.4838709677419355},15,{"$f":"J32/F14","v":0.24193548387096775},4.5,{"$f":"L32/F14","v":7.2580645161290328E-2},0.23148148148148151,9.2592592592592601E-2]
[null,null,{"$f":"Т0!C36","v":"Технолошки проект"},{"$f":"F33/F43","v":7.407407407407407E-2},null,80,{"$f":"F33/F14","v":1.2903225806451613},24,{"$f":"H33/F14","v":0.38709677419354838},12,{"$f":"J33/F14","v":0.19354838709677419},3.5999999999999996,{"$f":"L33/F14","v":5.8064516129032254E-2},0.18518518518518517,7.407407407407407E-2]
[null,null,{"$f":"Т0!C44","v":"Проект за  партерно уредување и сообраќај"},{"$f":"F34/F43","v":2.7777777777777776E-2},null,30,{"$f":"F34/F14","v":0.4838709677419355},9,{"$f":"H34/F14","v":0.14516129032258066},4.5,{"$f":"J34/F14","v":7.2580645161290328E-2},1.3499999999999999,{"$f":"L34/F14","v":2.1774193548387093E-2},6.9444444444444448E-2,2.7777777777777776E-2]
[null,null,{"$f":"Т0!C38","v":"Елаборат за заштита од пожари"},{"$f":"F35/F43","v":3.7037037037037035E-2},null,40,{"$f":"F35/F14","v":0.64516129032258063},12,{"$f":"H35/F14","v":0.19354838709677419},6,{"$f":"J35/F14","v":9.6774193548387094E-2},1.7999999999999998,{"$f":"L35/F14","v":2.9032258064516127E-2},9.2592592592592587E-2,3.7037037037037035E-2]
[null,null,{"$f":"Т0!C39","v":"Елаборат за заштита при работа"},{"$f":"F36/F43","v":1.8518518518518517E-2},null,20,{"$f":"F36/F14","v":0.32258064516129031},6,{"$f":"H36/F14","v":9.6774193548387094E-2},3,{"$f":"J36/F14","v":4.8387096774193547E-2},0.89999999999999991,{"$f":"L36/F14","v":1.4516129032258063E-2},4.6296296296296294E-2,1.8518518518518517E-2]
[null,null,{"$f":"Т0!C42","v":"Елаборат за енергетска ефикасност"},{"$f":"F37/F43","v":1.8518518518518517E-2},null,20,{"$f":"F37/F14","v":0.32258064516129031},6,{"$f":"H37/F14","v":9.6774193548387094E-2},{"$f":"F37*0.15","v":3},{"$f":"J37/F14","v":4.8387096774193547E-2},{"$f":"J37*0.3","v":0.89999999999999991},{"$f":"L37/F14","v":1.4516129032258063E-2},{"$f":"N$43*(F37/$F$43*100)","v":4.6296296296296294E-2},{"$f":"O$43*(F37/$F$43*100)","v":1.8518518518518517E-2}]
[null,null,{"$f":"Т0!C43","v":"Елаборат за заштита на животната средина"},{"$f":"F38/F43","v":1.8518518518518517E-2},null,20,{"$f":"F38/F14","v":0.32258064516129031},{"$f":"F38*0.3","v":6},{"$f":"H38/F14","v":9.6774193548387094E-2},3,{"$f":"J38/F14","v":4.8387096774193547E-2},0.89999999999999991,{"$f":"L38/F14","v":1.4516129032258063E-2},4.6296296296296294E-2,1.8518518518518517E-2]
[null,null,{"$f":"Т0!C37","v":"Сообраќаен проект"},{"$f":"F39/F43","v":1.8518518518518517E-2},null,20,{"$f":"F39/F14","v":0.32258064516129031},{"$f":"F39*0.3","v":6},{"$f":"H39/F14","v":9.6774193548387094E-2},{"$f":"F39*0.15","v":3},{"$f":"J39/F14","v":4.8387096774193547E-2},{"$f":"J39*0.3","v":0.89999999999999991},{"$f":"L39/F14","v":1.4516129032258063E-2},4.7027840481565081E-2,1.8811136192626032E-2]
[]
[null,null,{"$f":"Т0!C47","v":"Координација на проект"},{"$f":"F41/F43","v":0.05},null,{"$f":"SUM(F28:F39)/0.95-SUM(F28:F39)","v":54},{"$f":"F41/F14","v":0.87096774193548387},{"$f":"SUM(H28:H37)/0.95-SUM(H28:H37)","v":15.568421052631606},{"$f":"H41/F14","v":0.25110356536502593},{"$f":"F41*0.15","v":8.1},{"$f":"J41/F14","v":0.13064516129032258},{"$f":"SUM(L28:L37)/0.95-SUM(L28:L37)","v":2.3352631578947367},{"$f":"L41/F14","v":3.766553480475382E-2},{"$f":"N$43*(F41/$F$43*100)","v":0.125},{"$f":"O$43*(F41/$F$43*100)","v":0.05}]
[]
[null,null,{"$f":"Т0!C49","v":"Вкупно:"},{"$f":"SUM(D28:D41)","v":1},null,{"$f":"SUM(F27:F42)","v":1080},{"$f":"F43/F14","v":17.419354838709676},{"$f":"SUM(H28:H41)","v":323.36842105263162},{"$f":"H43/F14","v":5.2156196943972839},{"$f":"SUM(J28:J41)","v":162},{"$f":"J43/F14","v":2.6129032258064515},{"$f":"SUM(L28:L41)","v":48.505263157894724},{"$f":"L43/F14","v":0.78234295415959232},2.5000000000000001E-2,0.01]

{"sheet":"Г2-I","index":39,"n_rows":43,"n_cols":15,"rows_kept":43,"cut":false,"hidden":true,"merged":[[24,5,24,6],[24,7,24,8],[24,9,24,10],[24,11,24,12],[22,5,23,6],[22,7,22,8],[22,9,23,10],[22,11,22,12],[22,13,23,13],[22,14,23,14],[23,7,23,8],[23,11,23,12],[18,3,18,5],[18,6,18,7],[18,9,18,12],[20,5,21,8],[20,9,20,12],[20,13,21,14],[21,9,21,12],[16,3,16,5],[16,6,16,7],[16,9,16,12],[17,3,17,5],[17,6,17,7],[17,9,17,12],[13,6,13,7],[13,9,13,12],[14,9,14,12],[15,3,15,5],[15,6,15,7],[15,9,15,12],[11,3,11,5],[11,6,11,7],[11,9,11,12],[12,3,12,5],[12,6,12,7],[12,9,12,12],[9,3,9,5],[9,6,9,7],[9,9,9,12],[10,3,10,5],[10,6,10,7],[10,9,10,12],[2,3,2,14],[4,2,4,14],[7,9,7,12],[7,13,7,14],[8,6,8,7],[8,9,8,12],[5,2,5,14]]}
[]
[]
[null,null,{"$f":"' Помош - Каталог на намени'!D43","v":"Г2-I"},{"$f":"' Помош - Каталог на намени'!E43","v":"ЛЕСНА ПРЕРАБОТУВАЧКА И ПОМАЛКУ ЗАГАДУВАЧКА ИНДУСТРИЈА\n(I ГРУПА)"}]
[]
[null,null,{"$f":"' Помош - Каталог на намени'!F43","v":"Г2.1. - Лесна градежна индустрија со производство на градежни елементи и производи, погони и бази за производство на асфалт и бетон\nГ2.2. - Лесна фармацевтска индустрија и производство на храна, кондиторски производи, безалкохолни пијалоци, вода, преработка на градинарски производи и овошје, тутун и други\nГ2.4. - Текстилна индустрија за ткаење на волна, памук и синтетички ткаења, индустрија за конфекционирање на кожна облека и обувки\nГ2.5. - Индустрија за автомобили, автомобилски делови и монтажа\nГ2.6. - Индустија за бела техника, електрични апарати, фотоволтаични панели, системи за климатизација\nГ2.7. - Производство на мебел од дрво, метал, пластика\nГ2.8. - Топлани за комунално греење\nГ2.9. - Индустија за вино, пиво, пекарска индустрија, фурни"}]
[null,null,{"$f":"Т0!C6","v":"*Напомена: Одредувањето на цената за проектирање на секој од објектите се одредува според неговата основна намена. Доколку некој објект нема специфична јасно одредена класа на намена, цената за проектирање се одредува според групата на објекти во кои е класифициран"}]
[]
[null,null,{"$f":"Т0!C8","v":"Површина на градба"},null,null,{"$f":"Калкулатор!D9","v":0},{"$f":"Т0!G8","v":"m²"},{"$f":"Т0!H8","v":"(варијабла)"},null,{"$f":"Т0!J8","v":"Вид на инженерска услуга"},null,null,null,{"$f":"Т0!N8","v":"Минимална вкупна цена"}]
[null,null,null,null,null,null,null,null,null,{"$f":"Т0!J9","v":"1. Изработка на проектна документација (1.1.+1.2)"},null,null,null,{"$f":"SUM(N10:N11)","v":0},{"$f":"SUM(O10:O11)","v":0}]
[null,null,{"$f":"Т0!C10","v":"Просечна цена на изведба за 1 m²"},{"$f":"G10*F14","v":41850},null,null,{"$f":"' Помош - Каталог на намени'!G43","v":675},null,null,{"$f":"Т0!J10","v":"1.1. Изработка на основен проект"},null,null,null,{"$f":"F8*F43","v":0},{"$f":"N10/F14","v":0}]
[null,null,null,null,null,null,null,null,null,{"$f":"Т0!J11","v":"1.2. Изработка на идеен проект"},null,null,null,{"$f":"F8*H43","v":0},{"$f":"N11/F14","v":0}]
[null,null,{"$f":"Т0!C12","v":"Вкупна инвестициона градежна  вредност"},{"$f":"F8*D10","v":0},null,null,{"$f":"D12/F14","v":0}]
[null,null,null,null,null,null,null,null,null,{"$f":"Т0!J13","v":"2. Ревизија на проектна документација (2.1.+2.2.)"},null,null,null,{"$f":"SUM(N14:N15)","v":0},{"$f":"SUM(O14:O15)","v":0}]
[null,null,{"$f":"Т0!C14","v":"Вредност на евро валута"},{"$f":"Т0!D14","v":1},{"$f":"Т0!E14","v":"="},{"$f":"Т0!F14","v":62},null,null,null,{"$f":"Т0!J14","v":"2.1. Ревизија на основен проект"},null,null,null,{"$f":"F8*J43","v":0},{"$f":"N14/F14","v":0}]
[null,null,null,null,null,null,null,null,null,{"$f":"Т0!J15","v":"2.2. Ревизија на идеен проект"},null,null,null,{"$f":"F8*L43","v":0},{"$f":"N15/F14","v":0}]
[null,null,{"$f":"Т0!C16","v":"Изработка на Основен проект"},{"$f":"Т0!D16:F16","v":"Ревизија на Основен проект"},null,null,{"$f":"Т0!G16:H16","v":"Надзор на изградба"}]
[null,null,{"$f":"G43/G10","v":2.5806451612903222E-2},{"$f":"K43/G10","v":3.8709677419354839E-3},null,null,{"$f":"N43","v":2.5000000000000001E-2},null,null,{"$f":"Т0!J17","v":"3. Надзор на градба (3.1.+3.2.)"},null,null,null,{"$f":"SUM(N18:N19)","v":0},{"$f":"SUM(O18:O19)","v":0}]
[null,null,{"$f":"Т0!C18","v":"Изработка на Идеен проект"},{"$f":"Т0!D18:F18","v":"Ревизија на Идеен проект"},null,null,{"$f":"Т0!G18:H18","v":"Проектантски надзор"},null,null,{"$f":"Т0!J18","v":"3.1. Надзор на градба"},null,null,null,{"$f":"F8*D10*N43","v":0},{"$f":"N18/F14","v":0}]
[null,null,{"$f":"I43/G10","v":7.7306168647425025E-3},{"$f":"M43/G10","v":1.1595925297113751E-3},null,null,{"$f":"O43","v":0.01},null,null,{"$f":"Т0!J19","v":"3.2. Проектантски надзор"},null,null,null,{"$f":"F8*D10*O43","v":0},{"$f":"N19/F14","v":0}]
[]
[null,null,null,null,null,{"$f":"Т0!F21","v":"Изработка на проектна документација"},null,null,null,{"$f":"Т0!J21","v":"Ревизија на проектна документација"},null,null,null,{"$f":"Т0!N21","v":"Надзор на изградба"}]
[null,null,null,null,null,null,null,null,null,{"$f":"Т0!J22","v":"(15% од вредноста на Изработка на проектна документација)"}]
[null,null,null,null,null,{"$f":"Т0!F23","v":"Основен проект"},null,{"$f":"Т0!H23","v":"Идеен проект"},null,{"$f":"Т0!J23","v":"Основен проект"},null,{"$f":"Т0!L23","v":"Идеен проект"},null,{"$f":"Т0!N23","v":"Надзор на изградба"},{"$f":"Т0!O23","v":"Проектантски надзор"}]
[null,null,null,null,null,null,null,{"$f":"Т0!H24","v":"(30% од вредноста на основниот проект)"},null,null,null,{"$f":"Т0!L24","v":"(30% од вредноста на ревизија на основниот проект)"}]
[null,null,{"$f":"Т0!C25","v":"Вид на проект"},{"$f":"Т0!D25","v":"Удел"},null,{"$f":"Т0!F25","v":"Минимална цена"},null,{"$f":"Т0!H25","v":"Минимална цена"},null,{"$f":"Т0!J25","v":"Минимална цена"},null,{"$f":"Т0!L25","v":"Минимална цена"},null,{"$f":"Т0!N25","v":"Минимален процент од инвестиција"},{"$f":"Т0!O25","v":"Минимален процент од инвестиција"}]
[null,null,{"$f":"Т0!C26","v":"(според намената)"},{"$f":"Т0!D26","v":"[%]"},null,{"$f":"Т0!F26","v":"[денари/m²]"},{"$f":"Т0!G26","v":"[€/m²]"},{"$f":"Т0!H26","v":"[денари/m²]"},{"$f":"Т0!I26","v":"[€/m²]"},{"$f":"Т0!J26","v":"[денари/m²]"},{"$f":"Т0!K26","v":"[€/m²]"},{"$f":"Т0!L26","v":"[денари/m²]"},{"$f":"Т0!M26","v":"[€/m²]"},{"$f":"Т0!N26","v":"[%]"},"[%]"]
[]
[null,null,{"$f":"Т0!C28","v":"Архитектонски проект"},{"$f":"F28/F43","v":0.35648148148148145},null,385,{"$f":"F28/F14","v":6.209677419354839},{"$f":"F28*0.3","v":115.5},{"$f":"H28/F14","v":1.8629032258064515},{"$f":"F28*0.15","v":57.75},{"$f":"J28/F14","v":0.93145161290322576},{"$f":"J28*0.3","v":17.324999999999999},{"$f":"L28/F14","v":0.27943548387096773},{"$f":"N$43*(F28/$F$43*100)","v":0.89120370370370372},{"$f":"O$43*(F28/$F$43*100)","v":0.35648148148148145}]
[null,null,{"$f":"Т0!C29","v":"Градежно-конструктивен проект"},{"$f":"F29/F43","v":0.22685185185185186},null,245,{"$f":"F29/F14","v":3.9516129032258065},73.5,{"$f":"H29/F14","v":1.185483870967742},36.75,{"$f":"J29/F14","v":0.592741935483871},11.025,{"$f":"L29/F14","v":0.17782258064516129},0.56712962962962965,0.22685185185185186]
[null,null,{"$f":"Т0!C30","v":"Електротехнички проект"},{"$f":"F30/F43","v":0.1111111111111111},null,120,{"$f":"F30/F14","v":1.935483870967742},36,{"$f":"H30/F14","v":0.58064516129032262},18,{"$f":"J30/F14","v":0.29032258064516131},5.3999999999999995,{"$f":"L30/F14","v":8.7096774193548374E-2},0.27777777777777779,0.1111111111111111]
[null,null,{"$f":"Т0!C32","v":"Проект за водовод и канализација"},{"$f":"F31/F43","v":4.7222222222222221E-2},null,51,{"$f":"F31/F14","v":0.82258064516129037},15.299999999999999,{"$f":"H31/F14","v":0.24677419354838709},7.6499999999999995,{"$f":"J31/F14","v":0.12338709677419354},2.2949999999999999,{"$f":"L31/F14","v":3.7016129032258066E-2},0.11805555555555557,4.7222222222222221E-2]
[null,null,{"$f":"Т0!C33","v":"Термотехнички проект"},{"$f":"F32/F43","v":7.407407407407407E-2},null,80,{"$f":"F32/F14","v":1.2903225806451613},24,{"$f":"H32/F14","v":0.38709677419354838},12,{"$f":"J32/F14","v":0.19354838709677419},3.5999999999999996,{"$f":"L32/F14","v":5.8064516129032254E-2},0.18518518518518517,7.407407407407407E-2]
[null,null,{"$f":"Т0!C36","v":"Технолошки проект"},{"$f":"F33/F43","v":2.7777777777777776E-2},null,30,{"$f":"F33/F14","v":0.4838709677419355},9,{"$f":"H33/F14","v":0.14516129032258066},4.5,{"$f":"J33/F14","v":7.2580645161290328E-2},1.3499999999999999,{"$f":"L33/F14","v":2.1774193548387093E-2},6.9444444444444448E-2,2.7777777777777776E-2]
[null,null,{"$f":"Т0!C44","v":"Проект за  партерно уредување и сообраќај"},{"$f":"F34/F43","v":2.7777777777777776E-2},null,30,{"$f":"F34/F14","v":0.4838709677419355},9,{"$f":"H34/F14","v":0.14516129032258066},4.5,{"$f":"J34/F14","v":7.2580645161290328E-2},1.3499999999999999,{"$f":"L34/F14","v":2.1774193548387093E-2},6.9444444444444448E-2,2.7777777777777776E-2]
[null,null,{"$f":"Т0!C38","v":"Елаборат за заштита од пожари"},{"$f":"F35/F43","v":2.3148148148148147E-2},null,25,{"$f":"F35/F14","v":0.40322580645161288},7.5,{"$f":"H35/F14","v":0.12096774193548387},3.75,{"$f":"J35/F14","v":6.0483870967741937E-2},1.125,{"$f":"L35/F14","v":1.8145161290322582E-2},5.7870370370370378E-2,2.314814814814815E-2]
[null,null,{"$f":"Т0!C39","v":"Елаборат за заштита при работа"},{"$f":"F36/F43","v":1.3888888888888888E-2},null,15,{"$f":"F36/F14","v":0.24193548387096775},4.5,{"$f":"H36/F14","v":7.2580645161290328E-2},2.25,{"$f":"J36/F14","v":3.6290322580645164E-2},0.67499999999999993,{"$f":"L36/F14","v":1.0887096774193547E-2},3.4722222222222224E-2,1.3888888888888888E-2]
[null,null,{"$f":"Т0!C42","v":"Елаборат за енергетска ефикасност"},{"$f":"F37/F43","v":1.3888888888888888E-2},null,15,{"$f":"F37/F14","v":0.24193548387096775},4.5,{"$f":"H37/F14","v":7.2580645161290328E-2},2.25,{"$f":"J37/F14","v":3.6290322580645164E-2},0.67499999999999993,{"$f":"L37/F14","v":1.0887096774193547E-2},{"$f":"N$43*(F37/$F$43*100)","v":3.4722222222222224E-2},{"$f":"O$43*(F37/$F$43*100)","v":1.3888888888888888E-2}]
[null,null,{"$f":"Т0!C43","v":"Елаборат за заштита на животната средина"},{"$f":"F38/F43","v":1.3888888888888888E-2},null,15,{"$f":"F38/F14","v":0.24193548387096775},{"$f":"F38*0.3","v":4.5},{"$f":"H38/F14","v":7.2580645161290328E-2},{"$f":"F38*0.15","v":2.25},{"$f":"J38/F14","v":3.6290322580645164E-2},{"$f":"J38*0.3","v":0.67499999999999993},{"$f":"L38/F14","v":1.0887096774193547E-2},{"$f":"N$43*(F38/$F$43*100)","v":3.4722222222222224E-2},{"$f":"O$43*(F38/$F$43*100)","v":1.3888888888888888E-2}]
[null,null,{"$f":"Т0!C37","v":"Сообраќаен проект"},{"$f":"F39/F43","v":1.3888888888888888E-2},null,15,{"$f":"F39/F14","v":0.24193548387096775},{"$f":"F39*0.3","v":4.5},{"$f":"H39/F14","v":7.2580645161290328E-2},{"$f":"F39*0.15","v":2.25},{"$f":"J39/F14","v":3.6290322580645164E-2},{"$f":"J39*0.3","v":0.67499999999999993},{"$f":"L39/F14","v":1.0887096774193547E-2},3.4722222222222224E-2,1.3888888888888888E-2]
[]
[null,null,{"$f":"Т0!C47","v":"Координација на проект"},{"$f":"F41/F43","v":0.05},null,{"$f":"SUM(F28:F39)/0.95-SUM(F28:F39)","v":54},{"$f":"F41/F14","v":0.87096774193548387},{"$f":"SUM(H28:H37)/0.95-SUM(H28:H37)","v":15.726315789473688},{"$f":"H41/F14","v":0.25365025466893043},{"$f":"F41*0.15","v":8.1},{"$f":"J41/F14","v":0.13064516129032258},{"$f":"SUM(L28:L37)/0.95-SUM(L28:L37)","v":2.358947368421056},{"$f":"L41/F14","v":3.8047538200339612E-2},{"$f":"N$43*(F41/$F$43*100)","v":0.125},{"$f":"O$43*(F41/$F$43*100)","v":0.05}]
[]
[null,null,{"$f":"Т0!C49","v":"Вкупно:"},{"$f":"SUM(D28:D41)","v":0.99999999999999989},null,{"$f":"SUM(F27:F42)","v":1080},{"$f":"F43/F14","v":17.419354838709676},{"$f":"SUM(H28:H41)","v":323.5263157894737},{"$f":"H43/F14","v":5.2181663837011891},{"$f":"SUM(J28:J41)","v":162},{"$f":"J43/F14","v":2.6129032258064515},{"$f":"SUM(L28:L41)","v":48.528947368421051},{"$f":"L43/F14","v":0.78272495755517824},2.5000000000000001E-2,0.01]

{"sheet":"Г2-II","index":40,"n_rows":43,"n_cols":15,"rows_kept":43,"cut":false,"hidden":true,"merged":[[24,5,24,6],[24,7,24,8],[24,9,24,10],[24,11,24,12],[22,5,23,6],[22,7,22,8],[22,9,23,10],[22,11,22,12],[22,13,23,13],[22,14,23,14],[23,7,23,8],[23,11,23,12],[18,3,18,5],[18,6,18,7],[18,9,18,12],[20,5,21,8],[20,9,20,12],[20,13,21,14],[21,9,21,12],[16,3,16,5],[16,6,16,7],[16,9,16,12],[17,3,17,5],[17,6,17,7],[17,9,17,12],[13,6,13,7],[13,9,13,12],[14,9,14,12],[15,3,15,5],[15,6,15,7],[15,9,15,12],[11,3,11,5],[11,6,11,7],[11,9,11,12],[12,3,12,5],[12,6,12,7],[12,9,12,12],[9,3,9,5],[9,6,9,7],[9,9,9,12],[10,3,10,5],[10,6,10,7],[10,9,10,12],[2,3,2,14],[4,2,4,14],[7,9,7,12],[7,13,7,14],[8,6,8,7],[8,9,8,12],[5,2,5,14]]}
[]
[]
[null,null,{"$f":"' Помош - Каталог на намени'!D44","v":"Г2-II"},{"$f":"' Помош - Каталог на намени'!E44","v":"ЛЕСНА ПРЕРАБОТУВАЧКА И ПОМАЛКУ ЗАГАДУВАЧКА ИНДУСТРИЈА\n(II ГРУПА)"}]
[]
[null,null,{"$f":"' Помош - Каталог на намени'!F44","v":"Г2.3. - Млинови, дробилици, отпади за метал со преси"}]
[null,null,{"$f":"Т0!C6","v":"*Напомена: Одредувањето на цената за проектирање на секој од објектите се одредува според неговата основна намена. Доколку некој објект нема специфична јасно одредена класа на намена, цената за проектирање се одредува според групата на објекти во кои е класифициран"}]
[]
[null,null,{"$f":"Т0!C8","v":"Површина на градба"},null,null,{"$f":"Калкулатор!D9","v":0},{"$f":"Т0!G8","v":"m²"},{"$f":"Т0!H8","v":"(варијабла)"},null,{"$f":"Т0!J8","v":"Вид на инженерска услуга"},null,null,null,{"$f":"Т0!N8","v":"Минимална вкупна цена"}]
[null,null,null,null,null,null,null,null,null,{"$f":"Т0!J9","v":"1. Изработка на проектна документација (1.1.+1.2)"},null,null,null,{"$f":"SUM(N10:N11)","v":0},{"$f":"SUM(O10:O11)","v":0}]
[null,null,{"$f":"Т0!C10","v":"Просечна цена на изведба за 1 m²"},{"$f":"G10*F14","v":41850},null,null,{"$f":"' Помош - Каталог на намени'!G44","v":675},null,null,{"$f":"Т0!J10","v":"1.1. Изработка на основен проект"},null,null,null,{"$f":"F8*F43","v":0},{"$f":"N10/F14","v":0}]
[null,null,null,null,null,null,null,null,null,{"$f":"Т0!J11","v":"1.2. Изработка на идеен проект"},null,null,null,{"$f":"F8*H43","v":0},{"$f":"N11/F14","v":0}]
[null,null,{"$f":"Т0!C12","v":"Вкупна инвестициона градежна  вредност"},{"$f":"F8*D10","v":0},null,null,{"$f":"D12/F14","v":0}]
[null,null,null,null,null,null,null,null,null,{"$f":"Т0!J13","v":"2. Ревизија на проектна документација (2.1.+2.2.)"},null,null,null,{"$f":"SUM(N14:N15)","v":0},{"$f":"SUM(O14:O15)","v":0}]
[null,null,{"$f":"Т0!C14","v":"Вредност на евро валута"},{"$f":"Т0!D14","v":1},{"$f":"Т0!E14","v":"="},{"$f":"Т0!F14","v":62},null,null,null,{"$f":"Т0!J14","v":"2.1. Ревизија на основен проект"},null,null,null,{"$f":"F8*J43","v":0},{"$f":"N14/F14","v":0}]
[null,null,null,null,null,null,null,null,null,{"$f":"Т0!J15","v":"2.2. Ревизија на идеен проект"},null,null,null,{"$f":"F8*L43","v":0},{"$f":"N15/F14","v":0}]
[null,null,{"$f":"Т0!C16","v":"Изработка на Основен проект"},{"$f":"Т0!D16:F16","v":"Ревизија на Основен проект"},null,null,{"$f":"Т0!G16:H16","v":"Надзор на изградба"}]
[null,null,{"$f":"G43/G10","v":2.5806451612903222E-2},{"$f":"K43/G10","v":3.8709677419354839E-3},null,null,{"$f":"N43","v":2.5000000000000001E-2},null,null,{"$f":"Т0!J17","v":"3. Надзор на градба (3.1.+3.2.)"},null,null,null,{"$f":"SUM(N18:N19)","v":0},{"$f":"SUM(O18:O19)","v":0}]
[null,null,{"$f":"Т0!C18","v":"Изработка на Идеен проект"},{"$f":"Т0!D18:F18","v":"Ревизија на Идеен проект"},null,null,{"$f":"Т0!G18:H18","v":"Проектантски надзор"},null,null,{"$f":"Т0!J18","v":"3.1. Надзор на градба"},null,null,null,{"$f":"F8*D10*N43","v":0},{"$f":"N18/F14","v":0}]
[null,null,{"$f":"I43/G10","v":7.7268439916996796E-3},{"$f":"M43/G10","v":1.1590265987549517E-3},null,null,{"$f":"O43","v":0.01},null,null,{"$f":"Т0!J19","v":"3.2. Проектантски надзор"},null,null,null,{"$f":"F8*D10*O43","v":0},{"$f":"N19/F14","v":0}]
[]
[null,null,null,null,null,{"$f":"Т0!F21","v":"Изработка на проектна документација"},null,null,null,{"$f":"Т0!J21","v":"Ревизија на проектна документација"},null,null,null,{"$f":"Т0!N21","v":"Надзор на изградба"}]
[null,null,null,null,null,null,null,null,null,{"$f":"Т0!J22","v":"(15% од вредноста на Изработка на проектна документација)"}]
[null,null,null,null,null,{"$f":"Т0!F23","v":"Основен проект"},null,{"$f":"Т0!H23","v":"Идеен проект"},null,{"$f":"Т0!J23","v":"Основен проект"},null,{"$f":"Т0!L23","v":"Идеен проект"},null,{"$f":"Т0!N23","v":"Надзор на изградба"},{"$f":"Т0!O23","v":"Проектантски надзор"}]
[null,null,null,null,null,null,null,{"$f":"Т0!H24","v":"(30% од вредноста на основниот проект)"},null,null,null,{"$f":"Т0!L24","v":"(30% од вредноста на ревизија на основниот проект)"}]
[null,null,{"$f":"Т0!C25","v":"Вид на проект"},{"$f":"Т0!D25","v":"Удел"},null,{"$f":"Т0!F25","v":"Минимална цена"},null,{"$f":"Т0!H25","v":"Минимална цена"},null,{"$f":"Т0!J25","v":"Минимална цена"},null,{"$f":"Т0!L25","v":"Минимална цена"},null,{"$f":"Т0!N25","v":"Минимален процент од инвестиција"},{"$f":"Т0!O25","v":"Минимален процент од инвестиција"}]
[null,null,{"$f":"Т0!C26","v":"(според намената)"},{"$f":"Т0!D26","v":"[%]"},null,{"$f":"Т0!F26","v":"[денари/m²]"},{"$f":"Т0!G26","v":"[€/m²]"},{"$f":"Т0!H26","v":"[денари/m²]"},{"$f":"Т0!I26","v":"[€/m²]"},{"$f":"Т0!J26","v":"[денари/m²]"},{"$f":"Т0!K26","v":"[€/m²]"},{"$f":"Т0!L26","v":"[денари/m²]"},{"$f":"Т0!M26","v":"[€/m²]"},{"$f":"Т0!N26","v":"[%]"},"[%]"]
[]
[null,null,{"$f":"Т0!C28","v":"Архитектонски проект"},{"$f":"F28/F43","v":0.18055555555555555},null,195,{"$f":"F28/F14","v":3.1451612903225805},{"$f":"F28*0.3","v":58.5},{"$f":"H28/F14","v":0.94354838709677424},{"$f":"F28*0.15","v":29.25},{"$f":"J28/F14","v":0.47177419354838712},{"$f":"J28*0.3","v":8.7750000000000004},{"$f":"L28/F14","v":0.14153225806451614},{"$f":"N$43*(F28/$F$43*100)","v":0.45138888888888884},{"$f":"O$43*(F28/$F$43*100)","v":0.18055555555555555}]
[null,null,{"$f":"Т0!C29","v":"Градежно-конструктивен проект"},{"$f":"F29/F43","v":0.20370370370370369},null,220,{"$f":"F29/F14","v":3.5483870967741935},66,{"$f":"H29/F14","v":1.064516129032258},33,{"$f":"J29/F14","v":0.532258064516129},9.9,{"$f":"L29/F14","v":0.15967741935483873},0.5092592592592593,0.20370370370370372]
[null,null,{"$f":"Т0!C30","v":"Електротехнички проект"},{"$f":"F30/F43","v":0.12037037037037036},null,130,{"$f":"F30/F14","v":2.096774193548387},39,{"$f":"H30/F14","v":0.62903225806451613},19.5,{"$f":"J30/F14","v":0.31451612903225806},5.85,{"$f":"L30/F14","v":9.435483870967741E-2},0.30092592592592593,0.12037037037037036]
[null,null,{"$f":"Т0!C32","v":"Проект за водовод и канализација"},{"$f":"F31/F43","v":5.648148148148148E-2},null,61,{"$f":"F31/F14","v":0.9838709677419355},18.3,{"$f":"H31/F14","v":0.29516129032258065},9.15,{"$f":"J31/F14","v":0.14758064516129032},2.7450000000000001,{"$f":"L31/F14","v":4.4274193548387096E-2},0.14120370370370369,5.648148148148148E-2]
[null,null,{"$f":"Т0!C33","v":"Термотехнички проект"},{"$f":"F32/F43","v":0.12037037037037036},null,130,{"$f":"F32/F14","v":2.096774193548387},39,{"$f":"H32/F14","v":0.62903225806451613},19.5,{"$f":"J32/F14","v":0.31451612903225806},5.85,{"$f":"L32/F14","v":9.435483870967741E-2},0.30092592592592593,0.12037037037037036]
[null,null,{"$f":"Т0!C36","v":"Технолошки проект"},{"$f":"F33/F43","v":0.1388888888888889},null,150,{"$f":"F33/F14","v":2.4193548387096775},45,{"$f":"H33/F14","v":0.72580645161290325},22.5,{"$f":"J33/F14","v":0.36290322580645162},6.75,{"$f":"L33/F14","v":0.10887096774193548},0.34722222222222227,0.1388888888888889]
[null,null,{"$f":"Т0!C44","v":"Проект за  партерно уредување и сообраќај"},{"$f":"F34/F43","v":2.7777777777777776E-2},null,30,{"$f":"F34/F14","v":0.4838709677419355},9,{"$f":"H34/F14","v":0.14516129032258066},4.5,{"$f":"J34/F14","v":7.2580645161290328E-2},1.3499999999999999,{"$f":"L34/F14","v":2.1774193548387093E-2},6.9444444444444448E-2,2.7777777777777776E-2]
[null,null,{"$f":"Т0!C38","v":"Елаборат за заштита од пожари"},{"$f":"F35/F43","v":2.7777777777777776E-2},null,30,{"$f":"F35/F14","v":0.4838709677419355},9,{"$f":"H35/F14","v":0.14516129032258066},4.5,{"$f":"J35/F14","v":7.2580645161290328E-2},1.3499999999999999,{"$f":"L35/F14","v":2.1774193548387093E-2},6.9444444444444448E-2,2.7777777777777776E-2]
[null,null,{"$f":"Т0!C39","v":"Елаборат за заштита при работа"},{"$f":"F36/F43","v":1.8518518518518517E-2},null,20,{"$f":"F36/F14","v":0.32258064516129031},6,{"$f":"H36/F14","v":9.6774193548387094E-2},3,{"$f":"J36/F14","v":4.8387096774193547E-2},0.89999999999999991,{"$f":"L36/F14","v":1.4516129032258063E-2},4.6296296296296294E-2,1.8518518518518517E-2]
[null,null,{"$f":"Т0!C42","v":"Елаборат за енергетска ефикасност"},{"$f":"F37/F43","v":1.8518518518518517E-2},null,20,{"$f":"F37/F14","v":0.32258064516129031},6,{"$f":"H37/F14","v":9.6774193548387094E-2},3,{"$f":"J37/F14","v":4.8387096774193547E-2},0.89999999999999991,{"$f":"L37/F14","v":1.4516129032258063E-2},{"$f":"N$43*(F37/$F$43*100)","v":4.6296296296296294E-2},{"$f":"O$43*(F37/$F$43*100)","v":1.8518518518518517E-2}]
[null,null,{"$f":"Т0!C43","v":"Елаборат за заштита на животната средина"},{"$f":"F38/F43","v":1.8518518518518517E-2},null,20,{"$f":"F38/F14","v":0.32258064516129031},{"$f":"F38*0.3","v":6},{"$f":"H38/F14","v":9.6774193548387094E-2},{"$f":"F38*0.15","v":3},{"$f":"J38/F14","v":4.8387096774193547E-2},{"$f":"J38*0.3","v":0.89999999999999991},{"$f":"L38/F14","v":1.4516129032258063E-2},4.7027840481565081E-2,1.8811136192626032E-2]
[null,null,{"$f":"Т0!C37","v":"Сообраќаен проект"},{"$f":"F39/F43","v":1.8518518518518517E-2},null,20,{"$f":"F39/F14","v":0.32258064516129031},{"$f":"F39*0.3","v":6},{"$f":"H39/F14","v":9.6774193548387094E-2},{"$f":"F39*0.15","v":3},{"$f":"J39/F14","v":4.8387096774193547E-2},{"$f":"J39*0.3","v":0.89999999999999991},{"$f":"L39/F14","v":1.4516129032258063E-2},4.7027840481565081E-2,1.8811136192626032E-2]
[]
[null,null,{"$f":"Т0!C47","v":"Координација на проект"},{"$f":"F41/F43","v":0.05},null,{"$f":"SUM(F28:F39)/0.95-SUM(F28:F39)","v":54},{"$f":"F41/F14","v":0.87096774193548387},{"$f":"SUM(H28:H37)/0.95-SUM(H28:H37)","v":15.568421052631606},{"$f":"H41/F14","v":0.25110356536502593},{"$f":"F41*0.15","v":8.1},{"$f":"J41/F14","v":0.13064516129032258},{"$f":"SUM(L28:L37)/0.95-SUM(L28:L37)","v":2.3352631578947367},{"$f":"L41/F14","v":3.766553480475382E-2},{"$f":"N$43*(F41/$F$43*100)","v":0.125},{"$f":"O$43*(F41/$F$43*100)","v":0.05}]
[]
[null,null,{"$f":"Т0!C49","v":"Вкупно:"},{"$f":"SUM(D28:D41)","v":1},null,{"$f":"SUM(F27:F42)","v":1080},{"$f":"F43/F14","v":17.419354838709676},{"$f":"SUM(H28:H41)","v":323.36842105263162},{"$f":"H43/F14","v":5.2156196943972839},{"$f":"SUM(J28:J41)","v":162},{"$f":"J43/F14","v":2.6129032258064515},{"$f":"SUM(L28:L41)","v":48.505263157894731},{"$f":"L43/F14","v":0.78234295415959243},2.5000000000000001E-2,0.01]

{"sheet":"Г3-I","index":41,"n_rows":43,"n_cols":15,"rows_kept":43,"cut":false,"hidden":true,"merged":[[24,5,24,6],[24,7,24,8],[24,9,24,10],[24,11,24,12],[22,5,23,6],[22,7,22,8],[22,9,23,10],[22,11,22,12],[22,13,23,13],[22,14,23,14],[23,7,23,8],[23,11,23,12],[18,3,18,5],[18,6,18,7],[18,9,18,12],[20,5,21,8],[20,9,20,12],[20,13,21,14],[21,9,21,12],[16,3,16,5],[16,6,16,7],[16,9,16,12],[17,3,17,5],[17,6,17,7],[17,9,17,12],[13,6,13,7],[13,9,13,12],[14,9,14,12],[15,3,15,5],[15,6,15,7],[15,9,15,12],[11,3,11,5],[11,6,11,7],[11,9,11,12],[12,3,12,5],[12,6,12,7],[12,9,12,12],[9,3,9,5],[9,6,9,7],[9,9,9,12],[10,3,10,5],[10,6,10,7],[10,9,10,12],[2,3,2,14],[4,2,4,14],[7,9,7,12],[7,13,7,14],[8,6,8,7],[8,9,8,12],[5,2,5,14]]}
[]
[]
[null,null,{"$f":"' Помош - Каталог на намени'!D45","v":"Г3-I"},{"$f":"' Помош - Каталог на намени'!E45","v":"ИНДУСТРИЈА ЗА СКЛОПУВАЊЕ НА ФИНАЛНИ ПРОИЗВОДИ, СЕРВИСНИ УСЛУГИ И ПРОИЗВОДСТВО НА ЕНЕРГИЈА ОД ОБНОВЛИВИ ИЗВОРИ (I ГРУПА)"}]
[]
[null,null,{"$f":"' Помош - Каталог на намени'!F45","v":"Г3.1. - Индустриски сервиси, сервиси за одржување на моторни возила, сервиси за ремонт на шински возила, сервиси за земјоделска и градежна механизација\nГ3.2. - Сервиси за одржување и поправка на машини, бела техника, електроника, апарати за домаќинство\nГ3.3. - Сервиси за одржување на специјализирана опрема, алати, инструменти, сервиси за вградена опрема и инсталации во градби\nГ3.4. - Сервиси за чистење и перење на килими, хемиско чистење\nГ3.5. - Производство на велосипеди, алатки, ножеви и прибор за јадење, опрема за деца, спортски справи и опрема, склопување и асемблирање на готови приозводи\nГ3.6. - Производство на инструменти, електроника и предмети за домаќинство, накит од племенити метали, музички инструменти, кроење и шиење облека, мануфактури за прецизни работи, печатници"}]
[null,null,{"$f":"Т0!C6","v":"*Напомена: Одредувањето на цената за проектирање на секој од објектите се одредува според неговата основна намена. Доколку некој објект нема специфична јасно одредена класа на намена, цената за проектирање се одредува според групата на објекти во кои е класифициран"}]
[]
[null,null,{"$f":"Т0!C8","v":"Површина на градба"},null,null,{"$f":"Калкулатор!D9","v":0},{"$f":"Т0!G8","v":"m²"},{"$f":"Т0!H8","v":"(варијабла)"},null,{"$f":"Т0!J8","v":"Вид на инженерска услуга"},null,null,null,{"$f":"Т0!N8","v":"Минимална вкупна цена"}]
[null,null,null,null,null,null,null,null,null,{"$f":"Т0!J9","v":"1. Изработка на проектна документација (1.1.+1.2)"},null,null,null,{"$f":"SUM(N10:N11)","v":0},{"$f":"SUM(O10:O11)","v":0}]
[null,null,{"$f":"Т0!C10","v":"Просечна цена на изведба за 1 m²"},{"$f":"G10*F14","v":41850},null,null,{"$f":"' Помош - Каталог на намени'!G45","v":675},null,null,{"$f":"Т0!J10","v":"1.1. Изработка на основен проект"},null,null,null,{"$f":"F8*F43","v":0},{"$f":"N10/F14","v":0}]
[null,null,null,null,null,null,null,null,null,{"$f":"Т0!J11","v":"1.2. Изработка на идеен проект"},null,null,null,{"$f":"F8*H43","v":0},{"$f":"N11/F14","v":0}]
[null,null,{"$f":"Т0!C12","v":"Вкупна инвестициона градежна  вредност"},{"$f":"F8*D10","v":0},null,null,{"$f":"D12/F14","v":0}]
[null,null,null,null,null,null,null,null,null,{"$f":"Т0!J13","v":"2. Ревизија на проектна документација (2.1.+2.2.)"},null,null,null,{"$f":"SUM(N14:N15)","v":0},{"$f":"SUM(O14:O15)","v":0}]
[null,null,{"$f":"Т0!C14","v":"Вредност на евро валута"},{"$f":"Т0!D14","v":1},{"$f":"Т0!E14","v":"="},{"$f":"Т0!F14","v":62},null,null,null,{"$f":"Т0!J14","v":"2.1. Ревизија на основен проект"},null,null,null,{"$f":"F8*J43","v":0},{"$f":"N14/F14","v":0}]
[null,null,null,null,null,null,null,null,null,{"$f":"Т0!J15","v":"2.2. Ревизија на идеен проект"},null,null,null,{"$f":"F8*L43","v":0},{"$f":"N15/F14","v":0}]
[null,null,{"$f":"Т0!C16","v":"Изработка на Основен проект"},{"$f":"Т0!D16:F16","v":"Ревизија на Основен проект"},null,null,{"$f":"Т0!G16:H16","v":"Надзор на изградба"}]
[null,null,{"$f":"G43/G10","v":2.5806451612903222E-2},{"$f":"K43/G10","v":3.8709677419354839E-3},null,null,{"$f":"N43","v":2.5000000000000001E-2},null,null,{"$f":"Т0!J17","v":"3. Надзор на градба (3.1.+3.2.)"},null,null,null,{"$f":"SUM(N18:N19)","v":0},{"$f":"SUM(O18:O19)","v":0}]
[null,null,{"$f":"Т0!C18","v":"Изработка на Идеен проект"},{"$f":"Т0!D18:F18","v":"Ревизија на Идеен проект"},null,null,{"$f":"Т0!G18:H18","v":"Проектантски надзор"},null,null,{"$f":"Т0!J18","v":"3.1. Надзор на градба"},null,null,null,{"$f":"F8*D10*N43","v":0},{"$f":"N18/F14","v":0}]
[null,null,{"$f":"I43/G10","v":7.7268439916996796E-3},{"$f":"M43/G10","v":1.1590265987549517E-3},null,null,{"$f":"O43","v":0.01},null,null,{"$f":"Т0!J19","v":"3.2. Проектантски надзор"},null,null,null,{"$f":"F8*D10*O43","v":0},{"$f":"N19/F14","v":0}]
[]
[null,null,null,null,null,{"$f":"Т0!F21","v":"Изработка на проектна документација"},null,null,null,{"$f":"Т0!J21","v":"Ревизија на проектна документација"},null,null,null,{"$f":"Т0!N21","v":"Надзор на изградба"}]
[null,null,null,null,null,null,null,null,null,{"$f":"Т0!J22","v":"(15% од вредноста на Изработка на проектна документација)"}]
[null,null,null,null,null,{"$f":"Т0!F23","v":"Основен проект"},null,{"$f":"Т0!H23","v":"Идеен проект"},null,{"$f":"Т0!J23","v":"Основен проект"},null,{"$f":"Т0!L23","v":"Идеен проект"},null,{"$f":"Т0!N23","v":"Надзор на изградба"},{"$f":"Т0!O23","v":"Проектантски надзор"}]
[null,null,null,null,null,null,null,{"$f":"Т0!H24","v":"(30% од вредноста на основниот проект)"},null,null,null,{"$f":"Т0!L24","v":"(30% од вредноста на ревизија на основниот проект)"}]
[null,null,{"$f":"Т0!C25","v":"Вид на проект"},{"$f":"Т0!D25","v":"Удел"},null,{"$f":"Т0!F25","v":"Минимална цена"},null,{"$f":"Т0!H25","v":"Минимална цена"},null,{"$f":"Т0!J25","v":"Минимална цена"},null,{"$f":"Т0!L25","v":"Минимална цена"},null,{"$f":"Т0!N25","v":"Минимален процент од инвестиција"},{"$f":"Т0!O25","v":"Минимален процент од инвестиција"}]
[null,null,{"$f":"Т0!C26","v":"(според намената)"},{"$f":"Т0!D26","v":"[%]"},null,{"$f":"Т0!F26","v":"[денари/m²]"},{"$f":"Т0!G26","v":"[€/m²]"},{"$f":"Т0!H26","v":"[денари/m²]"},{"$f":"Т0!I26","v":"[€/m²]"},{"$f":"Т0!J26","v":"[денари/m²]"},{"$f":"Т0!K26","v":"[€/m²]"},{"$f":"Т0!L26","v":"[денари/m²]"},{"$f":"Т0!M26","v":"[€/m²]"},{"$f":"Т0!N26","v":"[%]"},"[%]"]
[]
[null,null,{"$f":"Т0!C28","v":"Архитектонски проект"},{"$f":"F28/F43","v":0.33796296296296297},null,365,{"$f":"F28/F14","v":5.887096774193548},{"$f":"F28*0.3","v":109.5},{"$f":"H28/F14","v":1.7661290322580645},{"$f":"F28*0.15","v":54.75},{"$f":"J28/F14","v":0.88306451612903225},{"$f":"J28*0.3","v":16.425000000000001},{"$f":"L28/F14","v":0.26491935483870971},{"$f":"N$43*(F28/$F$43*100)","v":0.84490740740740744},{"$f":"O$43*(F28/$F$43*100)","v":0.33796296296296297}]
[null,null,{"$f":"Т0!C29","v":"Градежно-конструктивен проект"},{"$f":"F29/F43","v":0.20370370370370369},null,220,{"$f":"F29/F14","v":3.5483870967741935},66,{"$f":"H29/F14","v":1.064516129032258},33,{"$f":"J29/F14","v":0.532258064516129},9.9,{"$f":"L29/F14","v":0.15967741935483873},0.5092592592592593,0.20370370370370372]
[null,null,{"$f":"Т0!C30","v":"Електротехнички проект"},{"$f":"F30/F43","v":0.1111111111111111},null,120,{"$f":"F30/F14","v":1.935483870967742},36,{"$f":"H30/F14","v":0.58064516129032262},18,{"$f":"J30/F14","v":0.29032258064516131},5.3999999999999995,{"$f":"L30/F14","v":8.7096774193548374E-2},0.27777777777777779,0.1111111111111111]
[null,null,{"$f":"Т0!C32","v":"Проект за водовод и канализација"},{"$f":"F31/F43","v":5.648148148148148E-2},null,61,{"$f":"F31/F14","v":0.9838709677419355},18.3,{"$f":"H31/F14","v":0.29516129032258065},9.15,{"$f":"J31/F14","v":0.14758064516129032},2.7450000000000001,{"$f":"L31/F14","v":4.4274193548387096E-2},0.14120370370370369,5.648148148148148E-2]
[null,null,{"$f":"Т0!C33","v":"Термотехнички проект"},{"$f":"F32/F43","v":8.3333333333333329E-2},null,90,{"$f":"F32/F14","v":1.4516129032258065},27,{"$f":"H32/F14","v":0.43548387096774194},13.5,{"$f":"J32/F14","v":0.21774193548387097},4.05,{"$f":"L32/F14","v":6.5322580645161291E-2},0.20833333333333331,8.3333333333333329E-2]
[null,null,{"$f":"Т0!C36","v":"Технолошки проект"},{"$f":"F33/F43","v":2.7777777777777776E-2},null,30,{"$f":"F33/F14","v":0.4838709677419355},9,{"$f":"H33/F14","v":0.14516129032258066},4.5,{"$f":"J33/F14","v":7.2580645161290328E-2},1.3499999999999999,{"$f":"L33/F14","v":2.1774193548387093E-2},6.9444444444444448E-2,2.7777777777777776E-2]
[null,null,{"$f":"Т0!C44","v":"Проект за  партерно уредување и сообраќај"},{"$f":"F34/F43","v":2.7777777777777776E-2},null,30,{"$f":"F34/F14","v":0.4838709677419355},9,{"$f":"H34/F14","v":0.14516129032258066},4.5,{"$f":"J34/F14","v":7.2580645161290328E-2},1.3499999999999999,{"$f":"L34/F14","v":2.1774193548387093E-2},6.9444444444444448E-2,2.7777777777777776E-2]
[null,null,{"$f":"Т0!C38","v":"Елаборат за заштита од пожари"},{"$f":"F35/F43","v":2.7777777777777776E-2},null,30,{"$f":"F35/F14","v":0.4838709677419355},9,{"$f":"H35/F14","v":0.14516129032258066},4.5,{"$f":"J35/F14","v":7.2580645161290328E-2},1.3499999999999999,{"$f":"L35/F14","v":2.1774193548387093E-2},6.9444444444444448E-2,2.7777777777777776E-2]
[null,null,{"$f":"Т0!C39","v":"Елаборат за заштита при работа"},{"$f":"F36/F43","v":1.8518518518518517E-2},null,20,{"$f":"F36/F14","v":0.32258064516129031},6,{"$f":"H36/F14","v":9.6774193548387094E-2},3,{"$f":"J36/F14","v":4.8387096774193547E-2},0.89999999999999991,{"$f":"L36/F14","v":1.4516129032258063E-2},4.6296296296296294E-2,1.8518518518518517E-2]
[null,null,{"$f":"Т0!C42","v":"Елаборат за енергетска ефикасност"},{"$f":"F37/F43","v":1.8518518518518517E-2},null,20,{"$f":"F37/F14","v":0.32258064516129031},6,{"$f":"H37/F14","v":9.6774193548387094E-2},3,{"$f":"J37/F14","v":4.8387096774193547E-2},0.89999999999999991,{"$f":"L37/F14","v":1.4516129032258063E-2},{"$f":"N$43*(F37/$F$43*100)","v":4.6296296296296294E-2},{"$f":"O$43*(F37/$F$43*100)","v":1.8518518518518517E-2}]
[null,null,{"$f":"Т0!C43","v":"Елаборат за заштита на животната средина"},{"$f":"F38/F43","v":1.8518518518518517E-2},null,20,{"$f":"F38/F14","v":0.32258064516129031},{"$f":"F38*0.3","v":6},{"$f":"H38/F14","v":9.6774193548387094E-2},{"$f":"F38*0.15","v":3},{"$f":"J38/F14","v":4.8387096774193547E-2},{"$f":"J38*0.3","v":0.89999999999999991},{"$f":"L38/F14","v":1.4516129032258063E-2},4.7027840481565081E-2,1.8811136192626032E-2]
[null,null,{"$f":"Т0!C37","v":"Сообраќаен проект"},{"$f":"F39/F43","v":1.8518518518518517E-2},null,20,{"$f":"F39/F14","v":0.32258064516129031},{"$f":"F39*0.3","v":6},{"$f":"H39/F14","v":9.6774193548387094E-2},{"$f":"F39*0.15","v":3},{"$f":"J39/F14","v":4.8387096774193547E-2},{"$f":"J39*0.3","v":0.89999999999999991},{"$f":"L39/F14","v":1.4516129032258063E-2},4.7027840481565081E-2,1.8811136192626032E-2]
[]
[null,null,{"$f":"Т0!C47","v":"Координација на проект"},{"$f":"F41/F43","v":0.05},null,{"$f":"SUM(F28:F39)/0.95-SUM(F28:F39)","v":54},{"$f":"F41/F14","v":0.87096774193548387},{"$f":"SUM(H28:H37)/0.95-SUM(H28:H37)","v":15.568421052631606},{"$f":"H41/F14","v":0.25110356536502593},{"$f":"F41*0.15","v":8.1},{"$f":"J41/F14","v":0.13064516129032258},{"$f":"SUM(L28:L37)/0.95-SUM(L28:L37)","v":2.3352631578947367},{"$f":"L41/F14","v":3.766553480475382E-2},{"$f":"N$43*(F41/$F$43*100)","v":0.125},{"$f":"O$43*(F41/$F$43*100)","v":0.05}]
[]
[null,null,{"$f":"Т0!C49","v":"Вкупно:"},{"$f":"SUM(D28:D41)","v":0.99999999999999989},null,{"$f":"SUM(F27:F42)","v":1080},{"$f":"F43/F14","v":17.419354838709676},{"$f":"SUM(H28:H41)","v":323.36842105263162},{"$f":"H43/F14","v":5.2156196943972839},{"$f":"SUM(J28:J41)","v":162},{"$f":"J43/F14","v":2.6129032258064515},{"$f":"SUM(L28:L41)","v":48.505263157894731},{"$f":"L43/F14","v":0.78234295415959243},2.5000000000000001E-2,0.01]

{"sheet":"Г3-II","index":42,"n_rows":43,"n_cols":15,"rows_kept":43,"cut":false,"hidden":true,"merged":[[24,5,24,6],[24,7,24,8],[24,9,24,10],[24,11,24,12],[22,5,23,6],[22,7,22,8],[22,9,23,10],[22,11,22,12],[22,13,23,13],[22,14,23,14],[23,7,23,8],[23,11,23,12],[18,3,18,5],[18,6,18,7],[18,9,18,12],[20,5,21,8],[20,9,20,12],[20,13,21,14],[21,9,21,12],[16,3,16,5],[16,6,16,7],[16,9,16,12],[17,3,17,5],[17,6,17,7],[17,9,17,12],[13,6,13,7],[13,9,13,12],[14,9,14,12],[15,3,15,5],[15,6,15,7],[15,9,15,12],[11,3,11,5],[11,6,11,7],[11,9,11,12],[12,3,12,5],[12,6,12,7],[12,9,12,12],[9,3,9,5],[9,6,9,7],[9,9,9,12],[10,3,10,5],[10,6,10,7],[10,9,10,12],[2,3,2,14],[4,2,4,14],[7,9,7,12],[7,13,7,14],[8,6,8,7],[8,9,8,12],[5,2,5,14]]}
[]
[]
[null,null,{"$f":"' Помош - Каталог на намени'!D46","v":"Г3-II"},{"$f":"' Помош - Каталог на намени'!E46","v":"ИНДУСТРИЈА ЗА СКЛОПУВАЊЕ НА ФИНАЛНИ ПРОИЗВОДИ, СЕРВИСНИ УСЛУГИ И ПРОИЗВОДСТВО НА ЕНЕРГИЈА ОД ОБНОВЛИВИ ИЗВОРИ (II ГРУПА)"}]
[]
[null,null,{"$f":"' Помош - Каталог на намени'!F46","v":"Г3.7. - Ветерни електрани, концентрациони сончеви електрани, мали хидроелектрани, електрани на биогориво"}]
[null,null,{"$f":"Т0!C6","v":"*Напомена: Одредувањето на цената за проектирање на секој од објектите се одредува според неговата основна намена. Доколку некој објект нема специфична јасно одредена класа на намена, цената за проектирање се одредува според групата на објекти во кои е класифициран"}]
[]
[null,null,{"$f":"Т0!C8","v":"Површина на градба"},null,null,{"$f":"Калкулатор!D9","v":0},{"$f":"Т0!G8","v":"m²"},{"$f":"Т0!H8","v":"(варијабла)"},null,{"$f":"Т0!J8","v":"Вид на инженерска услуга"},null,null,null,{"$f":"Т0!N8","v":"Минимална вкупна цена"}]
[null,null,null,null,null,null,null,null,null,{"$f":"Т0!J9","v":"1. Изработка на проектна документација (1.1.+1.2)"},null,null,null,{"$f":"SUM(N10:N11)","v":0},{"$f":"SUM(O10:O11)","v":0}]
[null,null,{"$f":"Т0!C10","v":"Просечна цена на изведба за 1 m²"},{"$f":"G10*F14","v":41850},null,null,{"$f":"' Помош - Каталог на намени'!G46","v":675},null,null,{"$f":"Т0!J10","v":"1.1. Изработка на основен проект"},null,null,null,{"$f":"F8*F43","v":0},{"$f":"N10/F14","v":0}]
[null,null,null,null,null,null,null,null,null,{"$f":"Т0!J11","v":"1.2. Изработка на идеен проект"},null,null,null,{"$f":"F8*H43","v":0},{"$f":"N11/F14","v":0}]
[null,null,{"$f":"Т0!C12","v":"Вкупна инвестициона градежна  вредност"},{"$f":"F8*D10","v":0},null,null,{"$f":"D12/F14","v":0}]
[null,null,null,null,null,null,null,null,null,{"$f":"Т0!J13","v":"2. Ревизија на проектна документација (2.1.+2.2.)"},null,null,null,{"$f":"SUM(N14:N15)","v":0},{"$f":"SUM(O14:O15)","v":0}]
[null,null,{"$f":"Т0!C14","v":"Вредност на евро валута"},{"$f":"Т0!D14","v":1},{"$f":"Т0!E14","v":"="},{"$f":"Т0!F14","v":62},null,null,null,{"$f":"Т0!J14","v":"2.1. Ревизија на основен проект"},null,null,null,{"$f":"F8*J43","v":0},{"$f":"N14/F14","v":0}]
[null,null,null,null,null,null,null,null,null,{"$f":"Т0!J15","v":"2.2. Ревизија на идеен проект"},null,null,null,{"$f":"F8*L43","v":0},{"$f":"N15/F14","v":0}]
[null,null,{"$f":"Т0!C16","v":"Изработка на Основен проект"},{"$f":"Т0!D16:F16","v":"Ревизија на Основен проект"},null,null,{"$f":"Т0!G16:H16","v":"Надзор на изградба"}]
[null,null,{"$f":"G43/G10","v":2.5806451612903222E-2},{"$f":"K43/G10","v":3.870967741935483E-3},null,null,{"$f":"N43","v":2.5000000000000001E-2},null,null,{"$f":"Т0!J17","v":"3. Надзор на градба (3.1.+3.2.)"},null,null,null,{"$f":"SUM(N18:N19)","v":0},{"$f":"SUM(O18:O19)","v":0}]
[null,null,{"$f":"Т0!C18","v":"Изработка на Идеен проект"},{"$f":"Т0!D18:F18","v":"Ревизија на Идеен проект"},null,null,{"$f":"Т0!G18:H18","v":"Проектантски надзор"},null,null,{"$f":"Т0!J18","v":"3.1. Надзор на градба"},null,null,null,{"$f":"F8*D10*N43","v":0},{"$f":"N18/F14","v":0}]
[null,null,{"$f":"I43/G10","v":7.7268439916996787E-3},{"$f":"M43/G10","v":1.1590265987549517E-3},null,null,{"$f":"O43","v":0.01},null,null,{"$f":"Т0!J19","v":"3.2. Проектантски надзор"},null,null,null,{"$f":"F8*D10*O43","v":0},{"$f":"N19/F14","v":0}]
[]
[null,null,null,null,null,{"$f":"Т0!F21","v":"Изработка на проектна документација"},null,null,null,{"$f":"Т0!J21","v":"Ревизија на проектна документација"},null,null,null,{"$f":"Т0!N21","v":"Надзор на изградба"}]
[null,null,null,null,null,null,null,null,null,{"$f":"Т0!J22","v":"(15% од вредноста на Изработка на проектна документација)"}]
[null,null,null,null,null,{"$f":"Т0!F23","v":"Основен проект"},null,{"$f":"Т0!H23","v":"Идеен проект"},null,{"$f":"Т0!J23","v":"Основен проект"},null,{"$f":"Т0!L23","v":"Идеен проект"},null,{"$f":"Т0!N23","v":"Надзор на изградба"},{"$f":"Т0!O23","v":"Проектантски надзор"}]
[null,null,null,null,null,null,null,{"$f":"Т0!H24","v":"(30% од вредноста на основниот проект)"},null,null,null,{"$f":"Т0!L24","v":"(30% од вредноста на ревизија на основниот проект)"}]
[null,null,{"$f":"Т0!C25","v":"Вид на проект"},{"$f":"Т0!D25","v":"Удел"},null,{"$f":"Т0!F25","v":"Минимална цена"},null,{"$f":"Т0!H25","v":"Минимална цена"},null,{"$f":"Т0!J25","v":"Минимална цена"},null,{"$f":"Т0!L25","v":"Минимална цена"},null,{"$f":"Т0!N25","v":"Минимален процент од инвестиција"},{"$f":"Т0!O25","v":"Минимален процент од инвестиција"}]
[null,null,{"$f":"Т0!C26","v":"(според намената)"},{"$f":"Т0!D26","v":"[%]"},null,{"$f":"Т0!F26","v":"[денари/m²]"},{"$f":"Т0!G26","v":"[€/m²]"},{"$f":"Т0!H26","v":"[денари/m²]"},{"$f":"Т0!I26","v":"[€/m²]"},{"$f":"Т0!J26","v":"[денари/m²]"},{"$f":"Т0!K26","v":"[€/m²]"},{"$f":"Т0!L26","v":"[денари/m²]"},{"$f":"Т0!M26","v":"[€/m²]"},{"$f":"Т0!N26","v":"[%]"},"[%]"]
[]
[null,null,{"$f":"Т0!C28","v":"Архитектонски проект"},{"$f":"F28/F43","v":0.22037037037037038},null,238,{"$f":"F28/F14","v":3.838709677419355},{"$f":"F28*0.3","v":71.399999999999991},{"$f":"H28/F14","v":1.1516129032258062},{"$f":"F28*0.15","v":35.699999999999996},{"$f":"J28/F14","v":0.57580645161290311},{"$f":"J28*0.3","v":10.709999999999999},{"$f":"L28/F14","v":0.17274193548387096},{"$f":"N$43*(F28/$F$43*100)","v":0.55092592592592593},{"$f":"O$43*(F28/$F$43*100)","v":0.22037037037037038}]
[null,null,{"$f":"Т0!C29","v":"Градежно-конструктивен проект"},{"$f":"F29/F43","v":0.22037037037037038},null,238,{"$f":"F29/F14","v":3.838709677419355},71.399999999999991,{"$f":"H29/F14","v":1.1516129032258062},35.699999999999996,{"$f":"J29/F14","v":0.57580645161290311},10.709999999999999,{"$f":"L29/F14","v":0.17274193548387096},0.55092592592592593,0.22037037037037038]
[null,null,{"$f":"Т0!C30","v":"Електротехнички проект"},{"$f":"F30/F43","v":0.12037037037037036},null,130,{"$f":"F30/F14","v":2.096774193548387},39,{"$f":"H30/F14","v":0.62903225806451613},19.5,{"$f":"J30/F14","v":0.31451612903225806},5.85,{"$f":"L30/F14","v":9.435483870967741E-2},0.30092592592592593,0.12037037037037036]
[null,null,{"$f":"Т0!C32","v":"Проект за водовод и канализација"},{"$f":"F31/F43","v":6.4814814814814811E-2},null,70,{"$f":"F31/F14","v":1.1290322580645162},21,{"$f":"H31/F14","v":0.33870967741935482},10.5,{"$f":"J31/F14","v":0.16935483870967741},3.15,{"$f":"L31/F14","v":5.0806451612903224E-2},0.16203703703703703,6.4814814814814811E-2]
[null,null,{"$f":"Т0!C33","v":"Термотехнички проект"},{"$f":"F32/F43","v":9.2592592592592587E-2},null,100,{"$f":"F32/F14","v":1.6129032258064515},30,{"$f":"H32/F14","v":0.4838709677419355},15,{"$f":"J32/F14","v":0.24193548387096775},4.5,{"$f":"L32/F14","v":7.2580645161290328E-2},0.23148148148148151,9.2592592592592601E-2]
[null,null,{"$f":"Т0!C36","v":"Технолошки проект"},{"$f":"F33/F43","v":0.10185185185185185},null,110,{"$f":"F33/F14","v":1.7741935483870968},33,{"$f":"H33/F14","v":0.532258064516129},16.5,{"$f":"J33/F14","v":0.2661290322580645},4.95,{"$f":"L33/F14","v":7.9838709677419364E-2},0.25462962962962965,0.10185185185185186]
[null,null,{"$f":"Т0!C44","v":"Проект за  партерно уредување и сообраќај"},{"$f":"F34/F43","v":2.7777777777777776E-2},null,30,{"$f":"F34/F14","v":0.4838709677419355},9,{"$f":"H34/F14","v":0.14516129032258066},4.5,{"$f":"J34/F14","v":7.2580645161290328E-2},1.3499999999999999,{"$f":"L34/F14","v":2.1774193548387093E-2},6.9444444444444448E-2,2.7777777777777776E-2]
[null,null,{"$f":"Т0!C38","v":"Елаборат за заштита од пожари"},{"$f":"F35/F43","v":2.7777777777777776E-2},null,30,{"$f":"F35/F14","v":0.4838709677419355},9,{"$f":"H35/F14","v":0.14516129032258066},4.5,{"$f":"J35/F14","v":7.2580645161290328E-2},1.3499999999999999,{"$f":"L35/F14","v":2.1774193548387093E-2},6.9444444444444448E-2,2.7777777777777776E-2]
[null,null,{"$f":"Т0!C39","v":"Елаборат за заштита при работа"},{"$f":"F36/F43","v":1.8518518518518517E-2},null,20,{"$f":"F36/F14","v":0.32258064516129031},6,{"$f":"H36/F14","v":9.6774193548387094E-2},3,{"$f":"J36/F14","v":4.8387096774193547E-2},0.89999999999999991,{"$f":"L36/F14","v":1.4516129032258063E-2},4.6296296296296294E-2,1.8518518518518517E-2]
[null,null,{"$f":"Т0!C42","v":"Елаборат за енергетска ефикасност"},{"$f":"F37/F43","v":1.8518518518518517E-2},null,20,{"$f":"F37/F14","v":0.32258064516129031},6,{"$f":"H37/F14","v":9.6774193548387094E-2},3,{"$f":"J37/F14","v":4.8387096774193547E-2},0.89999999999999991,{"$f":"L37/F14","v":1.4516129032258063E-2},{"$f":"N$43*(F37/$F$43*100)","v":4.6296296296296294E-2},{"$f":"O$43*(F37/$F$43*100)","v":1.8518518518518517E-2}]
[null,null,{"$f":"Т0!C43","v":"Елаборат за заштита на животната средина"},{"$f":"F38/F43","v":1.8518518518518517E-2},null,20,{"$f":"F38/F14","v":0.32258064516129031},{"$f":"F38*0.3","v":6},{"$f":"H38/F14","v":9.6774193548387094E-2},{"$f":"F38*0.15","v":3},{"$f":"J38/F14","v":4.8387096774193547E-2},{"$f":"J38*0.3","v":0.89999999999999991},{"$f":"L38/F14","v":1.4516129032258063E-2},4.7027840481565081E-2,1.8811136192626032E-2]
[null,null,{"$f":"Т0!C37","v":"Сообраќаен проект"},{"$f":"F39/F43","v":1.8518518518518517E-2},null,20,{"$f":"F39/F14","v":0.32258064516129031},{"$f":"F39*0.3","v":6},{"$f":"H39/F14","v":9.6774193548387094E-2},{"$f":"F39*0.15","v":3},{"$f":"J39/F14","v":4.8387096774193547E-2},{"$f":"J39*0.3","v":0.89999999999999991},{"$f":"L39/F14","v":1.4516129032258063E-2},4.7027840481565081E-2,1.8811136192626032E-2]
[]
[null,null,{"$f":"Т0!C47","v":"Координација на проект"},{"$f":"F41/F43","v":0.05},null,{"$f":"SUM(F28:F39)/0.95-SUM(F28:F39)","v":54},{"$f":"F41/F14","v":0.87096774193548387},{"$f":"SUM(H28:H37)/0.95-SUM(H28:H37)","v":15.568421052631606},{"$f":"H41/F14","v":0.25110356536502593},{"$f":"F41*0.15","v":8.1},{"$f":"J41/F14","v":0.13064516129032258},{"$f":"SUM(L28:L37)/0.95-SUM(L28:L37)","v":2.3352631578947367},{"$f":"L41/F14","v":3.766553480475382E-2},{"$f":"N$43*(F41/$F$43*100)","v":0.125},{"$f":"O$43*(F41/$F$43*100)","v":0.05}]
[]
[null,null,{"$f":"Т0!C49","v":"Вкупно:"},{"$f":"SUM(D28:D41)","v":0.99999999999999989},null,{"$f":"SUM(F27:F42)","v":1080},{"$f":"F43/F14","v":17.419354838709676},{"$f":"SUM(H28:H41)","v":323.36842105263156},{"$f":"H43/F14","v":5.215619694397283},{"$f":"SUM(J28:J41)","v":161.99999999999997},{"$f":"J43/F14","v":2.6129032258064511},{"$f":"SUM(L28:L41)","v":48.505263157894731},{"$f":"L43/F14","v":0.78234295415959243},2.5000000000000001E-2,0.01]

{"sheet":"Г4-I","index":43,"n_rows":43,"n_cols":15,"rows_kept":43,"cut":false,"hidden":true,"merged":[[24,5,24,6],[24,7,24,8],[24,9,24,10],[24,11,24,12],[22,5,23,6],[22,7,22,8],[22,9,23,10],[22,11,22,12],[22,13,23,13],[22,14,23,14],[23,7,23,8],[23,11,23,12],[18,3,18,5],[18,6,18,7],[18,9,18,12],[20,5,21,8],[20,9,20,12],[20,13,21,14],[21,9,21,12],[16,3,16,5],[16,6,16,7],[16,9,16,12],[17,3,17,5],[17,6,17,7],[17,9,17,12],[13,6,13,7],[13,9,13,12],[14,9,14,12],[15,3,15,5],[15,6,15,7],[15,9,15,12],[11,3,11,5],[11,6,11,7],[11,9,11,12],[12,3,12,5],[12,6,12,7],[12,9,12,12],[9,3,9,5],[9,6,9,7],[9,9,9,12],[10,3,10,5],[10,6,10,7],[10,9,10,12],[2,3,2,14],[4,2,4,14],[7,9,7,12],[7,13,7,14],[8,6,8,7],[8,9,8,12],[5,2,5,14]]}
[]
[]
[null,null,{"$f":"' Помош - Каталог на намени'!D47","v":"Г4-I"},{"$f":"' Помош - Каталог на намени'!E47","v":"СТОВАРИШТА, СКЛАДОВИ И ОТПАДИ\n(I ГРУПА)"}]
[]
[null,null,{"$f":"' Помош - Каталог на намени'!F47","v":"Г4.1. - Отворени, полузатворени и затворени складишта за индустриска стока\nГ4.2. - Отворени и полузатворени отпади, специјализирани отпади\nГ4.3. - Автопазари\nГ4.4. - Градби за складирање на експлозивни средства"}]
[null,null,{"$f":"Т0!C6","v":"*Напомена: Одредувањето на цената за проектирање на секој од објектите се одредува според неговата основна намена. Доколку некој објект нема специфична јасно одредена класа на намена, цената за проектирање се одредува според групата на објекти во кои е класифициран"}]
[]
[null,null,{"$f":"Т0!C8","v":"Површина на градба"},null,null,{"$f":"Калкулатор!D9","v":0},{"$f":"Т0!G8","v":"m²"},{"$f":"Т0!H8","v":"(варијабла)"},null,{"$f":"Т0!J8","v":"Вид на инженерска услуга"},null,null,null,{"$f":"Т0!N8","v":"Минимална вкупна цена"}]
[null,null,null,null,null,null,null,null,null,{"$f":"Т0!J9","v":"1. Изработка на проектна документација (1.1.+1.2)"},null,null,null,{"$f":"SUM(N10:N11)","v":0},{"$f":"SUM(O10:O11)","v":0}]
[null,null,{"$f":"Т0!C10","v":"Просечна цена на изведба за 1 m²"},{"$f":"G10*F14","v":37820},null,null,{"$f":"' Помош - Каталог на намени'!G47","v":610},null,null,{"$f":"Т0!J10","v":"1.1. Изработка на основен проект"},null,null,null,{"$f":"F8*F43","v":0},{"$f":"N10/F14","v":0}]
[null,null,null,null,null,null,null,null,null,{"$f":"Т0!J11","v":"1.2. Изработка на идеен проект"},null,null,null,{"$f":"F8*H43","v":0},{"$f":"N11/F14","v":0}]
[null,null,{"$f":"Т0!C12","v":"Вкупна инвестициона градежна  вредност"},{"$f":"F8*D10","v":0},null,null,{"$f":"D12/F14","v":0}]
[null,null,null,null,null,null,null,null,null,{"$f":"Т0!J13","v":"2. Ревизија на проектна документација (2.1.+2.2.)"},null,null,null,{"$f":"SUM(N14:N15)","v":0},{"$f":"SUM(O14:O15)","v":0}]
[null,null,{"$f":"Т0!C14","v":"Вредност на евро валута"},{"$f":"Т0!D14","v":1},{"$f":"Т0!E14","v":"="},{"$f":"Т0!F14","v":62},null,null,null,{"$f":"Т0!J14","v":"2.1. Ревизија на основен проект"},null,null,null,{"$f":"F8*J43","v":0},{"$f":"N14/F14","v":0}]
[null,null,null,null,null,null,null,null,null,{"$f":"Т0!J15","v":"2.2. Ревизија на идеен проект"},null,null,null,{"$f":"F8*L43","v":0},{"$f":"N15/F14","v":0}]
[null,null,{"$f":"Т0!C16","v":"Изработка на Основен проект"},{"$f":"Т0!D16:F16","v":"Ревизија на Основен проект"},null,null,{"$f":"Т0!G16:H16","v":"Надзор на изградба"}]
[null,null,{"$f":"G43/G10","v":2.5327729689109076E-2},{"$f":"K43/G10","v":3.7991594533663621E-3},null,null,{"$f":"N43","v":2.5000000000000001E-2},null,null,{"$f":"Т0!J17","v":"3. Надзор на градба (3.1.+3.2.)"},null,null,null,{"$f":"SUM(N18:N19)","v":0},{"$f":"SUM(O18:O19)","v":0}]
[null,null,{"$f":"Т0!C18","v":"Изработка на Идеен проект"},{"$f":"Т0!D18:F18","v":"Ревизија на Идеен проект"},null,null,{"$f":"Т0!G18:H18","v":"Проектантски надзор"},null,null,{"$f":"Т0!J18","v":"3.1. Надзор на градба"},null,null,null,{"$f":"F8*D10*N43","v":0},{"$f":"N18/F14","v":0}]
[null,null,{"$f":"I43/G10","v":7.5816193047399047E-3},{"$f":"M43/G10","v":1.1372428957109853E-3},null,null,{"$f":"O43","v":0.01},null,null,{"$f":"Т0!J19","v":"3.2. Проектантски надзор"},null,null,null,{"$f":"F8*D10*O43","v":0},{"$f":"N19/F14","v":0}]
[]
[null,null,null,null,null,{"$f":"Т0!F21","v":"Изработка на проектна документација"},null,null,null,{"$f":"Т0!J21","v":"Ревизија на проектна документација"},null,null,null,{"$f":"Т0!N21","v":"Надзор на изградба"}]
[null,null,null,null,null,null,null,null,null,{"$f":"Т0!J22","v":"(15% од вредноста на Изработка на проектна документација)"}]
[null,null,null,null,null,{"$f":"Т0!F23","v":"Основен проект"},null,{"$f":"Т0!H23","v":"Идеен проект"},null,{"$f":"Т0!J23","v":"Основен проект"},null,{"$f":"Т0!L23","v":"Идеен проект"},null,{"$f":"Т0!N23","v":"Надзор на изградба"},{"$f":"Т0!O23","v":"Проектантски надзор"}]
[null,null,null,null,null,null,null,{"$f":"Т0!H24","v":"(30% од вредноста на основниот проект)"},null,null,null,{"$f":"Т0!L24","v":"(30% од вредноста на ревизија на основниот проект)"}]
[null,null,{"$f":"Т0!C25","v":"Вид на проект"},{"$f":"Т0!D25","v":"Удел"},null,{"$f":"Т0!F25","v":"Минимална цена"},null,{"$f":"Т0!H25","v":"Минимална цена"},null,{"$f":"Т0!J25","v":"Минимална цена"},null,{"$f":"Т0!L25","v":"Минимална цена"},null,{"$f":"Т0!N25","v":"Минимален процент од инвестиција"},{"$f":"Т0!O25","v":"Минимален процент од инвестиција"}]
[null,null,{"$f":"Т0!C26","v":"(според намената)"},{"$f":"Т0!D26","v":"[%]"},null,{"$f":"Т0!F26","v":"[денари/m²]"},{"$f":"Т0!G26","v":"[€/m²]"},{"$f":"Т0!H26","v":"[денари/m²]"},{"$f":"Т0!I26","v":"[€/m²]"},{"$f":"Т0!J26","v":"[денари/m²]"},{"$f":"Т0!K26","v":"[€/m²]"},{"$f":"Т0!L26","v":"[денари/m²]"},{"$f":"Т0!M26","v":"[€/m²]"},{"$f":"Т0!N26","v":"[%]"},"[%]"]
[]
[null,null,{"$f":"Т0!C28","v":"Архитектонски проект"},{"$f":"F28/F43","v":0.24532967032967032},null,235,{"$f":"F28/F14","v":3.7903225806451615},{"$f":"F28*0.3","v":70.5},{"$f":"H28/F14","v":1.1370967741935485},{"$f":"F28*0.15","v":35.25},{"$f":"J28/F14","v":0.56854838709677424},{"$f":"J28*0.3","v":10.574999999999999},{"$f":"L28/F14","v":0.17056451612903226},{"$f":"N$43*(F28/$F$43*100)","v":0.61332417582417587},{"$f":"O$43*(F28/$F$43*100)","v":0.24532967032967035}]
[null,null,{"$f":"Т0!C29","v":"Градежно-конструктивен проект"},{"$f":"F29/F43","v":0.18269230769230768},null,175,{"$f":"F29/F14","v":2.8225806451612905},52.5,{"$f":"H29/F14","v":0.84677419354838712},26.25,{"$f":"J29/F14","v":0.42338709677419356},7.875,{"$f":"L29/F14","v":0.12701612903225806},0.45673076923076916,0.18269230769230768]
[null,null,{"$f":"Т0!C30","v":"Електротехнички проект"},{"$f":"F30/F43","v":0.11483516483516483},null,110,{"$f":"F30/F14","v":1.7741935483870968},33,{"$f":"H30/F14","v":0.532258064516129},16.5,{"$f":"J30/F14","v":0.2661290322580645},4.95,{"$f":"L30/F14","v":7.9838709677419364E-2},0.28708791208791212,0.11483516483516484]
[null,null,{"$f":"Т0!C32","v":"Проект за водовод и канализација"},{"$f":"F31/F43","v":6.2637362637362637E-2},null,60,{"$f":"F31/F14","v":0.967741935483871},18,{"$f":"H31/F14","v":0.29032258064516131},9,{"$f":"J31/F14","v":0.14516129032258066},2.6999999999999997,{"$f":"L31/F14","v":4.3548387096774187E-2},0.15659340659340659,6.2637362637362637E-2]
[null,null,{"$f":"Т0!C33","v":"Термотехнички проект"},{"$f":"F32/F43","v":0.11483516483516483},null,110,{"$f":"F32/F14","v":1.7741935483870968},33,{"$f":"H32/F14","v":0.532258064516129},16.5,{"$f":"J32/F14","v":0.2661290322580645},4.95,{"$f":"L32/F14","v":7.9838709677419364E-2},0.28708791208791212,0.11483516483516484]
[null,null,{"$f":"Т0!C36","v":"Технолошки проект"},{"$f":"F33/F43","v":8.3516483516483511E-2},null,80,{"$f":"F33/F14","v":1.2903225806451613},24,{"$f":"H33/F14","v":0.38709677419354838},12,{"$f":"J33/F14","v":0.19354838709677419},3.5999999999999996,{"$f":"L33/F14","v":5.8064516129032254E-2},0.20879120879120877,8.3516483516483511E-2]
[null,null,{"$f":"Т0!C44","v":"Проект за  партерно уредување и сообраќај"},{"$f":"F34/F43","v":3.1318681318681318E-2},null,30,{"$f":"F34/F14","v":0.4838709677419355},9,{"$f":"H34/F14","v":0.14516129032258066},4.5,{"$f":"J34/F14","v":7.2580645161290328E-2},1.3499999999999999,{"$f":"L34/F14","v":2.1774193548387093E-2},7.8296703296703296E-2,3.1318681318681318E-2]
[null,null,{"$f":"Т0!C38","v":"Елаборат за заштита од пожари"},{"$f":"F35/F43","v":3.1318681318681318E-2},null,30,{"$f":"F35/F14","v":0.4838709677419355},9,{"$f":"H35/F14","v":0.14516129032258066},4.5,{"$f":"J35/F14","v":7.2580645161290328E-2},1.3499999999999999,{"$f":"L35/F14","v":2.1774193548387093E-2},7.8296703296703296E-2,3.1318681318681318E-2]
[null,null,{"$f":"Т0!C39","v":"Елаборат за заштита при работа"},{"$f":"F36/F43","v":2.0879120879120878E-2},null,20,{"$f":"F36/F14","v":0.32258064516129031},6,{"$f":"H36/F14","v":9.6774193548387094E-2},3,{"$f":"J36/F14","v":4.8387096774193547E-2},0.89999999999999991,{"$f":"L36/F14","v":1.4516129032258063E-2},5.2197802197802193E-2,2.0879120879120878E-2]
[null,null,{"$f":"Т0!C42","v":"Елаборат за енергетска ефикасност"},{"$f":"F37/F43","v":2.0879120879120878E-2},null,20,{"$f":"F37/F14","v":0.32258064516129031},6,{"$f":"H37/F14","v":9.6774193548387094E-2},3,{"$f":"J37/F14","v":4.8387096774193547E-2},0.89999999999999991,{"$f":"L37/F14","v":1.4516129032258063E-2},{"$f":"N$43*(F37/$F$43*100)","v":5.2197802197802193E-2},{"$f":"O$43*(F37/$F$43*100)","v":2.0879120879120878E-2}]
[null,null,{"$f":"Т0!C43","v":"Елаборат за заштита на животната средина"},{"$f":"F38/F43","v":2.0879120879120878E-2},null,20,{"$f":"F38/F14","v":0.32258064516129031},{"$f":"F38*0.3","v":6},{"$f":"H38/F14","v":9.6774193548387094E-2},{"$f":"F38*0.15","v":3},{"$f":"J38/F14","v":4.8387096774193547E-2},{"$f":"J38*0.3","v":0.89999999999999991},{"$f":"L38/F14","v":1.4516129032258063E-2},4.7123015873015872E-2,1.8849206349206348E-2]
[null,null,{"$f":"Т0!C37","v":"Сообраќаен проект"},{"$f":"F39/F43","v":2.0879120879120878E-2},null,20,{"$f":"F39/F14","v":0.32258064516129031},{"$f":"F39*0.3","v":6},{"$f":"H39/F14","v":9.6774193548387094E-2},{"$f":"F39*0.15","v":3},{"$f":"J39/F14","v":4.8387096774193547E-2},{"$f":"J39*0.3","v":0.89999999999999991},{"$f":"L39/F14","v":1.4516129032258063E-2},4.7123015873015872E-2,1.8849206349206348E-2]
[]
[null,null,{"$f":"Т0!C47","v":"Координација на проект"},{"$f":"F41/F43","v":5.0000000000000051E-2},null,{"$f":"SUM(F28:F39)/0.95-SUM(F28:F39)","v":47.894736842105317},{"$f":"F41/F14","v":0.77249575551782768},{"$f":"SUM(H28:H37)/0.95-SUM(H28:H37)","v":13.736842105263179},{"$f":"H41/F14","v":0.2215619694397287},{"$f":"F41*0.15","v":7.1842105263157974},{"$f":"J41/F14","v":0.11587436332767415},{"$f":"SUM(L28:L37)/0.95-SUM(L28:L37)","v":2.060526315789474},{"$f":"L41/F14","v":3.3234295415959257E-2},{"$f":"N$43*(F41/$F$43*100)","v":0.12500000000000014},{"$f":"O$43*(F41/$F$43*100)","v":5.0000000000000051E-2}]
[]
[null,null,{"$f":"Т0!C49","v":"Вкупно:"},{"$f":"SUM(D28:D41)","v":1.0000000000000002},null,{"$f":"SUM(F27:F42)","v":957.89473684210532},{"$f":"F43/F14","v":15.449915110356537},{"$f":"SUM(H28:H41)","v":286.73684210526318},{"$f":"H43/F14","v":4.6247877758913418},{"$f":"SUM(J28:J41)","v":143.68421052631581},{"$f":"J43/F14","v":2.3174872665534809},{"$f":"SUM(L28:L41)","v":43.01052631578947},{"$f":"L43/F14","v":0.6937181663837011},2.5000000000000001E-2,0.01]

{"sheet":"Г4-II","index":44,"n_rows":43,"n_cols":15,"rows_kept":43,"cut":false,"hidden":true,"merged":[[24,5,24,6],[24,7,24,8],[24,9,24,10],[24,11,24,12],[22,5,23,6],[22,7,22,8],[22,9,23,10],[22,11,22,12],[22,13,23,13],[22,14,23,14],[23,7,23,8],[23,11,23,12],[18,3,18,5],[18,6,18,7],[18,9,18,12],[20,5,21,8],[20,9,20,12],[20,13,21,14],[21,9,21,12],[16,3,16,5],[16,6,16,7],[16,9,16,12],[17,3,17,5],[17,6,17,7],[17,9,17,12],[13,6,13,7],[13,9,13,12],[14,9,14,12],[15,3,15,5],[15,6,15,7],[15,9,15,12],[11,3,11,5],[11,6,11,7],[11,9,11,12],[12,3,12,5],[12,6,12,7],[12,9,12,12],[9,3,9,5],[9,6,9,7],[9,9,9,12],[10,3,10,5],[10,6,10,7],[10,9,10,12],[2,3,2,14],[4,2,4,14],[7,9,7,12],[7,13,7,14],[8,6,8,7],[8,9,8,12],[5,2,5,14]]}
[]
[]
[null,null,{"$f":"' Помош - Каталог на намени'!D48","v":"Г4-II"},{"$f":"' Помош - Каталог на намени'!E48","v":"СТОВАРИШТА, СКЛАДОВИ И ОТПАДИ\n(II ГРУПА)"}]
[]
[null,null,{"$f":"' Помош - Каталог на намени'!F48","v":"Г4.5. - Складишта, резервоари и цистерни за нафта, течен гас и нафтени деривати, хемиски соединенија\nГ4.6. - Силоси за цемент и други суви агрегати, индустриски ладилници, резервоари и цистерни"}]
[null,null,{"$f":"Т0!C6","v":"*Напомена: Одредувањето на цената за проектирање на секој од објектите се одредува според неговата основна намена. Доколку некој објект нема специфична јасно одредена класа на намена, цената за проектирање се одредува според групата на објекти во кои е класифициран"}]
[]
[null,null,{"$f":"Т0!C8","v":"Површина на градба"},null,null,{"$f":"Калкулатор!D9","v":0},{"$f":"Т0!G8","v":"m²"},{"$f":"Т0!H8","v":"(варијабла)"},null,{"$f":"Т0!J8","v":"Вид на инженерска услуга"},null,null,null,{"$f":"Т0!N8","v":"Минимална вкупна цена"}]
[null,null,null,null,null,null,null,null,null,{"$f":"Т0!J9","v":"1. Изработка на проектна документација (1.1.+1.2)"},null,null,null,{"$f":"SUM(N10:N11)","v":0},{"$f":"SUM(O10:O11)","v":0}]
[null,null,{"$f":"Т0!C10","v":"Просечна цена на изведба за 1 m²"},{"$f":"G10*F14","v":41850},null,null,{"$f":"' Помош - Каталог на намени'!G48","v":675},null,null,{"$f":"Т0!J10","v":"1.1. Изработка на основен проект"},null,null,null,{"$f":"F8*F43","v":0},{"$f":"N10/F14","v":0}]
[null,null,null,null,null,null,null,null,null,{"$f":"Т0!J11","v":"1.2. Изработка на идеен проект"},null,null,null,{"$f":"F8*H43","v":0},{"$f":"N11/F14","v":0}]
[null,null,{"$f":"Т0!C12","v":"Вкупна инвестициона градежна  вредност"},{"$f":"F8*D10","v":0},null,null,{"$f":"D12/F14","v":0}]
[null,null,null,null,null,null,null,null,null,{"$f":"Т0!J13","v":"2. Ревизија на проектна документација (2.1.+2.2.)"},null,null,null,{"$f":"SUM(N14:N15)","v":0},{"$f":"SUM(O14:O15)","v":0}]
[null,null,{"$f":"Т0!C14","v":"Вредност на евро валута"},{"$f":"Т0!D14","v":1},{"$f":"Т0!E14","v":"="},{"$f":"Т0!F14","v":62},null,null,null,{"$f":"Т0!J14","v":"2.1. Ревизија на основен проект"},null,null,null,{"$f":"F8*J43","v":0},{"$f":"N14/F14","v":0}]
[null,null,null,null,null,null,null,null,null,{"$f":"Т0!J15","v":"2.2. Ревизија на идеен проект"},null,null,null,{"$f":"F8*L43","v":0},{"$f":"N15/F14","v":0}]
[null,null,{"$f":"Т0!C16","v":"Изработка на Основен проект"},{"$f":"Т0!D16:F16","v":"Ревизија на Основен проект"},null,null,{"$f":"Т0!G16:H16","v":"Надзор на изградба"}]
[null,null,{"$f":"G43/G10","v":2.5806451612903222E-2},{"$f":"K43/G10","v":3.8709677419354839E-3},null,null,{"$f":"N43","v":2.5000000000000001E-2},null,null,{"$f":"Т0!J17","v":"3. Надзор на градба (3.1.+3.2.)"},null,null,null,{"$f":"SUM(N18:N19)","v":0},{"$f":"SUM(O18:O19)","v":0}]
[null,null,{"$f":"Т0!C18","v":"Изработка на Идеен проект"},{"$f":"Т0!D18:F18","v":"Ревизија на Идеен проект"},null,null,{"$f":"Т0!G18:H18","v":"Проектантски надзор"},null,null,{"$f":"Т0!J18","v":"3.1. Надзор на градба"},null,null,null,{"$f":"F8*D10*N43","v":0},{"$f":"N18/F14","v":0}]
[null,null,{"$f":"I43/G10","v":7.7268439916996796E-3},{"$f":"M43/G10","v":1.1590265987549515E-3},null,null,{"$f":"O43","v":0.01},null,null,{"$f":"Т0!J19","v":"3.2. Проектантски надзор"},null,null,null,{"$f":"F8*D10*O43","v":0},{"$f":"N19/F14","v":0}]
[]
[null,null,null,null,null,{"$f":"Т0!F21","v":"Изработка на проектна документација"},null,null,null,{"$f":"Т0!J21","v":"Ревизија на проектна документација"},null,null,null,{"$f":"Т0!N21","v":"Надзор на изградба"}]
[null,null,null,null,null,null,null,null,null,{"$f":"Т0!J22","v":"(15% од вредноста на Изработка на проектна документација)"}]
[null,null,null,null,null,{"$f":"Т0!F23","v":"Основен проект"},null,{"$f":"Т0!H23","v":"Идеен проект"},null,{"$f":"Т0!J23","v":"Основен проект"},null,{"$f":"Т0!L23","v":"Идеен проект"},null,{"$f":"Т0!N23","v":"Надзор на изградба"},{"$f":"Т0!O23","v":"Проектантски надзор"}]
[null,null,null,null,null,null,null,{"$f":"Т0!H24","v":"(30% од вредноста на основниот проект)"},null,null,null,{"$f":"Т0!L24","v":"(30% од вредноста на ревизија на основниот проект)"}]
[null,null,{"$f":"Т0!C25","v":"Вид на проект"},{"$f":"Т0!D25","v":"Удел"},null,{"$f":"Т0!F25","v":"Минимална цена"},null,{"$f":"Т0!H25","v":"Минимална цена"},null,{"$f":"Т0!J25","v":"Минимална цена"},null,{"$f":"Т0!L25","v":"Минимална цена"},null,{"$f":"Т0!N25","v":"Минимален процент од инвестиција"},{"$f":"Т0!O25","v":"Минимален процент од инвестиција"}]
[null,null,{"$f":"Т0!C26","v":"(според намената)"},{"$f":"Т0!D26","v":"[%]"},null,{"$f":"Т0!F26","v":"[денари/m²]"},{"$f":"Т0!G26","v":"[€/m²]"},{"$f":"Т0!H26","v":"[денари/m²]"},{"$f":"Т0!I26","v":"[€/m²]"},{"$f":"Т0!J26","v":"[денари/m²]"},{"$f":"Т0!K26","v":"[€/m²]"},{"$f":"Т0!L26","v":"[денари/m²]"},{"$f":"Т0!M26","v":"[€/m²]"},{"$f":"Т0!N26","v":"[%]"},"[%]"]
[]
[null,null,{"$f":"Т0!C28","v":"Архитектонски проект"},{"$f":"F28/F43","v":0.2361111111111111},null,255,{"$f":"F28/F14","v":4.112903225806452},{"$f":"F28*0.3","v":76.5},{"$f":"H28/F14","v":1.2338709677419355},{"$f":"F28*0.15","v":38.25},{"$f":"J28/F14","v":0.61693548387096775},{"$f":"J28*0.3","v":11.475},{"$f":"L28/F14","v":0.18508064516129033},{"$f":"N$43*(F28/$F$43*100)","v":0.59027777777777779},{"$f":"O$43*(F28/$F$43*100)","v":0.2361111111111111}]
[null,null,{"$f":"Т0!C29","v":"Градежно-конструктивен проект"},{"$f":"F29/F43","v":0.19444444444444445},null,210,{"$f":"F29/F14","v":3.3870967741935485},63,{"$f":"H29/F14","v":1.0161290322580645},31.5,{"$f":"J29/F14","v":0.50806451612903225},9.4499999999999993,{"$f":"L29/F14","v":0.15241935483870966},0.48611111111111116,0.19444444444444448]
[null,null,{"$f":"Т0!C30","v":"Електротехнички проект"},{"$f":"F30/F43","v":0.1111111111111111},null,120,{"$f":"F30/F14","v":1.935483870967742},36,{"$f":"H30/F14","v":0.58064516129032262},18,{"$f":"J30/F14","v":0.29032258064516131},5.3999999999999995,{"$f":"L30/F14","v":8.7096774193548374E-2},0.27777777777777779,0.1111111111111111]
[null,null,{"$f":"Т0!C32","v":"Проект за водовод и канализација"},{"$f":"F31/F43","v":3.7962962962962962E-2},null,41,{"$f":"F31/F14","v":0.66129032258064513},12.299999999999999,{"$f":"H31/F14","v":0.19838709677419353},6.1499999999999995,{"$f":"J31/F14","v":9.9193548387096764E-2},1.8449999999999998,{"$f":"L31/F14","v":2.9758064516129029E-2},9.4907407407407413E-2,3.7962962962962962E-2]
[null,null,{"$f":"Т0!C33","v":"Термотехнички проект"},{"$f":"F32/F43","v":0.1111111111111111},null,120,{"$f":"F32/F14","v":1.935483870967742},36,{"$f":"H32/F14","v":0.58064516129032262},18,{"$f":"J32/F14","v":0.29032258064516131},5.3999999999999995,{"$f":"L32/F14","v":8.7096774193548374E-2},0.27777777777777779,0.1111111111111111]
[null,null,{"$f":"Т0!C36","v":"Технолошки проект"},{"$f":"F33/F43","v":0.12962962962962962},null,140,{"$f":"F33/F14","v":2.2580645161290325},42,{"$f":"H33/F14","v":0.67741935483870963},21,{"$f":"J33/F14","v":0.33870967741935482},6.3,{"$f":"L33/F14","v":0.10161290322580645},0.32407407407407407,0.12962962962962962]
[null,null,{"$f":"Т0!C44","v":"Проект за  партерно уредување и сообраќај"},{"$f":"F34/F43","v":2.7777777777777776E-2},null,30,{"$f":"F34/F14","v":0.4838709677419355},9,{"$f":"H34/F14","v":0.14516129032258066},4.5,{"$f":"J34/F14","v":7.2580645161290328E-2},1.3499999999999999,{"$f":"L34/F14","v":2.1774193548387093E-2},6.9444444444444448E-2,2.7777777777777776E-2]
[null,null,{"$f":"Т0!C38","v":"Елаборат за заштита од пожари"},{"$f":"F35/F43","v":2.7777777777777776E-2},null,30,{"$f":"F35/F14","v":0.4838709677419355},9,{"$f":"H35/F14","v":0.14516129032258066},4.5,{"$f":"J35/F14","v":7.2580645161290328E-2},1.3499999999999999,{"$f":"L35/F14","v":2.1774193548387093E-2},6.9444444444444448E-2,2.7777777777777776E-2]
[null,null,{"$f":"Т0!C39","v":"Елаборат за заштита при работа"},{"$f":"F36/F43","v":1.8518518518518517E-2},null,20,{"$f":"F36/F14","v":0.32258064516129031},6,{"$f":"H36/F14","v":9.6774193548387094E-2},3,{"$f":"J36/F14","v":4.8387096774193547E-2},0.89999999999999991,{"$f":"L36/F14","v":1.4516129032258063E-2},4.6296296296296294E-2,1.8518518518518517E-2]
[null,null,{"$f":"Т0!C42","v":"Елаборат за енергетска ефикасност"},{"$f":"F37/F43","v":1.8518518518518517E-2},null,20,{"$f":"F37/F14","v":0.32258064516129031},6,{"$f":"H37/F14","v":9.6774193548387094E-2},3,{"$f":"J37/F14","v":4.8387096774193547E-2},0.89999999999999991,{"$f":"L37/F14","v":1.4516129032258063E-2},{"$f":"N$43*(F37/$F$43*100)","v":4.6296296296296294E-2},{"$f":"O$43*(F37/$F$43*100)","v":1.8518518518518517E-2}]
[null,null,{"$f":"Т0!C43","v":"Елаборат за заштита на животната средина"},{"$f":"F38/F43","v":1.8518518518518517E-2},null,20,{"$f":"F38/F14","v":0.32258064516129031},{"$f":"F38*0.3","v":6},{"$f":"H38/F14","v":9.6774193548387094E-2},{"$f":"F38*0.15","v":3},{"$f":"J38/F14","v":4.8387096774193547E-2},{"$f":"J38*0.3","v":0.89999999999999991},{"$f":"L38/F14","v":1.4516129032258063E-2},4.7123015873015872E-2,1.8849206349206348E-2]
[null,null,{"$f":"Т0!C37","v":"Сообраќаен проект"},{"$f":"F39/F43","v":1.8518518518518517E-2},null,20,{"$f":"F39/F14","v":0.32258064516129031},{"$f":"F39*0.3","v":6},{"$f":"H39/F14","v":9.6774193548387094E-2},{"$f":"F39*0.15","v":3},{"$f":"J39/F14","v":4.8387096774193547E-2},{"$f":"J39*0.3","v":0.89999999999999991},{"$f":"L39/F14","v":1.4516129032258063E-2},4.7123015873015872E-2,1.8849206349206348E-2]
[]
[null,null,{"$f":"Т0!C47","v":"Координација на проект"},{"$f":"F41/F43","v":0.05},null,{"$f":"SUM(F28:F39)/0.95-SUM(F28:F39)","v":54},{"$f":"F41/F14","v":0.87096774193548387},{"$f":"SUM(H28:H37)/0.95-SUM(H28:H37)","v":15.568421052631606},{"$f":"H41/F14","v":0.25110356536502593},{"$f":"F41*0.15","v":8.1},{"$f":"J41/F14","v":0.13064516129032258},{"$f":"SUM(L28:L37)/0.95-SUM(L28:L37)","v":2.3352631578947367},{"$f":"L41/F14","v":3.766553480475382E-2},{"$f":"N$43*(F41/$F$43*100)","v":0.125},{"$f":"O$43*(F41/$F$43*100)","v":0.05}]
[]
[null,null,{"$f":"Т0!C49","v":"Вкупно:"},{"$f":"SUM(D28:D41)","v":1},null,{"$f":"SUM(F27:F42)","v":1080},{"$f":"F43/F14","v":17.419354838709676},{"$f":"SUM(H28:H41)","v":323.36842105263162},{"$f":"H43/F14","v":5.2156196943972839},{"$f":"SUM(J28:J41)","v":162},{"$f":"J43/F14","v":2.6129032258064515},{"$f":"SUM(L28:L41)","v":48.505263157894724},{"$f":"L43/F14","v":0.78234295415959232},2.5000000000000001E-2,0.01]

{"sheet":"Г5-I","index":45,"n_rows":43,"n_cols":15,"rows_kept":43,"cut":false,"hidden":true,"merged":[[24,5,24,6],[24,7,24,8],[24,9,24,10],[24,11,24,12],[22,5,23,6],[22,7,22,8],[22,9,23,10],[22,11,22,12],[22,13,23,13],[22,14,23,14],[23,7,23,8],[23,11,23,12],[18,3,18,5],[18,6,18,7],[18,9,18,12],[20,5,21,8],[20,9,20,12],[20,13,21,14],[21,9,21,12],[16,3,16,5],[16,6,16,7],[16,9,16,12],[17,3,17,5],[17,6,17,7],[17,9,17,12],[13,6,13,7],[13,9,13,12],[14,9,14,12],[15,3,15,5],[15,6,15,7],[15,9,15,12],[11,3,11,5],[11,6,11,7],[11,9,11,12],[12,3,12,5],[12,6,12,7],[12,9,12,12],[9,3,9,5],[9,6,9,7],[9,9,9,12],[10,3,10,5],[10,6,10,7],[10,9,10,12],[2,3,2,14],[4,2,4,14],[7,9,7,12],[7,13,7,14],[8,6,8,7],[8,9,8,12],[5,2,5,14]]}
[]
[]
[null,null,{"$f":"' Помош - Каталог на намени'!D49","v":"Г5-I"},{"$f":"' Помош - Каталог на намени'!E49","v":"ЗЕМЈОДЕЛСКО И СТОЧАРСКО ПРОИЗВОДСТВО\n(I ГРУПА)"}]
[]
[null,null,{"$f":"' Помош - Каталог на намени'!F49","v":"Г5.1. - Одгледување на животни: штали за ситни грла - свињи, овци и перната живина, штали за крупни грла – говеда и коњи, специјализирани штали за молзење и слично\nГ5.2. - Објекти за примарна обработка на земјоделски производи\nГ5.3. - Стационари, ветеринарни станици и амбуланти, кафилерии за потребите на земјоделството\nГ5.4. - Хангари за механизација, амбари, трапови, сило-јами и други помошни објекти за потребите на земјоделството и сточарството\nГ5.5. - Складишта за земјоделски производи, ладилници за земјоделски производи, вкопани, полувкопани и надземни ќелиски складови, силоси, складишта за материјали за земјоделско производство"}]
[null,null,{"$f":"Т0!C6","v":"*Напомена: Одредувањето на цената за проектирање на секој од објектите се одредува според неговата основна намена. Доколку некој објект нема специфична јасно одредена класа на намена, цената за проектирање се одредува според групата на објекти во кои е класифициран"}]
[]
[null,null,{"$f":"Т0!C8","v":"Површина на градба"},null,null,{"$f":"Калкулатор!D9","v":0},{"$f":"Т0!G8","v":"m²"},{"$f":"Т0!H8","v":"(варијабла)"},null,{"$f":"Т0!J8","v":"Вид на инженерска услуга"},null,null,null,{"$f":"Т0!N8","v":"Минимална вкупна цена"}]
[null,null,null,null,null,null,null,null,null,{"$f":"Т0!J9","v":"1. Изработка на проектна документација (1.1.+1.2)"},null,null,null,{"$f":"SUM(N10:N11)","v":0},{"$f":"SUM(O10:O11)","v":0}]
[null,null,{"$f":"Т0!C10","v":"Просечна цена на изведба за 1 m²"},{"$f":"G10*F14","v":41850},null,null,{"$f":"' Помош - Каталог на намени'!G49","v":675},null,null,{"$f":"Т0!J10","v":"1.1. Изработка на основен проект"},null,null,null,{"$f":"F8*F43","v":0},{"$f":"N10/F14","v":0}]
[null,null,null,null,null,null,null,null,null,{"$f":"Т0!J11","v":"1.2. Изработка на идеен проект"},null,null,null,{"$f":"F8*H43","v":0},{"$f":"N11/F14","v":0}]
[null,null,{"$f":"Т0!C12","v":"Вкупна инвестициона градежна  вредност"},{"$f":"F8*D10","v":0},null,null,{"$f":"D12/F14","v":0}]
[null,null,null,null,null,null,null,null,null,{"$f":"Т0!J13","v":"2. Ревизија на проектна документација (2.1.+2.2.)"},null,null,null,{"$f":"SUM(N14:N15)","v":0},{"$f":"SUM(O14:O15)","v":0}]
[null,null,{"$f":"Т0!C14","v":"Вредност на евро валута"},{"$f":"Т0!D14","v":1},{"$f":"Т0!E14","v":"="},{"$f":"Т0!F14","v":62},null,null,null,{"$f":"Т0!J14","v":"2.1. Ревизија на основен проект"},null,null,null,{"$f":"F8*J43","v":0},{"$f":"N14/F14","v":0}]
[null,null,null,null,null,null,null,null,null,{"$f":"Т0!J15","v":"2.2. Ревизија на идеен проект"},null,null,null,{"$f":"F8*L43","v":0},{"$f":"N15/F14","v":0}]
[null,null,{"$f":"Т0!C16","v":"Изработка на Основен проект"},{"$f":"Т0!D16:F16","v":"Ревизија на Основен проект"},null,null,{"$f":"Т0!G16:H16","v":"Надзор на изградба"}]
[null,null,{"$f":"G43/G10","v":2.5806451612903222E-2},{"$f":"K43/G10","v":3.8709677419354839E-3},null,null,{"$f":"N43","v":2.5000000000000001E-2},null,null,{"$f":"Т0!J17","v":"3. Надзор на градба (3.1.+3.2.)"},null,null,null,{"$f":"SUM(N18:N19)","v":0},{"$f":"SUM(O18:O19)","v":0}]
[null,null,{"$f":"Т0!C18","v":"Изработка на Идеен проект"},{"$f":"Т0!D18:F18","v":"Ревизија на Идеен проект"},null,null,{"$f":"Т0!G18:H18","v":"Проектантски надзор"},null,null,{"$f":"Т0!J18","v":"3.1. Надзор на градба"},null,null,null,{"$f":"F8*D10*N43","v":0},{"$f":"N18/F14","v":0}]
[null,null,{"$f":"I43/G10","v":7.7268439916996796E-3},{"$f":"M43/G10","v":1.1590265987549517E-3},null,null,{"$f":"O43","v":0.01},null,null,{"$f":"Т0!J19","v":"3.2. Проектантски надзор"},null,null,null,{"$f":"F8*D10*O43","v":0},{"$f":"N19/F14","v":0}]
[]
[null,null,null,null,null,{"$f":"Т0!F21","v":"Изработка на проектна документација"},null,null,null,{"$f":"Т0!J21","v":"Ревизија на проектна документација"},null,null,null,{"$f":"Т0!N21","v":"Надзор на изградба"}]
[null,null,null,null,null,null,null,null,null,{"$f":"Т0!J22","v":"(15% од вредноста на Изработка на проектна документација)"}]
[null,null,null,null,null,{"$f":"Т0!F23","v":"Основен проект"},null,{"$f":"Т0!H23","v":"Идеен проект"},null,{"$f":"Т0!J23","v":"Основен проект"},null,{"$f":"Т0!L23","v":"Идеен проект"},null,{"$f":"Т0!N23","v":"Надзор на изградба"},{"$f":"Т0!O23","v":"Проектантски надзор"}]
[null,null,null,null,null,null,null,{"$f":"Т0!H24","v":"(30% од вредноста на основниот проект)"},null,null,null,{"$f":"Т0!L24","v":"(30% од вредноста на ревизија на основниот проект)"}]
[null,null,{"$f":"Т0!C25","v":"Вид на проект"},{"$f":"Т0!D25","v":"Удел"},null,{"$f":"Т0!F25","v":"Минимална цена"},null,{"$f":"Т0!H25","v":"Минимална цена"},null,{"$f":"Т0!J25","v":"Минимална цена"},null,{"$f":"Т0!L25","v":"Минимална цена"},null,{"$f":"Т0!N25","v":"Минимален процент од инвестиција"},{"$f":"Т0!O25","v":"Минимален процент од инвестиција"}]
[null,null,{"$f":"Т0!C26","v":"(според намената)"},{"$f":"Т0!D26","v":"[%]"},null,{"$f":"Т0!F26","v":"[денари/m²]"},{"$f":"Т0!G26","v":"[€/m²]"},{"$f":"Т0!H26","v":"[денари/m²]"},{"$f":"Т0!I26","v":"[€/m²]"},{"$f":"Т0!J26","v":"[денари/m²]"},{"$f":"Т0!K26","v":"[€/m²]"},{"$f":"Т0!L26","v":"[денари/m²]"},{"$f":"Т0!M26","v":"[€/m²]"},{"$f":"Т0!N26","v":"[%]"},"[%]"]
[]
[null,null,{"$f":"Т0!C28","v":"Архитектонски проект"},{"$f":"F28/F43","v":0.33796296296296297},null,365,{"$f":"F28/F14","v":5.887096774193548},{"$f":"F28*0.3","v":109.5},{"$f":"H28/F14","v":1.7661290322580645},{"$f":"F28*0.15","v":54.75},{"$f":"J28/F14","v":0.88306451612903225},{"$f":"J28*0.3","v":16.425000000000001},{"$f":"L28/F14","v":0.26491935483870971},{"$f":"N$43*(F28/$F$43*100)","v":0.84490740740740744},{"$f":"O$43*(F28/$F$43*100)","v":0.33796296296296297}]
[null,null,{"$f":"Т0!C29","v":"Градежно-конструктивен проект"},{"$f":"F29/F43","v":0.21296296296296297},null,230,{"$f":"F29/F14","v":3.7096774193548385},69,{"$f":"H29/F14","v":1.1129032258064515},34.5,{"$f":"J29/F14","v":0.55645161290322576},10.35,{"$f":"L29/F14","v":0.16693548387096774},0.53240740740740744,0.21296296296296299]
[null,null,{"$f":"Т0!C30","v":"Електротехнички проект"},{"$f":"F30/F43","v":0.1111111111111111},null,120,{"$f":"F30/F14","v":1.935483870967742},36,{"$f":"H30/F14","v":0.58064516129032262},18,{"$f":"J30/F14","v":0.29032258064516131},5.3999999999999995,{"$f":"L30/F14","v":8.7096774193548374E-2},0.27777777777777779,0.1111111111111111]
[null,null,{"$f":"Т0!C32","v":"Проект за водовод и канализација"},{"$f":"F31/F43","v":5.648148148148148E-2},null,61,{"$f":"F31/F14","v":0.9838709677419355},18.3,{"$f":"H31/F14","v":0.29516129032258065},9.15,{"$f":"J31/F14","v":0.14758064516129032},2.7450000000000001,{"$f":"L31/F14","v":4.4274193548387096E-2},0.14120370370370369,5.648148148148148E-2]
[null,null,{"$f":"Т0!C33","v":"Термотехнички проект"},{"$f":"F32/F43","v":7.407407407407407E-2},null,80,{"$f":"F32/F14","v":1.2903225806451613},24,{"$f":"H32/F14","v":0.38709677419354838},12,{"$f":"J32/F14","v":0.19354838709677419},3.5999999999999996,{"$f":"L32/F14","v":5.8064516129032254E-2},0.18518518518518517,7.407407407407407E-2]
[null,null,{"$f":"Т0!C36","v":"Технолошки проект"},{"$f":"F33/F43","v":2.7777777777777776E-2},null,30,{"$f":"F33/F14","v":0.4838709677419355},9,{"$f":"H33/F14","v":0.14516129032258066},4.5,{"$f":"J33/F14","v":7.2580645161290328E-2},1.3499999999999999,{"$f":"L33/F14","v":2.1774193548387093E-2},6.9444444444444448E-2,2.7777777777777776E-2]
[null,null,{"$f":"Т0!C44","v":"Проект за  партерно уредување и сообраќај"},{"$f":"F34/F43","v":3.2407407407407406E-2},null,35,{"$f":"F34/F14","v":0.56451612903225812},10.5,{"$f":"H34/F14","v":0.16935483870967741},5.25,{"$f":"J34/F14","v":8.4677419354838704E-2},1.575,{"$f":"L34/F14","v":2.5403225806451612E-2},8.1018518518518517E-2,3.2407407407407406E-2]
[null,null,{"$f":"Т0!C38","v":"Елаборат за заштита од пожари"},{"$f":"F35/F43","v":2.3148148148148147E-2},null,25,{"$f":"F35/F14","v":0.40322580645161288},7.5,{"$f":"H35/F14","v":0.12096774193548387},3.75,{"$f":"J35/F14","v":6.0483870967741937E-2},1.125,{"$f":"L35/F14","v":1.8145161290322582E-2},5.7870370370370378E-2,2.314814814814815E-2]
[null,null,{"$f":"Т0!C39","v":"Елаборат за заштита при работа"},{"$f":"F36/F43","v":1.8518518518518517E-2},null,20,{"$f":"F36/F14","v":0.32258064516129031},6,{"$f":"H36/F14","v":9.6774193548387094E-2},3,{"$f":"J36/F14","v":4.8387096774193547E-2},0.89999999999999991,{"$f":"L36/F14","v":1.4516129032258063E-2},4.6296296296296294E-2,1.8518518518518517E-2]
[null,null,{"$f":"Т0!C42","v":"Елаборат за енергетска ефикасност"},{"$f":"F37/F43","v":1.8518518518518517E-2},null,20,{"$f":"F37/F14","v":0.32258064516129031},6,{"$f":"H37/F14","v":9.6774193548387094E-2},3,{"$f":"J37/F14","v":4.8387096774193547E-2},0.89999999999999991,{"$f":"L37/F14","v":1.4516129032258063E-2},{"$f":"N$43*(F37/$F$43*100)","v":4.6296296296296294E-2},{"$f":"O$43*(F37/$F$43*100)","v":1.8518518518518517E-2}]
[null,null,{"$f":"Т0!C43","v":"Елаборат за заштита на животната средина"},{"$f":"F38/F43","v":1.8518518518518517E-2},null,20,{"$f":"F38/F14","v":0.32258064516129031},{"$f":"F38*0.3","v":6},{"$f":"H38/F14","v":9.6774193548387094E-2},{"$f":"F38*0.15","v":3},{"$f":"J38/F14","v":4.8387096774193547E-2},{"$f":"J38*0.3","v":0.89999999999999991},{"$f":"L38/F14","v":1.4516129032258063E-2},4.7123015873015872E-2,1.8849206349206348E-2]
[null,null,{"$f":"Т0!C37","v":"Сообраќаен проект"},{"$f":"F39/F43","v":1.8518518518518517E-2},null,20,{"$f":"F39/F14","v":0.32258064516129031},{"$f":"F39*0.3","v":6},{"$f":"H39/F14","v":9.6774193548387094E-2},{"$f":"F39*0.15","v":3},{"$f":"J39/F14","v":4.8387096774193547E-2},{"$f":"J39*0.3","v":0.89999999999999991},{"$f":"L39/F14","v":1.4516129032258063E-2},4.7123015873015872E-2,1.8849206349206348E-2]
[]
[null,null,{"$f":"Т0!C47","v":"Координација на проект"},{"$f":"F41/F43","v":0.05},null,{"$f":"SUM(F28:F39)/0.95-SUM(F28:F39)","v":54},{"$f":"F41/F14","v":0.87096774193548387},{"$f":"SUM(H28:H37)/0.95-SUM(H28:H37)","v":15.568421052631606},{"$f":"H41/F14","v":0.25110356536502593},{"$f":"F41*0.15","v":8.1},{"$f":"J41/F14","v":0.13064516129032258},{"$f":"SUM(L28:L37)/0.95-SUM(L28:L37)","v":2.3352631578947367},{"$f":"L41/F14","v":3.766553480475382E-2},{"$f":"N$43*(F41/$F$43*100)","v":0.125},{"$f":"O$43*(F41/$F$43*100)","v":0.05}]
[]
[null,null,{"$f":"Т0!C49","v":"Вкупно:"},{"$f":"SUM(D28:D41)","v":0.99999999999999989},null,{"$f":"SUM(F27:F42)","v":1080},{"$f":"F43/F14","v":17.419354838709676},{"$f":"SUM(H28:H41)","v":323.36842105263162},{"$f":"H43/F14","v":5.2156196943972839},{"$f":"SUM(J28:J41)","v":162},{"$f":"J43/F14","v":2.6129032258064515},{"$f":"SUM(L28:L41)","v":48.505263157894731},{"$f":"L43/F14","v":0.78234295415959243},2.5000000000000001E-2,0.01]

{"sheet":"Г5-II","index":46,"n_rows":43,"n_cols":15,"rows_kept":43,"cut":false,"hidden":true,"merged":[[24,5,24,6],[24,7,24,8],[24,9,24,10],[24,11,24,12],[22,5,23,6],[22,7,22,8],[22,9,23,10],[22,11,22,12],[22,13,23,13],[22,14,23,14],[23,7,23,8],[23,11,23,12],[18,3,18,5],[18,6,18,7],[18,9,18,12],[20,5,21,8],[20,9,20,12],[20,13,21,14],[21,9,21,12],[16,3,16,5],[16,6,16,7],[16,9,16,12],[17,3,17,5],[17,6,17,7],[17,9,17,12],[13,6,13,7],[13,9,13,12],[14,9,14,12],[15,3,15,5],[15,6,15,7],[15,9,15,12],[11,3,11,5],[11,6,11,7],[11,9,11,12],[12,3,12,5],[12,6,12,7],[12,9,12,12],[9,3,9,5],[9,6,9,7],[9,9,9,12],[10,3,10,5],[10,6,10,7],[10,9,10,12],[2,3,2,14],[4,2,4,14],[7,9,7,12],[7,13,7,14],[8,6,8,7],[8,9,8,12],[5,2,5,14]]}
[]
[]
[null,null,{"$f":"' Помош - Каталог на намени'!D50","v":"Г5-II"},{"$f":"' Помош - Каталог на намени'!E50","v":"ЗЕМЈОДЕЛСКО И СТОЧАРСКО ПРОИЗВОДСТВО\n(II ГРУПА)"}]
[]
[null,null,{"$f":"' Помош - Каталог на намени'!F50","v":"Г5.6. - Рибници: езерски, базенски и проточни рибници\nГ5.7. - Оранжерии"}]
[null,null,{"$f":"Т0!C6","v":"*Напомена: Одредувањето на цената за проектирање на секој од објектите се одредува според неговата основна намена. Доколку некој објект нема специфична јасно одредена класа на намена, цената за проектирање се одредува според групата на објекти во кои е класифициран"}]
[]
[null,null,{"$f":"Т0!C8","v":"Површина на градба"},null,null,{"$f":"Калкулатор!D9","v":0},{"$f":"Т0!G8","v":"m²"},{"$f":"Т0!H8","v":"(варијабла)"},null,{"$f":"Т0!J8","v":"Вид на инженерска услуга"},null,null,null,{"$f":"Т0!N8","v":"Минимална вкупна цена"}]
[null,null,null,null,null,null,null,null,null,{"$f":"Т0!J9","v":"1. Изработка на проектна документација (1.1.+1.2)"},null,null,null,{"$f":"SUM(N10:N11)","v":0},{"$f":"SUM(O10:O11)","v":0}]
[null,null,{"$f":"Т0!C10","v":"Просечна цена на изведба за 1 m²"},{"$f":"G10*F14","v":41850},null,null,{"$f":"' Помош - Каталог на намени'!G50","v":675},null,null,{"$f":"Т0!J10","v":"1.1. Изработка на основен проект"},null,null,null,{"$f":"F8*F43","v":0},{"$f":"N10/F14","v":0}]
[null,null,null,null,null,null,null,null,null,{"$f":"Т0!J11","v":"1.2. Изработка на идеен проект"},null,null,null,{"$f":"F8*H43","v":0},{"$f":"N11/F14","v":0}]
[null,null,{"$f":"Т0!C12","v":"Вкупна инвестициона градежна  вредност"},{"$f":"F8*D10","v":0},null,null,{"$f":"D12/F14","v":0}]
[null,null,null,null,null,null,null,null,null,{"$f":"Т0!J13","v":"2. Ревизија на проектна документација (2.1.+2.2.)"},null,null,null,{"$f":"SUM(N14:N15)","v":0},{"$f":"SUM(O14:O15)","v":0}]
[null,null,{"$f":"Т0!C14","v":"Вредност на евро валута"},{"$f":"Т0!D14","v":1},{"$f":"Т0!E14","v":"="},{"$f":"Т0!F14","v":62},null,null,null,{"$f":"Т0!J14","v":"2.1. Ревизија на основен проект"},null,null,null,{"$f":"F8*J43","v":0},{"$f":"N14/F14","v":0}]
[null,null,null,null,null,null,null,null,null,{"$f":"Т0!J15","v":"2.2. Ревизија на идеен проект"},null,null,null,{"$f":"F8*L43","v":0},{"$f":"N15/F14","v":0}]
[null,null,{"$f":"Т0!C16","v":"Изработка на Основен проект"},{"$f":"Т0!D16:F16","v":"Ревизија на Основен проект"},null,null,{"$f":"Т0!G16:H16","v":"Надзор на изградба"}]
[null,null,{"$f":"G43/G10","v":2.5806451612903222E-2},{"$f":"K43/G10","v":3.8709677419354839E-3},null,null,{"$f":"N43","v":2.5000000000000001E-2},null,null,{"$f":"Т0!J17","v":"3. Надзор на градба (3.1.+3.2.)"},null,null,null,{"$f":"SUM(N18:N19)","v":0},{"$f":"SUM(O18:O19)","v":0}]
[null,null,{"$f":"Т0!C18","v":"Изработка на Идеен проект"},{"$f":"Т0!D18:F18","v":"Ревизија на Идеен проект"},null,null,{"$f":"Т0!G18:H18","v":"Проектантски надзор"},null,null,{"$f":"Т0!J18","v":"3.1. Надзор на градба"},null,null,null,{"$f":"F8*D10*N43","v":0},{"$f":"N18/F14","v":0}]
[null,null,{"$f":"I43/G10","v":7.7268439916996796E-3},{"$f":"M43/G10","v":1.1590265987549517E-3},null,null,{"$f":"O43","v":0.01},null,null,{"$f":"Т0!J19","v":"3.2. Проектантски надзор"},null,null,null,{"$f":"F8*D10*O43","v":0},{"$f":"N19/F14","v":0}]
[]
[null,null,null,null,null,{"$f":"Т0!F21","v":"Изработка на проектна документација"},null,null,null,{"$f":"Т0!J21","v":"Ревизија на проектна документација"},null,null,null,{"$f":"Т0!N21","v":"Надзор на изградба"}]
[null,null,null,null,null,null,null,null,null,{"$f":"Т0!J22","v":"(15% од вредноста на Изработка на проектна документација)"}]
[null,null,null,null,null,{"$f":"Т0!F23","v":"Основен проект"},null,{"$f":"Т0!H23","v":"Идеен проект"},null,{"$f":"Т0!J23","v":"Основен проект"},null,{"$f":"Т0!L23","v":"Идеен проект"},null,{"$f":"Т0!N23","v":"Надзор на изградба"},{"$f":"Т0!O23","v":"Проектантски надзор"}]
[null,null,null,null,null,null,null,{"$f":"Т0!H24","v":"(30% од вредноста на основниот проект)"},null,null,null,{"$f":"Т0!L24","v":"(30% од вредноста на ревизија на основниот проект)"}]
[null,null,{"$f":"Т0!C25","v":"Вид на проект"},{"$f":"Т0!D25","v":"Удел"},null,{"$f":"Т0!F25","v":"Минимална цена"},null,{"$f":"Т0!H25","v":"Минимална цена"},null,{"$f":"Т0!J25","v":"Минимална цена"},null,{"$f":"Т0!L25","v":"Минимална цена"},null,{"$f":"Т0!N25","v":"Минимален процент од инвестиција"},{"$f":"Т0!O25","v":"Минимален процент од инвестиција"}]
[null,null,{"$f":"Т0!C26","v":"(според намената)"},{"$f":"Т0!D26","v":"[%]"},null,{"$f":"Т0!F26","v":"[денари/m²]"},{"$f":"Т0!G26","v":"[€/m²]"},{"$f":"Т0!H26","v":"[денари/m²]"},{"$f":"Т0!I26","v":"[€/m²]"},{"$f":"Т0!J26","v":"[денари/m²]"},{"$f":"Т0!K26","v":"[€/m²]"},{"$f":"Т0!L26","v":"[денари/m²]"},{"$f":"Т0!M26","v":"[€/m²]"},{"$f":"Т0!N26","v":"[%]"},"[%]"]
[]
[null,null,{"$f":"Т0!C28","v":"Архитектонски проект"},{"$f":"F28/F43","v":0.2361111111111111},null,255,{"$f":"F28/F14","v":4.112903225806452},{"$f":"F28*0.3","v":76.5},{"$f":"H28/F14","v":1.2338709677419355},{"$f":"F28*0.15","v":38.25},{"$f":"J28/F14","v":0.61693548387096775},{"$f":"J28*0.3","v":11.475},{"$f":"L28/F14","v":0.18508064516129033},{"$f":"N$43*(F28/$F$43*100)","v":0.59027777777777779},{"$f":"O$43*(F28/$F$43*100)","v":0.2361111111111111}]
[null,null,{"$f":"Т0!C29","v":"Градежно-конструктивен проект"},{"$f":"F29/F43","v":0.19444444444444445},null,210,{"$f":"F29/F14","v":3.3870967741935485},63,{"$f":"H29/F14","v":1.0161290322580645},31.5,{"$f":"J29/F14","v":0.50806451612903225},9.4499999999999993,{"$f":"L29/F14","v":0.15241935483870966},0.48611111111111116,0.19444444444444448]
[null,null,{"$f":"Т0!C30","v":"Електротехнички проект"},{"$f":"F30/F43","v":0.1111111111111111},null,120,{"$f":"F30/F14","v":1.935483870967742},36,{"$f":"H30/F14","v":0.58064516129032262},18,{"$f":"J30/F14","v":0.29032258064516131},5.3999999999999995,{"$f":"L30/F14","v":8.7096774193548374E-2},0.27777777777777779,0.1111111111111111]
[null,null,{"$f":"Т0!C32","v":"Проект за водовод и канализација"},{"$f":"F31/F43","v":5.648148148148148E-2},null,61,{"$f":"F31/F14","v":0.9838709677419355},18.3,{"$f":"H31/F14","v":0.29516129032258065},9.15,{"$f":"J31/F14","v":0.14758064516129032},2.7450000000000001,{"$f":"L31/F14","v":4.4274193548387096E-2},0.14120370370370369,5.648148148148148E-2]
[null,null,{"$f":"Т0!C33","v":"Термотехнички проект"},{"$f":"F32/F43","v":0.1111111111111111},null,120,{"$f":"F32/F14","v":1.935483870967742},36,{"$f":"H32/F14","v":0.58064516129032262},18,{"$f":"J32/F14","v":0.29032258064516131},5.3999999999999995,{"$f":"L32/F14","v":8.7096774193548374E-2},0.27777777777777779,0.1111111111111111]
[null,null,{"$f":"Т0!C36","v":"Технолошки проект"},{"$f":"F33/F43","v":0.1111111111111111},null,120,{"$f":"F33/F14","v":1.935483870967742},36,{"$f":"H33/F14","v":0.58064516129032262},18,{"$f":"J33/F14","v":0.29032258064516131},5.3999999999999995,{"$f":"L33/F14","v":8.7096774193548374E-2},0.27777777777777779,0.1111111111111111]
[null,null,{"$f":"Т0!C44","v":"Проект за  партерно уредување и сообраќај"},{"$f":"F34/F43","v":2.7777777777777776E-2},null,30,{"$f":"F34/F14","v":0.4838709677419355},9,{"$f":"H34/F14","v":0.14516129032258066},4.5,{"$f":"J34/F14","v":7.2580645161290328E-2},1.3499999999999999,{"$f":"L34/F14","v":2.1774193548387093E-2},6.9444444444444448E-2,2.7777777777777776E-2]
[null,null,{"$f":"Т0!C38","v":"Елаборат за заштита од пожари"},{"$f":"F35/F43","v":2.7777777777777776E-2},null,30,{"$f":"F35/F14","v":0.4838709677419355},9,{"$f":"H35/F14","v":0.14516129032258066},4.5,{"$f":"J35/F14","v":7.2580645161290328E-2},1.3499999999999999,{"$f":"L35/F14","v":2.1774193548387093E-2},6.9444444444444448E-2,2.7777777777777776E-2]
[null,null,{"$f":"Т0!C39","v":"Елаборат за заштита при работа"},{"$f":"F36/F43","v":1.8518518518518517E-2},null,20,{"$f":"F36/F14","v":0.32258064516129031},6,{"$f":"H36/F14","v":9.6774193548387094E-2},3,{"$f":"J36/F14","v":4.8387096774193547E-2},0.89999999999999991,{"$f":"L36/F14","v":1.4516129032258063E-2},4.6296296296296294E-2,1.8518518518518517E-2]
[null,null,{"$f":"Т0!C42","v":"Елаборат за енергетска ефикасност"},{"$f":"F37/F43","v":1.8518518518518517E-2},null,20,{"$f":"F37/F14","v":0.32258064516129031},6,{"$f":"H37/F14","v":9.6774193548387094E-2},3,{"$f":"J37/F14","v":4.8387096774193547E-2},0.89999999999999991,{"$f":"L37/F14","v":1.4516129032258063E-2},{"$f":"N$43*(F37/$F$43*100)","v":4.6296296296296294E-2},{"$f":"O$43*(F37/$F$43*100)","v":1.8518518518518517E-2}]
[null,null,{"$f":"Т0!C43","v":"Елаборат за заштита на животната средина"},{"$f":"F38/F43","v":1.8518518518518517E-2},null,20,{"$f":"F38/F14","v":0.32258064516129031},{"$f":"F38*0.3","v":6},{"$f":"H38/F14","v":9.6774193548387094E-2},{"$f":"F38*0.15","v":3},{"$f":"J38/F14","v":4.8387096774193547E-2},{"$f":"J38*0.3","v":0.89999999999999991},{"$f":"L38/F14","v":1.4516129032258063E-2},4.7027840481565081E-2,1.8811136192626032E-2]
[null,null,{"$f":"Т0!C37","v":"Сообраќаен проект"},{"$f":"F39/F43","v":1.8518518518518517E-2},null,20,{"$f":"F39/F14","v":0.32258064516129031},{"$f":"F39*0.3","v":6},{"$f":"H39/F14","v":9.6774193548387094E-2},{"$f":"F39*0.15","v":3},{"$f":"J39/F14","v":4.8387096774193547E-2},{"$f":"J39*0.3","v":0.89999999999999991},{"$f":"L39/F14","v":1.4516129032258063E-2},4.7027840481565081E-2,1.8811136192626032E-2]
[]
[null,null,{"$f":"Т0!C47","v":"Координација на проект"},{"$f":"F41/F43","v":0.05},null,{"$f":"SUM(F28:F39)/0.95-SUM(F28:F39)","v":54},{"$f":"F41/F14","v":0.87096774193548387},{"$f":"SUM(H28:H37)/0.95-SUM(H28:H37)","v":15.568421052631606},{"$f":"H41/F14","v":0.25110356536502593},{"$f":"F41*0.15","v":8.1},{"$f":"J41/F14","v":0.13064516129032258},{"$f":"SUM(L28:L37)/0.95-SUM(L28:L37)","v":2.3352631578947367},{"$f":"L41/F14","v":3.766553480475382E-2},{"$f":"N$43*(F41/$F$43*100)","v":0.125},{"$f":"O$43*(F41/$F$43*100)","v":0.05}]
[]
[null,null,{"$f":"Т0!C49","v":"Вкупно:"},{"$f":"SUM(D28:D41)","v":1},null,{"$f":"SUM(F27:F42)","v":1080},{"$f":"F43/F14","v":17.419354838709676},{"$f":"SUM(H28:H41)","v":323.36842105263162},{"$f":"H43/F14","v":5.2156196943972839},{"$f":"SUM(J28:J41)","v":162},{"$f":"J43/F14","v":2.6129032258064515},{"$f":"SUM(L28:L41)","v":48.505263157894731},{"$f":"L43/F14","v":0.78234295415959243},2.5000000000000001E-2,0.01]

{"sheet":"Д1-I","index":47,"n_rows":34,"n_cols":15,"rows_kept":34,"cut":false,"hidden":true,"merged":[[23,5,23,6],[23,7,23,8],[23,9,23,10],[23,11,23,12],[21,5,22,6],[21,7,21,8],[21,9,22,10],[21,11,21,12],[21,13,22,13],[21,14,22,14],[22,7,22,8],[22,11,22,12],[17,3,17,5],[17,6,17,7],[17,9,17,12],[19,5,20,8],[19,9,19,12],[19,13,20,14],[20,9,20,12],[15,3,15,5],[15,6,15,7],[15,9,15,12],[16,3,16,5],[16,6,16,7],[16,9,16,12],[12,6,12,7],[12,9,12,12],[13,9,13,12],[14,3,14,5],[14,6,14,7],[14,9,14,12],[10,3,10,5],[10,6,10,7],[10,9,10,12],[11,3,11,5],[11,6,11,7],[11,9,11,12],[8,3,8,5],[8,6,8,7],[8,9,8,12],[9,3,9,5],[9,6,9,7],[9,9,9,12],[2,3,2,14],[4,2,4,14],[6,9,6,12],[6,13,6,14],[7,6,7,7],[7,9,7,12]]}
[]
[]
[null,null,{"$f":"' Помош - Каталог на намени'!D52","v":"Д1-I"},{"$f":"' Помош - Каталог на намени'!E52","v":"ПАРКОВСКО И ПЕЈЗАЖНО ЗЕЛЕНИЛО\n(I ГРУПА)"}]
[]
[null,null,{"$f":"' Помош - Каталог на намени'!F52","v":"Д1.1. - Јавни градски паркови, зелени скверови\nД1.2. - Јавно урбано зеленило\nД1.3. - Урбани парк-шуми, приградски парк-шуми\nД1.5. - Урбани ледини, тревнати терени"}]
[]
[null,null,{"$f":"Т0!C8","v":"Површина на градба"},null,null,{"$f":"Калкулатор!D9","v":0},{"$f":"Т0!G8","v":"m²"},{"$f":"Т0!H8","v":"(варијабла)"},null,{"$f":"Т0!J8","v":"Вид на инженерска услуга"},null,null,null,{"$f":"Т0!N8","v":"Минимална вкупна цена"}]
[null,null,null,null,null,null,null,null,null,{"$f":"Т0!J9","v":"1. Изработка на проектна документација (1.1.+1.2)"},null,null,null,{"$f":"SUM(N9:N10)","v":0},{"$f":"SUM(O9:O10)","v":0}]
[null,null,{"$f":"Т0!C10","v":"Просечна цена на изведба за 1 m²"},{"$f":"G9*F13","v":12710},null,null,{"$f":"' Помош - Каталог на намени'!G52","v":205},null,null,{"$f":"Т0!J10","v":"1.1. Изработка на основен проект"},null,null,null,{"$f":"F7*F34","v":0},{"$f":"N9/F13","v":0}]
[null,null,null,null,null,null,null,null,null,{"$f":"Т0!J11","v":"1.2. Изработка на идеен проект"},null,null,null,{"$f":"F7*H34","v":0},{"$f":"N10/F13","v":0}]
[null,null,{"$f":"Т0!C12","v":"Вкупна инвестициона градежна  вредност"},{"$f":"F7*D9","v":0},null,null,{"$f":"D11/F13","v":0}]
[null,null,null,null,null,null,null,null,null,{"$f":"Т0!J13","v":"2. Ревизија на проектна документација (2.1.+2.2.)"},null,null,null,{"$f":"SUM(N13:N14)","v":0},{"$f":"SUM(O13:O14)","v":0}]
[null,null,{"$f":"Т0!C14","v":"Вредност на евро валута"},{"$f":"Т0!D14","v":1},{"$f":"Т0!E14","v":"="},{"$f":"Т0!F14","v":62},null,null,null,{"$f":"Т0!J14","v":"2.1. Ревизија на основен проект"},null,null,null,{"$f":"F7*J34","v":0},{"$f":"N13/F13","v":0}]
[null,null,null,null,null,null,null,null,null,{"$f":"Т0!J15","v":"2.2. Ревизија на идеен проект"},null,null,null,{"$f":"F7*L34","v":0},{"$f":"N14/F13","v":0}]
[null,null,{"$f":"Т0!C16","v":"Изработка на Основен проект"},{"$f":"Т0!D16:F16","v":"Ревизија на Основен проект"},null,null,{"$f":"Т0!G16:H16","v":"Надзор на изградба"}]
[null,null,{"$f":"G34/G9","v":2.3272185183651494E-2},{"$f":"K34/G9","v":3.4908277775477243E-3},null,null,{"$f":"N34","v":0.02},null,null,{"$f":"Т0!J17","v":"3. Надзор на градба (3.1.+3.2.)"},null,null,null,{"$f":"SUM(N17:N18)","v":0},{"$f":"SUM(O17:O18)","v":0}]
[null,null,{"$f":"Т0!C18","v":"Изработка на Идеен проект"},{"$f":"Т0!D18:F18","v":"Ревизија на Идеен проект"},null,null,{"$f":"Т0!G18:H18","v":"Проектантски надзор"},null,null,{"$f":"Т0!J18","v":"3.1. Надзор на градба"},null,null,null,{"$f":"F7*D9*N34","v":0},{"$f":"N17/F13","v":0}]
[null,null,{"$f":"I34/G9","v":6.9816555550954494E-3},{"$f":"M34/G9","v":1.0472483332643174E-3},null,null,{"$f":"O34","v":0.01},null,null,{"$f":"Т0!J19","v":"3.2. Проектантски надзор"},null,null,null,{"$f":"F7*D9*O34","v":0},{"$f":"N18/F13","v":0}]
[]
[null,null,null,null,null,{"$f":"Т0!F21","v":"Изработка на проектна документација"},null,null,null,{"$f":"Т0!J21","v":"Ревизија на проектна документација"},null,null,null,{"$f":"Т0!N21","v":"Надзор на изградба"}]
[null,null,null,null,null,null,null,null,null,{"$f":"Т0!J22","v":"(15% од вредноста на Изработка на проектна документација)"}]
[null,null,null,null,null,{"$f":"Т0!F23","v":"Основен проект"},null,{"$f":"Т0!H23","v":"Идеен проект"},null,{"$f":"Т0!J23","v":"Основен проект"},null,{"$f":"Т0!L23","v":"Идеен проект"},null,{"$f":"Т0!N23","v":"Надзор на изградба"},{"$f":"Т0!O23","v":"Проектантски надзор"}]
[null,null,null,null,null,null,null,{"$f":"Т0!H24","v":"(30% од вредноста на основниот проект)"},null,null,null,{"$f":"Т0!L24","v":"(30% од вредноста на ревизија на основниот проект)"}]
[null,null,{"$f":"Т0!C25","v":"Вид на проект"},{"$f":"Т0!D25","v":"Удел"},null,{"$f":"Т0!F25","v":"Минимална цена"},null,{"$f":"Т0!H25","v":"Минимална цена"},null,{"$f":"Т0!J25","v":"Минимална цена"},null,{"$f":"Т0!L25","v":"Минимална цена"},null,{"$f":"Т0!N25","v":"Минимален процент од инвестиција"},{"$f":"Т0!O25","v":"Минимален процент од инвестиција"}]
[null,null,{"$f":"Т0!C26","v":"(според намената)"},{"$f":"Т0!D26","v":"[%]"},null,{"$f":"Т0!F26","v":"[денари/m²]"},{"$f":"Т0!G26","v":"[€/m²]"},{"$f":"Т0!H26","v":"[денари/m²]"},{"$f":"Т0!I26","v":"[€/m²]"},{"$f":"Т0!J26","v":"[денари/m²]"},{"$f":"Т0!K26","v":"[€/m²]"},{"$f":"Т0!L26","v":"[денари/m²]"},{"$f":"Т0!M26","v":"[€/m²]"},{"$f":"Т0!N26","v":"[%]"},"[%]"]
[]
[null,null,{"$f":"Т0!C28","v":"Архитектонски проект"},{"$f":"F27/F34","v":0.59163701067615659},null,175,{"$f":"F27/F13","v":2.8225806451612905},{"$f":"F27*0.3","v":52.5},{"$f":"H27/F13","v":0.84677419354838712},{"$f":"F27*0.15","v":26.25},{"$f":"J27/F13","v":0.42338709677419356},{"$f":"J27*0.3","v":7.875},{"$f":"L27/F13","v":0.12701612903225806},{"$f":"N$34*(F27/$F$34*100)","v":1.1832740213523132},{"$f":"O$34*(F27/$F$34*100)","v":0.59163701067615659}]
[null,null,{"$f":"Т0!C30","v":"Електротехнички проект"},{"$f":"F28/F34","v":0.13523131672597866},null,40,{"$f":"F28/F13","v":0.64516129032258063},12,{"$f":"H28/F13","v":0.19354838709677419},6,{"$f":"J28/F13","v":9.6774193548387094E-2},1.7999999999999998,{"$f":"L28/F13","v":2.9032258064516127E-2},{"$f":"N$34*(F28/$F$34*100)","v":0.27046263345195731},{"$f":"O$34*(F28/$F$34*100)","v":0.13523131672597866}]
[null,null,{"$f":"Т0!C32","v":"Проект за водовод и канализација"},{"$f":"F29/F34","v":0.10480427046263345},null,31,{"$f":"F29/F13","v":0.5},9.2999999999999989,{"$f":"H29/F13","v":0.15},4.6499999999999995,{"$f":"J29/F13","v":7.4999999999999997E-2},1.3949999999999998,{"$f":"L29/F13","v":2.2499999999999996E-2},{"$f":"N$34*(F29/$F$34*100)","v":0.20960854092526693},{"$f":"O$34*(F29/$F$34*100)","v":0.10480427046263346}]
[null,null,{"$f":"Т0!C44","v":"Проект за  партерно уредување и сообраќај"},{"$f":"F30/F34","v":0.11832740213523132},null,35,{"$f":"F30/F13","v":0.56451612903225812},10.5,{"$f":"H30/F13","v":0.16935483870967741},5.25,{"$f":"J30/F13","v":8.4677419354838704E-2},1.575,{"$f":"L30/F13","v":2.5403225806451612E-2},{"$f":"N$34*(F30/$F$34*100)","v":0.23665480427046265},{"$f":"O$34*(F30/$F$34*100)","v":0.11832740213523132}]
[]
[null,null,{"$f":"Т0!C47","v":"Координација на проект"},{"$f":"F32/F34","v":4.9999999999999982E-2},null,{"$f":"SUM(F27:F30)/0.95-SUM(F27:F30)","v":14.78947368421052},{"$f":"F32/F13","v":0.23853989813242774},{"$f":"SUM(H27:H31)/0.95-SUM(H27:H31)","v":4.4368421052631675},{"$f":"H32/F13","v":7.1561969439728507E-2},{"$f":"F32*0.15","v":2.218421052631578},{"$f":"J32/F13","v":3.5780984719864163E-2},{"$f":"SUM(L27:L31)/0.95-SUM(L27:L31)","v":0.66552631578947441},{"$f":"L32/F13","v":1.0734295415959265E-2},{"$f":"N$34*(F32/$F$34*100)","v":9.9999999999999964E-2},{"$f":"O$34*(F32/$F$34*100)","v":4.9999999999999982E-2}]
[]
[null,null,{"$f":"Т0!C49","v":"Вкупно:"},{"$f":"SUM(D27:D32)","v":0.99999999999999989},null,{"$f":"SUM(F26:F33)","v":295.78947368421052},{"$f":"F34/F13","v":4.7707979626485564},{"$f":"SUM(H27:H32)","v":88.736842105263165},{"$f":"H34/F13","v":1.4312393887945671},{"$f":"SUM(J27:J32)","v":44.368421052631575},{"$f":"J34/F13","v":0.71561969439728346},{"$f":"SUM(L27:L32)","v":13.310526315789474},{"$f":"L34/F13","v":0.21468590831918508},0.02,0.01]

{"sheet":"Д1-II","index":48,"n_rows":35,"n_cols":15,"rows_kept":35,"cut":false,"hidden":true,"merged":[[23,5,23,6],[23,7,23,8],[23,9,23,10],[23,11,23,12],[21,5,22,6],[21,7,21,8],[21,9,22,10],[21,11,21,12],[21,13,22,13],[21,14,22,14],[22,7,22,8],[22,11,22,12],[17,3,17,5],[17,6,17,7],[17,9,17,12],[19,5,20,8],[19,9,19,12],[19,13,20,14],[20,9,20,12],[15,3,15,5],[15,6,15,7],[15,9,15,12],[16,3,16,5],[16,6,16,7],[16,9,16,12],[12,6,12,7],[12,9,12,12],[13,9,13,12],[14,3,14,5],[14,6,14,7],[14,9,14,12],[10,3,10,5],[10,6,10,7],[10,9,10,12],[11,3,11,5],[11,6,11,7],[11,9,11,12],[8,3,8,5],[8,6,8,7],[8,9,8,12],[9,3,9,5],[9,6,9,7],[9,9,9,12],[2,3,2,14],[4,2,4,14],[6,9,6,12],[6,13,6,14],[7,6,7,7],[7,9,7,12]]}
[]
[]
[null,null,{"$f":"' Помош - Каталог на намени'!D53","v":"Д1-II"},{"$f":"' Помош - Каталог на намени'!E53","v":"ПАРКОВСКО И ПЕЈЗАЖНО ЗЕЛЕНИЛО\n(II ГРУПА)"}]
[]
[null,null,{"$f":"' Помош - Каталог на намени'!F53","v":"Д1.4. - Арборетуми, ботанички бавчи, градини"}]
[]
[null,null,{"$f":"Т0!C8","v":"Површина на градба"},null,null,{"$f":"Калкулатор!D9","v":0},{"$f":"Т0!G8","v":"m²"},{"$f":"Т0!H8","v":"(варијабла)"},null,{"$f":"Т0!J8","v":"Вид на инженерска услуга"},null,null,null,{"$f":"Т0!N8","v":"Минимална вкупна цена"}]
[null,null,null,null,null,null,null,null,null,{"$f":"Т0!J9","v":"1. Изработка на проектна документација (1.1.+1.2)"},null,null,null,{"$f":"SUM(N9:N10)","v":0},{"$f":"SUM(O9:O10)","v":0}]
[null,null,{"$f":"Т0!C10","v":"Просечна цена на изведба за 1 m²"},{"$f":"G9*F13","v":15190},null,null,{"$f":"' Помош - Каталог на намени'!G53","v":245},null,null,{"$f":"Т0!J10","v":"1.1. Изработка на основен проект"},null,null,null,{"$f":"F7*F35","v":0},{"$f":"N9/F13","v":0}]
[null,null,null,null,null,null,null,null,null,{"$f":"Т0!J11","v":"1.2. Изработка на идеен проект"},null,null,null,{"$f":"F7*H35","v":0},{"$f":"N10/F13","v":0}]
[null,null,{"$f":"Т0!C12","v":"Вкупна инвестициона градежна  вредност"},{"$f":"F7*D9","v":0},null,null,{"$f":"D11/F13","v":0}]
[null,null,null,null,null,null,null,null,null,{"$f":"Т0!J13","v":"2. Ревизија на проектна документација (2.1.+2.2.)"},null,null,null,{"$f":"SUM(N13:N14)","v":0},{"$f":"SUM(O13:O14)","v":0}]
[null,null,{"$f":"Т0!C14","v":"Вредност на евро валута"},{"$f":"Т0!D14","v":1},{"$f":"Т0!E14","v":"="},{"$f":"Т0!F14","v":62},null,null,null,{"$f":"Т0!J14","v":"2.1. Ревизија на основен проект"},null,null,null,{"$f":"F7*J35","v":0},{"$f":"N13/F13","v":0}]
[null,null,null,null,null,null,null,null,null,{"$f":"Т0!J15","v":"2.2. Ревизија на идеен проект"},null,null,null,{"$f":"F7*L35","v":0},{"$f":"N14/F13","v":0}]
[null,null,{"$f":"Т0!C16","v":"Изработка на Основен проект"},{"$f":"Т0!D16:F16","v":"Ревизија на Основен проект"},null,null,{"$f":"Т0!G16:H16","v":"Надзор на изградба"}]
[null,null,{"$f":"G35/G9","v":2.7026090572052248E-2},{"$f":"K35/G9","v":4.0539135858078381E-3},null,null,{"$f":"N35","v":0.02},null,null,{"$f":"Т0!J17","v":"3. Надзор на градба (3.1.+3.2.)"},null,null,null,{"$f":"SUM(N17:N18)","v":0},{"$f":"SUM(O17:O18)","v":0}]
[null,null,{"$f":"Т0!C18","v":"Изработка на Идеен проект"},{"$f":"Т0!D18:F18","v":"Ревизија на Идеен проект"},null,null,{"$f":"Т0!G18:H18","v":"Проектантски надзор"},null,null,{"$f":"Т0!J18","v":"3.1. Надзор на градба"},null,null,null,{"$f":"F7*D9*N35","v":0},{"$f":"N17/F13","v":0}]
[null,null,{"$f":"I35/G9","v":8.1078271716156763E-3},{"$f":"M35/G9","v":1.2161740757423512E-3},null,null,{"$f":"O35","v":0.01},null,null,{"$f":"Т0!J19","v":"3.2. Проектантски надзор"},null,null,null,{"$f":"F7*D9*O35","v":0},{"$f":"N18/F13","v":0}]
[]
[null,null,null,null,null,{"$f":"Т0!F21","v":"Изработка на проектна документација"},null,null,null,{"$f":"Т0!J21","v":"Ревизија на проектна документација"},null,null,null,{"$f":"Т0!N21","v":"Надзор на изградба"}]
[null,null,null,null,null,null,null,null,null,{"$f":"Т0!J22","v":"(15% од вредноста на Изработка на проектна документација)"}]
[null,null,null,null,null,{"$f":"Т0!F23","v":"Основен проект"},null,{"$f":"Т0!H23","v":"Идеен проект"},null,{"$f":"Т0!J23","v":"Основен проект"},null,{"$f":"Т0!L23","v":"Идеен проект"},null,{"$f":"Т0!N23","v":"Надзор на изградба"},{"$f":"Т0!O23","v":"Проектантски надзор"}]
[null,null,null,null,null,null,null,{"$f":"Т0!H24","v":"(30% од вредноста на основниот проект)"},null,null,null,{"$f":"Т0!L24","v":"(30% од вредноста на ревизија на основниот проект)"}]
[null,null,{"$f":"Т0!C25","v":"Вид на проект"},{"$f":"Т0!D25","v":"Удел"},null,{"$f":"Т0!F25","v":"Минимална цена"},null,{"$f":"Т0!H25","v":"Минимална цена"},null,{"$f":"Т0!J25","v":"Минимална цена"},null,{"$f":"Т0!L25","v":"Минимална цена"},null,{"$f":"Т0!N25","v":"Минимален процент од инвестиција"},{"$f":"Т0!O25","v":"Минимален процент од инвестиција"}]
[null,null,{"$f":"Т0!C26","v":"(според намената)"},{"$f":"Т0!D26","v":"[%]"},null,{"$f":"Т0!F26","v":"[денари/m²]"},{"$f":"Т0!G26","v":"[€/m²]"},{"$f":"Т0!H26","v":"[денари/m²]"},{"$f":"Т0!I26","v":"[€/m²]"},{"$f":"Т0!J26","v":"[денари/m²]"},{"$f":"Т0!K26","v":"[€/m²]"},{"$f":"Т0!L26","v":"[денари/m²]"},{"$f":"Т0!M26","v":"[€/m²]"},{"$f":"Т0!N26","v":"[%]"},"[%]"]
[]
[null,null,{"$f":"Т0!C28","v":"Архитектонски проект"},{"$f":"F27/F35","v":0.4433333333333333},null,182,{"$f":"F27/F13","v":2.935483870967742},{"$f":"F27*0.3","v":54.6},{"$f":"H27/F13","v":0.88064516129032255},{"$f":"F27*0.15","v":27.3},{"$f":"J27/F13","v":0.44032258064516128},{"$f":"J27*0.3","v":8.19},{"$f":"L27/F13","v":0.13209677419354837},{"$f":"N$35*(F27/$F$35*100)","v":0.8866666666666666},{"$f":"O$35*(F27/$F$35*100)","v":0.4433333333333333}]
[null,null,{"$f":"Т0!C29","v":"Градежно-конструктивен проект"},{"$f":"F28/F35","v":0.24358974358974358},null,100,{"$f":"F28/F13","v":1.6129032258064515},30,{"$f":"H28/F13","v":0.4838709677419355},15,{"$f":"J28/F13","v":0.24193548387096775},4.5,{"$f":"L28/F13","v":7.2580645161290328E-2},{"$f":"N$35*(F28/$F$35*100)","v":0.48717948717948717},{"$f":"O$35*(F28/$F$35*100)","v":0.24358974358974358}]
[null,null,{"$f":"Т0!C30","v":"Електротехнички проект"},{"$f":"F29/F35","v":9.7435897435897437E-2},null,40,{"$f":"F29/F13","v":0.64516129032258063},12,{"$f":"H29/F13","v":0.19354838709677419},6,{"$f":"J29/F13","v":9.6774193548387094E-2},1.7999999999999998,{"$f":"L29/F13","v":2.9032258064516127E-2},{"$f":"N$35*(F29/$F$35*100)","v":0.1948717948717949},{"$f":"O$35*(F29/$F$35*100)","v":9.7435897435897451E-2}]
[null,null,{"$f":"Т0!C32","v":"Проект за водовод и канализација"},{"$f":"F30/F35","v":8.0384615384615388E-2},null,33,{"$f":"F30/F13","v":0.532258064516129},9.9,{"$f":"H30/F13","v":0.15967741935483873},4.95,{"$f":"J30/F13","v":7.9838709677419364E-2},1.4850000000000001,{"$f":"L30/F13","v":2.3951612903225807E-2},{"$f":"N$35*(F30/$F$35*100)","v":0.16076923076923078},{"$f":"O$35*(F30/$F$35*100)","v":8.0384615384615388E-2}]
[null,null,{"$f":"Т0!C44","v":"Проект за  партерно уредување и сообраќај"},{"$f":"F31/F35","v":8.5256410256410259E-2},null,35,{"$f":"F31/F13","v":0.56451612903225812},10.5,{"$f":"H31/F13","v":0.16935483870967741},5.25,{"$f":"J31/F13","v":8.4677419354838704E-2},1.575,{"$f":"L31/F13","v":2.5403225806451612E-2},{"$f":"N$35*(F31/$F$35*100)","v":0.17051282051282052},{"$f":"O$35*(F31/$F$35*100)","v":8.5256410256410259E-2}]
[]
[null,null,{"$f":"Т0!C47","v":"Координација на проект"},{"$f":"F33/F35","v":5.0000000000000037E-2},null,{"$f":"SUM(F27:F31)/0.95-SUM(F27:F31)","v":20.526315789473699},{"$f":"F33/F13","v":0.33106960950764031},{"$f":"SUM(H27:H31)/0.95-SUM(H27:H31)","v":6.1578947368421098},{"$f":"H33/F13","v":9.9320882852292097E-2},{"$f":"F33*0.15","v":3.0789473684210549},{"$f":"J33/F13","v":4.9660441426146049E-2},{"$f":"SUM(L27:L31)/0.95-SUM(L27:L31)","v":0.92368421052631788},{"$f":"L33/F13","v":1.4898132427843836E-2},{"$f":"N$35*(F33/$F$35*100)","v":0.10000000000000007},{"$f":"O$35*(F33/$F$35*100)","v":5.0000000000000037E-2}]
[]
[null,null,{"$f":"Т0!C49","v":"Вкупно:"},{"$f":"SUM(D27:D33)","v":1},null,{"$f":"SUM(F26:F34)","v":410.5263157894737},{"$f":"F35/F13","v":6.6213921901528012},{"$f":"SUM(H27:H33)","v":123.15789473684211},{"$f":"H35/F13","v":1.9864176570458405},{"$f":"SUM(J27:J33)","v":61.578947368421055},{"$f":"J35/F13","v":0.99320882852292025},{"$f":"SUM(L27:L33)","v":18.473684210526315},{"$f":"L35/F13","v":0.29796264855687604},0.02,0.01]

{"sheet":"Д2","index":49,"n_rows":34,"n_cols":15,"rows_kept":34,"cut":false,"hidden":true,"merged":[[23,5,23,6],[23,7,23,8],[23,9,23,10],[23,11,23,12],[21,5,22,6],[21,7,21,8],[21,9,22,10],[21,11,21,12],[21,13,22,13],[21,14,22,14],[22,7,22,8],[22,11,22,12],[17,3,17,5],[17,6,17,7],[17,9,17,12],[19,5,20,8],[19,9,19,12],[19,13,20,14],[20,9,20,12],[15,3,15,5],[15,6,15,7],[15,9,15,12],[16,3,16,5],[16,6,16,7],[16,9,16,12],[12,6,12,7],[12,9,12,12],[13,9,13,12],[14,3,14,5],[14,6,14,7],[14,9,14,12],[10,3,10,5],[10,6,10,7],[10,9,10,12],[11,3,11,5],[11,6,11,7],[11,9,11,12],[8,3,8,5],[8,6,8,7],[8,9,8,12],[9,3,9,5],[9,6,9,7],[9,9,9,12],[2,3,2,14],[4,2,4,14],[6,9,6,12],[6,13,6,14],[7,6,7,7],[7,9,7,12]]}
[]
[]
[null,null,{"$f":"' Помош - Каталог на намени'!D54","v":"Д2"},{"$f":"' Помош - Каталог на намени'!E54","v":"ЗАШТИТНО И СООБРАЌАЈНО ЗЕЛЕНИЛО"}]
[]
[null,null,{"$f":"' Помош - Каталог на намени'!F54","v":"Д2.1. - Линиско сообраќајно зеленило, разделно зеленило, заштитно сообраќајно зеленило на крстосници и јазли\nД2.2. - Зелени тампон зони помеѓу некомпатибилни наменски зони\nД2.3. - Индустриски зелени тампон појаси"}]
[]
[null,null,{"$f":"Т0!C8","v":"Површина на градба"},null,null,{"$f":"Калкулатор!D9","v":0},{"$f":"Т0!G8","v":"m²"},{"$f":"Т0!H8","v":"(варијабла)"},null,{"$f":"Т0!J8","v":"Вид на инженерска услуга"},null,null,null,{"$f":"Т0!N8","v":"Минимална вкупна цена"}]
[null,null,null,null,null,null,null,null,null,{"$f":"Т0!J9","v":"1. Изработка на проектна документација (1.1.+1.2)"},null,null,null,{"$f":"SUM(N9:N10)","v":0},{"$f":"SUM(O9:O10)","v":0}]
[null,null,{"$f":"Т0!C10","v":"Просечна цена на изведба за 1 m²"},{"$f":"G9*F13","v":10540},null,null,{"$f":"' Помош - Каталог на намени'!G54","v":170},null,null,{"$f":"Т0!J10","v":"1.1. Изработка на основен проект"},null,null,null,{"$f":"F7*F34","v":0},{"$f":"N9/F13","v":0}]
[null,null,null,null,null,null,null,null,null,{"$f":"Т0!J11","v":"1.2. Изработка на идеен проект"},null,null,null,{"$f":"F7*H34","v":0},{"$f":"N10/F13","v":0}]
[null,null,{"$f":"Т0!C12","v":"Вкупна инвестициона градежна  вредност"},{"$f":"F7*D9","v":0},null,null,{"$f":"D11/F13","v":0}]
[null,null,null,null,null,null,null,null,null,{"$f":"Т0!J13","v":"2. Ревизија на проектна документација (2.1.+2.2.)"},null,null,null,{"$f":"SUM(N13:N14)","v":0},{"$f":"SUM(O13:O14)","v":0}]
[null,null,{"$f":"Т0!C14","v":"Вредност на евро валута"},{"$f":"Т0!D14","v":1},{"$f":"Т0!E14","v":"="},{"$f":"Т0!F14","v":62},null,null,null,{"$f":"Т0!J14","v":"2.1. Ревизија на основен проект"},null,null,null,{"$f":"F7*J34","v":0},{"$f":"N13/F13","v":0}]
[null,null,null,null,null,null,null,null,null,{"$f":"Т0!J15","v":"2.2. Ревизија на идеен проект"},null,null,null,{"$f":"F7*L34","v":0},{"$f":"N14/F13","v":0}]
[null,null,{"$f":"Т0!C16","v":"Изработка на Основен проект"},{"$f":"Т0!D16:F16","v":"Ревизија на Основен проект"},null,null,{"$f":"Т0!G16:H16","v":"Надзор на изградба"}]
[null,null,{"$f":"G34/G9","v":2.396884050734046E-2},{"$f":"K34/G9","v":3.5953260761010693E-3},null,null,{"$f":"N34","v":0.02},null,null,{"$f":"Т0!J17","v":"3. Надзор на градба (3.1.+3.2.)"},null,null,null,{"$f":"SUM(N17:N18)","v":0},{"$f":"SUM(O17:O18)","v":0}]
[null,null,{"$f":"Т0!C18","v":"Изработка на Идеен проект"},{"$f":"Т0!D18:F18","v":"Ревизија на Идеен проект"},null,null,{"$f":"Т0!G18:H18","v":"Проектантски надзор"},null,null,{"$f":"Т0!J18","v":"3.1. Надзор на градба"},null,null,null,{"$f":"F7*D9*N34","v":0},{"$f":"N17/F13","v":0}]
[null,null,{"$f":"I34/G9","v":7.1906521522021385E-3},{"$f":"M34/G9","v":1.0785978228303207E-3},null,null,{"$f":"O34","v":0.01},null,null,{"$f":"Т0!J19","v":"3.2. Проектантски надзор"},null,null,null,{"$f":"F7*D9*O34","v":0},{"$f":"N18/F13","v":0}]
[]
[null,null,null,null,null,{"$f":"Т0!F21","v":"Изработка на проектна документација"},null,null,null,{"$f":"Т0!J21","v":"Ревизија на проектна документација"},null,null,null,{"$f":"Т0!N21","v":"Надзор на изградба"}]
[null,null,null,null,null,null,null,null,null,{"$f":"Т0!J22","v":"(15% од вредноста на Изработка на проектна документација)"}]
[null,null,null,null,null,{"$f":"Т0!F23","v":"Основен проект"},null,{"$f":"Т0!H23","v":"Идеен проект"},null,{"$f":"Т0!J23","v":"Основен проект"},null,{"$f":"Т0!L23","v":"Идеен проект"},null,{"$f":"Т0!N23","v":"Надзор на изградба"},{"$f":"Т0!O23","v":"Проектантски надзор"}]
[null,null,null,null,null,null,null,{"$f":"Т0!H24","v":"(30% од вредноста на основниот проект)"},null,null,null,{"$f":"Т0!L24","v":"(30% од вредноста на ревизија на основниот проект)"}]
[null,null,{"$f":"Т0!C25","v":"Вид на проект"},{"$f":"Т0!D25","v":"Удел"},null,{"$f":"Т0!F25","v":"Минимална цена"},null,{"$f":"Т0!H25","v":"Минимална цена"},null,{"$f":"Т0!J25","v":"Минимална цена"},null,{"$f":"Т0!L25","v":"Минимална цена"},null,{"$f":"Т0!N25","v":"Минимален процент од инвестиција"},{"$f":"Т0!O25","v":"Минимален процент од инвестиција"}]
[null,null,{"$f":"Т0!C26","v":"(според намената)"},{"$f":"Т0!D26","v":"[%]"},null,{"$f":"Т0!F26","v":"[денари/m²]"},{"$f":"Т0!G26","v":"[€/m²]"},{"$f":"Т0!H26","v":"[денари/m²]"},{"$f":"Т0!I26","v":"[€/m²]"},{"$f":"Т0!J26","v":"[денари/m²]"},{"$f":"Т0!K26","v":"[€/m²]"},{"$f":"Т0!L26","v":"[денари/m²]"},{"$f":"Т0!M26","v":"[€/m²]"},{"$f":"Т0!N26","v":"[%]"},"[%]"]
[]
[null,null,{"$f":"Т0!C28","v":"Архитектонски проект"},{"$f":"F27/F34","v":0.59375},null,150,{"$f":"F27/F13","v":2.4193548387096775},{"$f":"F27*0.3","v":45},{"$f":"H27/F13","v":0.72580645161290325},{"$f":"F27*0.15","v":22.5},{"$f":"J27/F13","v":0.36290322580645162},{"$f":"J27*0.3","v":6.75},{"$f":"L27/F13","v":0.10887096774193548},{"$f":"N$34*(F27/$F$34*100)","v":1.1875},{"$f":"O$34*(F27/$F$34*100)","v":0.59375}]
[null,null,{"$f":"Т0!C30","v":"Електротехнички проект"},{"$f":"F28/F34","v":0.13854166666666665},null,35,{"$f":"F28/F13","v":0.56451612903225812},10.5,{"$f":"H28/F13","v":0.16935483870967741},5.25,{"$f":"J28/F13","v":8.4677419354838704E-2},1.575,{"$f":"L28/F13","v":2.5403225806451612E-2},{"$f":"N$34*(F28/$F$34*100)","v":0.27708333333333329},{"$f":"O$34*(F28/$F$34*100)","v":0.13854166666666665}]
[null,null,{"$f":"Т0!C32","v":"Проект за водовод и канализација"},{"$f":"F29/F34","v":0.11874999999999999},null,30,{"$f":"F29/F13","v":0.4838709677419355},9,{"$f":"H29/F13","v":0.14516129032258066},4.5,{"$f":"J29/F13","v":7.2580645161290328E-2},1.3499999999999999,{"$f":"L29/F13","v":2.1774193548387093E-2},{"$f":"N$34*(F29/$F$34*100)","v":0.23750000000000002},{"$f":"O$34*(F29/$F$34*100)","v":0.11875000000000001}]
[null,null,{"$f":"Т0!C44","v":"Проект за  партерно уредување и сообраќај"},{"$f":"F30/F34","v":9.8958333333333329E-2},null,25,{"$f":"F30/F13","v":0.40322580645161288},7.5,{"$f":"H30/F13","v":0.12096774193548387},3.75,{"$f":"J30/F13","v":6.0483870967741937E-2},1.125,{"$f":"L30/F13","v":1.8145161290322582E-2},{"$f":"N$34*(F30/$F$34*100)","v":0.19791666666666666},{"$f":"O$34*(F30/$F$34*100)","v":9.8958333333333329E-2}]
[]
[null,null,{"$f":"Т0!C47","v":"Координација на проект"},{"$f":"F32/F34","v":5.0000000000000065E-2},null,{"$f":"SUM(F27:F30)/0.95-SUM(F27:F30)","v":12.631578947368439},{"$f":"F32/F13","v":0.20373514431239417},{"$f":"SUM(H27:H31)/0.95-SUM(H27:H31)","v":3.7894736842105345},{"$f":"H32/F13","v":6.1120543293718299E-2},{"$f":"F32*0.15","v":1.8947368421052657},{"$f":"J32/F13","v":3.0560271646859125E-2},{"$f":"SUM(L27:L31)/0.95-SUM(L27:L31)","v":0.56842105263157983},{"$f":"L32/F13","v":9.168081494057739E-3},{"$f":"N$34*(F32/$F$34*100)","v":0.10000000000000013},{"$f":"O$34*(F32/$F$34*100)","v":5.0000000000000065E-2}]
[]
[null,null,{"$f":"Т0!C49","v":"Вкупно:"},{"$f":"SUM(D27:D32)","v":1.0000000000000002},null,{"$f":"SUM(F26:F33)","v":252.63157894736844},{"$f":"F34/F13","v":4.074702886247878},{"$f":"SUM(H27:H32)","v":75.789473684210535},{"$f":"H34/F13","v":1.2224108658743635},{"$f":"SUM(J27:J32)","v":37.894736842105267},{"$f":"J34/F13","v":0.61120543293718177},{"$f":"SUM(L27:L32)","v":11.368421052631579},{"$f":"L34/F13","v":0.18336162988115451},0.02,0.01]

{"sheet":"Д3-I","index":50,"n_rows":39,"n_cols":15,"rows_kept":39,"cut":false,"hidden":true,"merged":[[23,5,23,6],[23,7,23,8],[23,9,23,10],[23,11,23,12],[21,5,22,6],[21,7,21,8],[21,9,22,10],[21,11,21,12],[21,13,22,13],[21,14,22,14],[22,7,22,8],[22,11,22,12],[17,3,17,5],[17,6,17,7],[17,9,17,12],[19,5,20,8],[19,9,19,12],[19,13,20,14],[20,9,20,12],[15,3,15,5],[15,6,15,7],[15,9,15,12],[16,3,16,5],[16,6,16,7],[16,9,16,12],[12,6,12,7],[12,9,12,12],[13,9,13,12],[14,3,14,5],[14,6,14,7],[14,9,14,12],[10,3,10,5],[10,6,10,7],[10,9,10,12],[11,3,11,5],[11,6,11,7],[11,9,11,12],[8,3,8,5],[8,6,8,7],[8,9,8,12],[9,3,9,5],[9,6,9,7],[9,9,9,12],[2,3,2,14],[4,2,4,14],[6,9,6,12],[6,13,6,14],[7,6,7,7],[7,9,7,12]]}
[]
[]
[null,null,{"$f":"' Помош - Каталог на намени'!D55","v":"Д3-I"},{"$f":"' Помош - Каталог на намени'!E55","v":"СПОРТ И РЕКРЕАЦИЈА НА ЗЕЛЕНИ ПОВРШИНИ\n(I ГРУПА)"}]
[]
[null,null,{"$f":"' Помош - Каталог на намени'!F55","v":"Д3.1. - Спортски терени на отворено, на трева, за тенис, фудбал и други спортови, без трибини"}]
[]
[null,null,{"$f":"Т0!C8","v":"Површина на градба"},null,null,{"$f":"Калкулатор!D9","v":0},{"$f":"Т0!G8","v":"m²"},{"$f":"Т0!H8","v":"(варијабла)"},null,{"$f":"Т0!J8","v":"Вид на инженерска услуга"},null,null,null,{"$f":"Т0!N8","v":"Минимална вкупна цена"}]
[null,null,null,null,null,null,null,null,null,{"$f":"Т0!J9","v":"1. Изработка на проектна документација (1.1.+1.2)"},null,null,null,{"$f":"SUM(N9:N10)","v":0},{"$f":"SUM(O9:O10)","v":0}]
[null,null,{"$f":"Т0!C10","v":"Просечна цена на изведба за 1 m²"},{"$f":"G9*F13","v":34100},null,null,{"$f":"' Помош - Каталог на намени'!G55","v":550},null,null,{"$f":"Т0!J10","v":"1.1. Изработка на основен проект"},null,null,null,{"$f":"F7*F39","v":0},{"$f":"N9/F13","v":0}]
[null,null,null,null,null,null,null,null,null,{"$f":"Т0!J11","v":"1.2. Изработка на идеен проект"},null,null,null,{"$f":"F7*H39","v":0},{"$f":"N10/F13","v":0}]
[null,null,{"$f":"Т0!C12","v":"Вкупна инвестициона градежна  вредност"},{"$f":"F7*D9","v":0},null,null,{"$f":"D11/F13","v":0}]
[null,null,null,null,null,null,null,null,null,{"$f":"Т0!J13","v":"2. Ревизија на проектна документација (2.1.+2.2.)"},null,null,null,{"$f":"SUM(N13:N14)","v":0},{"$f":"SUM(O13:O14)","v":0}]
[null,null,{"$f":"Т0!C14","v":"Вредност на евро валута"},{"$f":"Т0!D14","v":1},{"$f":"Т0!E14","v":"="},{"$f":"Т0!F14","v":62},null,null,null,{"$f":"Т0!J14","v":"2.1. Ревизија на основен проект"},null,null,null,{"$f":"F7*J39","v":0},{"$f":"N13/F13","v":0}]
[null,null,null,null,null,null,null,null,null,{"$f":"Т0!J15","v":"2.2. Ревизија на идеен проект"},null,null,null,{"$f":"F7*L39","v":0},{"$f":"N14/F13","v":0}]
[null,null,{"$f":"Т0!C16","v":"Изработка на Основен проект"},{"$f":"Т0!D16:F16","v":"Ревизија на Основен проект"},null,null,{"$f":"Т0!G16:H16","v":"Надзор на изградба"}]
[null,null,{"$f":"G39/G9","v":2.8090754746102793E-2},{"$f":"K39/G9","v":4.2136132119154198E-3},null,null,{"$f":"N39","v":2.5000000000000001E-2},null,null,{"$f":"Т0!J17","v":"3. Надзор на градба (3.1.+3.2.)"},null,null,null,{"$f":"SUM(N17:N18)","v":0},{"$f":"SUM(O17:O18)","v":0}]
[null,null,{"$f":"Т0!C18","v":"Изработка на Идеен проект"},{"$f":"Т0!D18:F18","v":"Ревизија на Идеен проект"},null,null,{"$f":"Т0!G18:H18","v":"Проектантски надзор"},null,null,{"$f":"Т0!J18","v":"3.1. Надзор на градба"},null,null,null,{"$f":"F7*D9*N39","v":0},{"$f":"N17/F13","v":0}]
[null,null,{"$f":"I39/G9","v":8.4272264238308397E-3},{"$f":"M39/G9","v":1.2640839635746255E-3},null,null,{"$f":"O39","v":0.01},null,null,{"$f":"Т0!J19","v":"3.2. Проектантски надзор"},null,null,null,{"$f":"F7*D9*O39","v":0},{"$f":"N18/F13","v":0}]
[]
[null,null,null,null,null,{"$f":"Т0!F21","v":"Изработка на проектна документација"},null,null,null,{"$f":"Т0!J21","v":"Ревизија на проектна документација"},null,null,null,{"$f":"Т0!N21","v":"Надзор на изградба"}]
[null,null,null,null,null,null,null,null,null,{"$f":"Т0!J22","v":"(15% од вредноста на Изработка на проектна документација)"}]
[null,null,null,null,null,{"$f":"Т0!F23","v":"Основен проект"},null,{"$f":"Т0!H23","v":"Идеен проект"},null,{"$f":"Т0!J23","v":"Основен проект"},null,{"$f":"Т0!L23","v":"Идеен проект"},null,{"$f":"Т0!N23","v":"Надзор на изградба"},{"$f":"Т0!O23","v":"Проектантски надзор"}]
[null,null,null,null,null,null,null,{"$f":"Т0!H24","v":"(30% од вредноста на основниот проект)"},null,null,null,{"$f":"Т0!L24","v":"(30% од вредноста на ревизија на основниот проект)"}]
[null,null,{"$f":"Т0!C25","v":"Вид на проект"},{"$f":"Т0!D25","v":"Удел"},null,{"$f":"Т0!F25","v":"Минимална цена"},null,{"$f":"Т0!H25","v":"Минимална цена"},null,{"$f":"Т0!J25","v":"Минимална цена"},null,{"$f":"Т0!L25","v":"Минимална цена"},null,{"$f":"Т0!N25","v":"Минимален процент од инвестиција"},{"$f":"Т0!O25","v":"Минимален процент од инвестиција"}]
[null,null,{"$f":"Т0!C26","v":"(според намената)"},{"$f":"Т0!D26","v":"[%]"},null,{"$f":"Т0!F26","v":"[денари/m²]"},{"$f":"Т0!G26","v":"[€/m²]"},{"$f":"Т0!H26","v":"[денари/m²]"},{"$f":"Т0!I26","v":"[€/m²]"},{"$f":"Т0!J26","v":"[денари/m²]"},{"$f":"Т0!K26","v":"[€/m²]"},{"$f":"Т0!L26","v":"[денари/m²]"},{"$f":"Т0!M26","v":"[€/m²]"},{"$f":"Т0!N26","v":"[%]"},"[%]"]
[]
[null,null,{"$f":"Т0!C28","v":"Архитектонски проект"},{"$f":"F27/F39","v":0.37582417582417582},null,360,{"$f":"F27/F13","v":5.806451612903226},{"$f":"F27*0.3","v":108},{"$f":"H27/F13","v":1.7419354838709677},{"$f":"F27*0.15","v":54},{"$f":"J27/F13","v":0.87096774193548387},{"$f":"J27*0.3","v":16.2},{"$f":"L27/F13","v":0.26129032258064516},{"$f":"N$39*(F27/$F$39*100)","v":0.93956043956043966},{"$f":"O$39*(F27/$F$39*100)","v":0.37582417582417582}]
[null,null,{"$f":"Т0!C29","v":"Градежно-конструктивен проект"},{"$f":"F28/F39","v":0.21923076923076923},null,210,{"$f":"F28/F13","v":3.3870967741935485},63,{"$f":"H28/F13","v":1.0161290322580645},31.5,{"$f":"J28/F13","v":0.50806451612903225},9.4499999999999993,{"$f":"L28/F13","v":0.15241935483870966},0.54807692307692313,0.21923076923076923]
[null,null,{"$f":"Т0!C30","v":"Електротехнички проект"},{"$f":"F29/F39","v":9.3956043956043955E-2},null,90,{"$f":"F29/F13","v":1.4516129032258065},27,{"$f":"H29/F13","v":0.43548387096774194},13.5,{"$f":"J29/F13","v":0.21774193548387097},4.05,{"$f":"L29/F13","v":6.5322580645161291E-2},0.23489010989010992,9.3956043956043955E-2]
[null,null,{"$f":"Т0!C32","v":"Проект за водовод и канализација"},{"$f":"F30/F39","v":8.3516483516483511E-2},null,80,{"$f":"F30/F13","v":1.2903225806451613},24,{"$f":"H30/F13","v":0.38709677419354838},12,{"$f":"J30/F13","v":0.19354838709677419},3.5999999999999996,{"$f":"L30/F13","v":5.8064516129032254E-2},0.20879120879120877,8.3516483516483511E-2]
[null,null,{"$f":"Т0!C33","v":"Термотехнички проект"},{"$f":"F31/F39","v":7.8296703296703296E-2},null,75,{"$f":"F31/F13","v":1.2096774193548387},22.5,{"$f":"H31/F13","v":0.36290322580645162},11.25,{"$f":"J31/F13","v":0.18145161290322581},3.375,{"$f":"L31/F13","v":5.4435483870967742E-2},0.19574175824175824,7.8296703296703296E-2]
[null,null,{"$f":"Т0!C44","v":"Проект за  партерно уредување и сообраќај"},{"$f":"F32/F39","v":4.1758241758241756E-2},null,40,{"$f":"F32/F13","v":0.64516129032258063},12,{"$f":"H32/F13","v":0.19354838709677419},6,{"$f":"J32/F13","v":9.6774193548387094E-2},1.7999999999999998,{"$f":"L32/F13","v":2.9032258064516127E-2},0.10439560439560439,4.1758241758241756E-2]
[null,null,{"$f":"Т0!C38","v":"Елаборат за заштита од пожари"},{"$f":"F33/F39","v":2.0879120879120878E-2},null,20,{"$f":"F33/F13","v":0.32258064516129031},6,{"$f":"H33/F13","v":9.6774193548387094E-2},3,{"$f":"J33/F13","v":4.8387096774193547E-2},0.89999999999999991,{"$f":"L33/F13","v":1.4516129032258063E-2},5.2197802197802193E-2,2.0879120879120878E-2]
[null,null,{"$f":"Т0!C39","v":"Елаборат за заштита при работа"},{"$f":"F34/F39","v":1.5659340659340659E-2},null,15,{"$f":"F34/F13","v":0.24193548387096775},4.5,{"$f":"H34/F13","v":7.2580645161290328E-2},2.25,{"$f":"J34/F13","v":3.6290322580645164E-2},0.67499999999999993,{"$f":"L34/F13","v":1.0887096774193547E-2},3.9148351648351648E-2,1.5659340659340659E-2]
[null,null,{"$f":"Т0!C43","v":"Елаборат за заштита на животната средина"},{"$f":"F35/F39","v":2.0879120879120878E-2},null,20,{"$f":"F35/F13","v":0.32258064516129031},6,{"$f":"H35/F13","v":9.6774193548387094E-2},{"$f":"F35*0.15","v":3},{"$f":"J35/F13","v":4.8387096774193547E-2},{"$f":"J35*0.3","v":0.89999999999999991},{"$f":"L35/F13","v":1.4516129032258063E-2},5.2197802197802193E-2,2.0879120879120878E-2]
[]
[null,null,{"$f":"Т0!C47","v":"Координација на проект"},{"$f":"F37/F39","v":5.0000000000000051E-2},null,{"$f":"SUM(F27:F35)/0.95-SUM(F27:F35)","v":47.894736842105317},{"$f":"F37/F13","v":0.77249575551782768},{"$f":"SUM(H27:H35)/0.95-SUM(H27:H35)","v":14.368421052631618},{"$f":"H37/F13","v":0.23174872665534868},{"$f":"F37*0.15","v":7.1842105263157974},{"$f":"J37/F13","v":0.11587436332767415},{"$f":"SUM(L27:L35)/0.95-SUM(L27:L35)","v":2.155263157894737},{"$f":"L37/F13","v":3.476230899830221E-2},{"$f":"N$39*(F37/$F$39*100)","v":0.12500000000000014},{"$f":"O$39*(F37/$F$39*100)","v":5.0000000000000051E-2}]
[]
[null,null,{"$f":"Т0!C49","v":"Вкупно:"},{"$f":"SUM(D27:D37)","v":1.0000000000000002},null,{"$f":"SUM(F26:F38)","v":957.89473684210532},{"$f":"F39/F13","v":15.449915110356537},{"$f":"SUM(H27:H37)","v":287.36842105263162},{"$f":"H39/F13","v":4.6349745331069618},{"$f":"SUM(J27:J37)","v":143.68421052631581},{"$f":"J39/F13","v":2.3174872665534809},{"$f":"SUM(L27:L37)","v":43.105263157894726},{"$f":"L39/F13","v":0.69524617996604399},2.5000000000000001E-2,0.01]

{"sheet":"Д3-II","index":51,"n_rows":40,"n_cols":15,"rows_kept":40,"cut":false,"hidden":true,"merged":[[23,5,23,6],[23,7,23,8],[23,9,23,10],[23,11,23,12],[21,5,22,6],[21,7,21,8],[21,9,22,10],[21,11,21,12],[21,13,22,13],[21,14,22,14],[22,7,22,8],[22,11,22,12],[17,3,17,5],[17,6,17,7],[17,9,17,12],[19,5,20,8],[19,9,19,12],[19,13,20,14],[20,9,20,12],[15,3,15,5],[15,6,15,7],[15,9,15,12],[16,3,16,5],[16,6,16,7],[16,9,16,12],[12,6,12,7],[12,9,12,12],[13,9,13,12],[14,3,14,5],[14,6,14,7],[14,9,14,12],[10,3,10,5],[10,6,10,7],[10,9,10,12],[11,3,11,5],[11,6,11,7],[11,9,11,12],[8,3,8,5],[8,6,8,7],[8,9,8,12],[9,3,9,5],[9,6,9,7],[9,9,9,12],[2,3,2,14],[4,2,4,14],[6,9,6,12],[6,13,6,14],[7,6,7,7],[7,9,7,12]]}
[]
[]
[null,null,{"$f":"' Помош - Каталог на намени'!D56","v":"Д3-II"},{"$f":"' Помош - Каталог на намени'!E56","v":"СПОРТ И РЕКРЕАЦИЈА НА ЗЕЛЕНИ ПОВРШИНИ\n(II ГРУПА)"}]
[]
[null,null,{"$f":"' Помош - Каталог на намени'!F56","v":"Д3.2. - Спортски терени на големи зелени површини: голф, тренинг паркови, скијачки терени и патеки, јавачки патеки, хиподроми, трим терени и патеки\nД3.3. - Отворени базени за пливање без трибини во зеленило, рекреативни езера\nД3.4. - Рекреативни паркови и тематски паркови без градби, зоолошки градини на отворено (без градби)"}]
[]
[null,null,{"$f":"Т0!C8","v":"Површина на градба"},null,null,{"$f":"Калкулатор!D9","v":0},{"$f":"Т0!G8","v":"m²"},{"$f":"Т0!H8","v":"(варијабла)"},null,{"$f":"Т0!J8","v":"Вид на инженерска услуга"},null,null,null,{"$f":"Т0!N8","v":"Минимална вкупна цена"}]
[null,null,null,null,null,null,null,null,null,{"$f":"Т0!J9","v":"1. Изработка на проектна документација (1.1.+1.2)"},null,null,null,{"$f":"SUM(N9:N10)","v":0},{"$f":"SUM(O9:O10)","v":0}]
[null,null,{"$f":"Т0!C10","v":"Просечна цена на изведба за 1 m²"},{"$f":"G9*F13","v":36270},null,null,{"$f":"' Помош - Каталог на намени'!G56","v":585},null,null,{"$f":"Т0!J10","v":"1.1. Изработка на основен проект"},null,null,null,{"$f":"F7*F40","v":0},{"$f":"N9/F13","v":0}]
[null,null,null,null,null,null,null,null,null,{"$f":"Т0!J11","v":"1.2. Изработка на идеен проект"},null,null,null,{"$f":"F7*H40","v":0},{"$f":"N10/F13","v":0}]
[null,null,{"$f":"Т0!C12","v":"Вкупна инвестициона градежна  вредност"},{"$f":"F7*D9","v":0},null,null,{"$f":"D11/F13","v":0}]
[null,null,null,null,null,null,null,null,null,{"$f":"Т0!J13","v":"2. Ревизија на проектна документација (2.1.+2.2.)"},null,null,null,{"$f":"SUM(N13:N14)","v":0},{"$f":"SUM(O13:O14)","v":0}]
[null,null,{"$f":"Т0!C14","v":"Вредност на евро валута"},{"$f":"Т0!D14","v":1},{"$f":"Т0!E14","v":"="},{"$f":"Т0!F14","v":62},null,null,null,{"$f":"Т0!J14","v":"2.1. Ревизија на основен проект"},null,null,null,{"$f":"F7*J40","v":0},{"$f":"N13/F13","v":0}]
[null,null,null,null,null,null,null,null,null,{"$f":"Т0!J15","v":"2.2. Ревизија на идеен проект"},null,null,null,{"$f":"F7*L40","v":0},{"$f":"N14/F13","v":0}]
[null,null,{"$f":"Т0!C16","v":"Изработка на Основен проект"},{"$f":"Т0!D16:F16","v":"Ревизија на Основен проект"},null,null,{"$f":"Т0!G16:H16","v":"Надзор на изградба"}]
[null,null,{"$f":"G40/G9","v":2.8935034028412642E-2},{"$f":"K40/G9","v":4.3402551042618963E-3},null,null,{"$f":"N40","v":2.5000000000000001E-2},null,null,{"$f":"Т0!J17","v":"3. Надзор на градба (3.1.+3.2.)"},null,null,null,{"$f":"SUM(N17:N18)","v":0},{"$f":"SUM(O17:O18)","v":0}]
[null,null,{"$f":"Т0!C18","v":"Изработка на Идеен проект"},{"$f":"Т0!D18:F18","v":"Ревизија на Идеен проект"},null,null,{"$f":"Т0!G18:H18","v":"Проектантски надзор"},null,null,{"$f":"Т0!J18","v":"3.1. Надзор на градба"},null,null,null,{"$f":"F7*D9*N40","v":0},{"$f":"N17/F13","v":0}]
[null,null,{"$f":"I40/G9","v":8.6805102085237909E-3},{"$f":"M40/G9","v":1.3020765312785683E-3},null,null,{"$f":"O40","v":0.01},null,null,{"$f":"Т0!J19","v":"3.2. Проектантски надзор"},null,null,null,{"$f":"F7*D9*O40","v":0},{"$f":"N18/F13","v":0}]
[]
[null,null,null,null,null,{"$f":"Т0!F21","v":"Изработка на проектна документација"},null,null,null,{"$f":"Т0!J21","v":"Ревизија на проектна документација"},null,null,null,{"$f":"Т0!N21","v":"Надзор на изградба"}]
[null,null,null,null,null,null,null,null,null,{"$f":"Т0!J22","v":"(15% од вредноста на Изработка на проектна документација)"}]
[null,null,null,null,null,{"$f":"Т0!F23","v":"Основен проект"},null,{"$f":"Т0!H23","v":"Идеен проект"},null,{"$f":"Т0!J23","v":"Основен проект"},null,{"$f":"Т0!L23","v":"Идеен проект"},null,{"$f":"Т0!N23","v":"Надзор на изградба"},{"$f":"Т0!O23","v":"Проектантски надзор"}]
[null,null,null,null,null,null,null,{"$f":"Т0!H24","v":"(30% од вредноста на основниот проект)"},null,null,null,{"$f":"Т0!L24","v":"(30% од вредноста на ревизија на основниот проект)"}]
[null,null,{"$f":"Т0!C25","v":"Вид на проект"},{"$f":"Т0!D25","v":"Удел"},null,{"$f":"Т0!F25","v":"Минимална цена"},null,{"$f":"Т0!H25","v":"Минимална цена"},null,{"$f":"Т0!J25","v":"Минимална цена"},null,{"$f":"Т0!L25","v":"Минимална цена"},null,{"$f":"Т0!N25","v":"Минимален процент од инвестиција"},{"$f":"Т0!O25","v":"Минимален процент од инвестиција"}]
[null,null,{"$f":"Т0!C26","v":"(според намената)"},{"$f":"Т0!D26","v":"[%]"},null,{"$f":"Т0!F26","v":"[денари/m²]"},{"$f":"Т0!G26","v":"[€/m²]"},{"$f":"Т0!H26","v":"[денари/m²]"},{"$f":"Т0!I26","v":"[€/m²]"},{"$f":"Т0!J26","v":"[денари/m²]"},{"$f":"Т0!K26","v":"[€/m²]"},{"$f":"Т0!L26","v":"[денари/m²]"},{"$f":"Т0!M26","v":"[€/m²]"},{"$f":"Т0!N26","v":"[%]"},"[%]"]
[]
[null,null,{"$f":"Т0!C28","v":"Архитектонски проект"},{"$f":"F27/F40","v":0.40020060180541617},null,420,{"$f":"F27/F13","v":6.774193548387097},{"$f":"F27*0.3","v":126},{"$f":"H27/F13","v":2.032258064516129},{"$f":"F27*0.15","v":63},{"$f":"J27/F13","v":1.0161290322580645},{"$f":"J27*0.3","v":18.899999999999999},{"$f":"L27/F13","v":0.30483870967741933},{"$f":"N$40*(F27/$F$40*100)","v":1.0005015045135406},{"$f":"O$40*(F27/$F$40*100)","v":0.40020060180541622}]
[null,null,{"$f":"Т0!C29","v":"Градежно-конструктивен проект"},{"$f":"F28/F40","v":0.23345035105315945},null,245,{"$f":"F28/F13","v":3.9516129032258065},73.5,{"$f":"H28/F13","v":1.185483870967742},36.75,{"$f":"J28/F13","v":0.592741935483871},11.025,{"$f":"L28/F13","v":0.17782258064516129},0.58362587763289864,0.23345035105315945]
[null,null,{"$f":"Т0!C30","v":"Електротехнички проект"},{"$f":"F29/F40","v":8.5757271815446331E-2},null,90,{"$f":"F29/F13","v":1.4516129032258065},27,{"$f":"H29/F13","v":0.43548387096774194},13.5,{"$f":"J29/F13","v":0.21774193548387097},4.05,{"$f":"L29/F13","v":6.5322580645161291E-2},0.21439317953861581,8.5757271815446331E-2]
[null,null,{"$f":"Т0!C32","v":"Проект за водовод и канализација"},{"$f":"F30/F40","v":5.9077231695085247E-2},null,62,{"$f":"F30/F13","v":1},18.599999999999998,{"$f":"H30/F13","v":0.3},9.2999999999999989,{"$f":"J30/F13","v":0.15},2.7899999999999996,{"$f":"L30/F13","v":4.4999999999999991E-2},0.1476930792377131,5.9077231695085247E-2]
[null,null,{"$f":"Т0!C33","v":"Термотехнички проект"},{"$f":"F31/F40","v":7.6228686058174511E-2},null,80,{"$f":"F31/F13","v":1.2903225806451613},24,{"$f":"H31/F13","v":0.38709677419354838},12,{"$f":"J31/F13","v":0.19354838709677419},3.5999999999999996,{"$f":"L31/F13","v":5.8064516129032254E-2},0.19057171514543628,7.6228686058174511E-2]
[null,null,{"$f":"Т0!C36","v":"Технолошки проект"},{"$f":"F32/F40","v":2.8585757271815442E-2},null,30,{"$f":"F32/F13","v":0.4838709677419355},9,{"$f":"H32/F13","v":0.14516129032258066},4.5,{"$f":"J32/F13","v":7.2580645161290328E-2},1.3499999999999999,{"$f":"L32/F13","v":2.1774193548387093E-2},7.1464393179538607E-2,2.8585757271815442E-2]
[null,null,{"$f":"Т0!C44","v":"Проект за  партерно уредување и сообраќај"},{"$f":"F33/F40","v":1.9057171514543628E-2},null,20,{"$f":"F33/F13","v":0.32258064516129031},6,{"$f":"H33/F13","v":9.6774193548387094E-2},3,{"$f":"J33/F13","v":4.8387096774193547E-2},0.89999999999999991,{"$f":"L33/F13","v":1.4516129032258063E-2},4.7642928786359069E-2,1.9057171514543628E-2]
[null,null,{"$f":"Т0!C38","v":"Елаборат за заштита од пожари"},{"$f":"F34/F40","v":1.9057171514543628E-2},null,20,{"$f":"F34/F13","v":0.32258064516129031},6,{"$f":"H34/F13","v":9.6774193548387094E-2},3,{"$f":"J34/F13","v":4.8387096774193547E-2},0.89999999999999991,{"$f":"L34/F13","v":1.4516129032258063E-2},4.7642928786359069E-2,1.9057171514543628E-2]
[null,null,{"$f":"Т0!C39","v":"Елаборат за заштита при работа"},{"$f":"F35/F40","v":1.4292878635907721E-2},null,15,{"$f":"F35/F13","v":0.24193548387096775},4.5,{"$f":"H35/F13","v":7.2580645161290328E-2},2.25,{"$f":"J35/F13","v":3.6290322580645164E-2},0.67499999999999993,{"$f":"L35/F13","v":1.0887096774193547E-2},3.5732196589769304E-2,1.4292878635907721E-2]
[null,null,{"$f":"Т0!C43","v":"Елаборат за заштита на животната средина"},{"$f":"F36/F40","v":1.4292878635907721E-2},null,15,{"$f":"F36/F13","v":0.24193548387096775},4.5,{"$f":"H36/F13","v":7.2580645161290328E-2},{"$f":"F36*0.15","v":2.25},{"$f":"J36/F13","v":3.6290322580645164E-2},{"$f":"J36*0.3","v":0.67499999999999993},{"$f":"L36/F13","v":1.0887096774193547E-2},3.5732196589769304E-2,1.4292878635907721E-2]
[]
[null,null,{"$f":"Т0!C47","v":"Координација на проект"},{"$f":"F38/F40","v":5.0000000000000142E-2},null,{"$f":"SUM(F27:F36)/0.95-SUM(F27:F36)","v":52.473684210526471},{"$f":"F38/F13","v":0.8463497453310721},{"$f":"SUM(H27:H36)/0.95-SUM(H27:H36)","v":15.742105263157896},{"$f":"H38/F13","v":0.25390492359932088},{"$f":"F38*0.15","v":7.8710526315789702},{"$f":"J38/F13","v":0.1269524617996608},{"$f":"SUM(L27:L36)/0.95-SUM(L27:L36)","v":2.3613157894736858},{"$f":"L38/F13","v":3.8085738539898155E-2},{"$f":"N$40*(F38/$F$40*100)","v":0.12500000000000036},{"$f":"O$40*(F38/$F$40*100)","v":5.0000000000000142E-2}]
[]
[null,null,{"$f":"Т0!C49","v":"Вкупно:"},{"$f":"SUM(D27:D38)","v":1},null,{"$f":"SUM(F26:F39)","v":1049.4736842105265},{"$f":"F40/F13","v":16.926994906621395},{"$f":"SUM(H27:H38)","v":314.84210526315792},{"$f":"H40/F13","v":5.0780984719864177},{"$f":"SUM(J27:J38)","v":157.42105263157899},{"$f":"J40/F13","v":2.5390492359932093},{"$f":"SUM(L27:L38)","v":47.226315789473674},{"$f":"L40/F13","v":0.76171477079796246},2.5000000000000001E-2,0.01]

{"sheet":"Д4","index":52,"n_rows":36,"n_cols":15,"rows_kept":36,"cut":false,"hidden":true,"merged":[[23,5,23,6],[23,7,23,8],[23,9,23,10],[23,11,23,12],[21,5,22,6],[21,7,21,8],[21,9,22,10],[21,11,21,12],[21,13,22,13],[21,14,22,14],[22,7,22,8],[22,11,22,12],[17,3,17,5],[17,6,17,7],[17,9,17,12],[19,5,20,8],[19,9,19,12],[19,13,20,14],[20,9,20,12],[15,3,15,5],[15,6,15,7],[15,9,15,12],[16,3,16,5],[16,6,16,7],[16,9,16,12],[12,6,12,7],[12,9,12,12],[13,9,13,12],[14,3,14,5],[14,6,14,7],[14,9,14,12],[10,3,10,5],[10,6,10,7],[10,9,10,12],[11,3,11,5],[11,6,11,7],[11,9,11,12],[8,3,8,5],[8,6,8,7],[8,9,8,12],[9,3,9,5],[9,6,9,7],[9,9,9,12],[2,3,2,14],[4,2,4,14],[6,9,6,12],[6,13,6,14],[7,6,7,7],[7,9,7,12]]}
[]
[]
[null,null,{"$f":"' Помош - Каталог на намени'!D57","v":"Д4"},{"$f":"' Помош - Каталог на намени'!E57","v":"МЕМОРИЈАЛНИ ЗЕЛЕНИ ПРОСТОРИ И ГРОБИШТА"}]
[]
[null,null,{"$f":"' Помош - Каталог на намени'!F57","v":"Д4.1. - Меморијални паркови\nД4.2. - Меморијални простори со паметници во зеленило\nД4.3. - Озеленети простори за гробишта, гробишта"}]
[]
[null,null,{"$f":"Т0!C8","v":"Површина на градба"},null,null,{"$f":"Калкулатор!D9","v":0},{"$f":"Т0!G8","v":"m²"},{"$f":"Т0!H8","v":"(варијабла)"},null,{"$f":"Т0!J8","v":"Вид на инженерска услуга"},null,null,null,{"$f":"Т0!N8","v":"Минимална вкупна цена"}]
[null,null,null,null,null,null,null,null,null,{"$f":"Т0!J9","v":"1. Изработка на проектна документација (1.1.+1.2)"},null,null,null,{"$f":"SUM(N9:N10)","v":0},{"$f":"SUM(O9:O10)","v":0}]
[null,null,{"$f":"Т0!C10","v":"Просечна цена на изведба за 1 m²"},{"$f":"G9*F13","v":22630},null,null,{"$f":"' Помош - Каталог на намени'!G57","v":365},null,null,{"$f":"Т0!J10","v":"1.1. Изработка на основен проект"},null,null,null,{"$f":"F7*F36","v":0},{"$f":"N9/F13","v":0}]
[null,null,null,null,null,null,null,null,null,{"$f":"Т0!J11","v":"1.2. Изработка на идеен проект"},null,null,null,{"$f":"F7*H36","v":0},{"$f":"N10/F13","v":0}]
[null,null,{"$f":"Т0!C12","v":"Вкупна инвестициона градежна  вредност"},{"$f":"F7*D9","v":0},null,null,{"$f":"D11/F13","v":0}]
[null,null,null,null,null,null,null,null,null,{"$f":"Т0!J13","v":"2. Ревизија на проектна документација (2.1.+2.2.)"},null,null,null,{"$f":"SUM(N13:N14)","v":0},{"$f":"SUM(O13:O14)","v":0}]
[null,null,{"$f":"Т0!C14","v":"Вредност на евро валута"},{"$f":"Т0!D14","v":1},{"$f":"Т0!E14","v":"="},{"$f":"Т0!F14","v":62},null,null,null,{"$f":"Т0!J14","v":"2.1. Ревизија на основен проект"},null,null,null,{"$f":"F7*J36","v":0},{"$f":"N13/F13","v":0}]
[null,null,null,null,null,null,null,null,null,{"$f":"Т0!J15","v":"2.2. Ревизија на идеен проект"},null,null,null,{"$f":"F7*L36","v":0},{"$f":"N14/F13","v":0}]
[null,null,{"$f":"Т0!C16","v":"Изработка на Основен проект"},{"$f":"Т0!D16:F16","v":"Ревизија на Основен проект"},null,null,{"$f":"Т0!G16:H16","v":"Надзор на изградба"}]
[null,null,{"$f":"G36/G9","v":2.9304370072330627E-2},{"$f":"K36/G9","v":4.3956555108495936E-3},null,null,{"$f":"N36","v":2.5000000000000001E-2},null,null,{"$f":"Т0!J17","v":"3. Надзор на градба (3.1.+3.2.)"},null,null,null,{"$f":"SUM(N17:N18)","v":0},{"$f":"SUM(O17:O18)","v":0}]
[null,null,{"$f":"Т0!C18","v":"Изработка на Идеен проект"},{"$f":"Т0!D18:F18","v":"Ревизија на Идеен проект"},null,null,{"$f":"Т0!G18:H18","v":"Проектантски надзор"},null,null,{"$f":"Т0!J18","v":"3.1. Надзор на градба"},null,null,null,{"$f":"F7*D9*N36","v":0},{"$f":"N17/F13","v":0}]
[null,null,{"$f":"I36/G9","v":8.7913110216991872E-3},{"$f":"M36/G9","v":1.3186966532548782E-3},null,null,{"$f":"O36","v":0.01},null,null,{"$f":"Т0!J19","v":"3.2. Проектантски надзор"},null,null,null,{"$f":"F7*D9*O36","v":0},{"$f":"N18/F13","v":0}]
[]
[null,null,null,null,null,{"$f":"Т0!F21","v":"Изработка на проектна документација"},null,null,null,{"$f":"Т0!J21","v":"Ревизија на проектна документација"},null,null,null,{"$f":"Т0!N21","v":"Надзор на изградба"}]
[null,null,null,null,null,null,null,null,null,{"$f":"Т0!J22","v":"(15% од вредноста на Изработка на проектна документација)"}]
[null,null,null,null,null,{"$f":"Т0!F23","v":"Основен проект"},null,{"$f":"Т0!H23","v":"Идеен проект"},null,{"$f":"Т0!J23","v":"Основен проект"},null,{"$f":"Т0!L23","v":"Идеен проект"},null,{"$f":"Т0!N23","v":"Надзор на изградба"},{"$f":"Т0!O23","v":"Проектантски надзор"}]
[null,null,null,null,null,null,null,{"$f":"Т0!H24","v":"(30% од вредноста на основниот проект)"},null,null,null,{"$f":"Т0!L24","v":"(30% од вредноста на ревизија на основниот проект)"}]
[null,null,{"$f":"Т0!C25","v":"Вид на проект"},{"$f":"Т0!D25","v":"Удел"},null,{"$f":"Т0!F25","v":"Минимална цена"},null,{"$f":"Т0!H25","v":"Минимална цена"},null,{"$f":"Т0!J25","v":"Минимална цена"},null,{"$f":"Т0!L25","v":"Минимална цена"},null,{"$f":"Т0!N25","v":"Минимален процент од инвестиција"},{"$f":"Т0!O25","v":"Минимален процент од инвестиција"}]
[null,null,{"$f":"Т0!C26","v":"(според намената)"},{"$f":"Т0!D26","v":"[%]"},null,{"$f":"Т0!F26","v":"[денари/m²]"},{"$f":"Т0!G26","v":"[€/m²]"},{"$f":"Т0!H26","v":"[денари/m²]"},{"$f":"Т0!I26","v":"[€/m²]"},{"$f":"Т0!J26","v":"[денари/m²]"},{"$f":"Т0!K26","v":"[€/m²]"},{"$f":"Т0!L26","v":"[денари/m²]"},{"$f":"Т0!M26","v":"[€/m²]"},{"$f":"Т0!N26","v":"[%]"},"[%]"]
[]
[null,null,{"$f":"Т0!C28","v":"Архитектонски проект"},{"$f":"F27/F36","v":0.40714285714285714},null,270,{"$f":"F27/F13","v":4.354838709677419},{"$f":"F27*0.3","v":81},{"$f":"H27/F13","v":1.3064516129032258},{"$f":"F27*0.15","v":40.5},{"$f":"J27/F13","v":0.65322580645161288},{"$f":"J27*0.3","v":12.15},{"$f":"L27/F13","v":0.19596774193548389},{"$f":"N$36*(F27/$F$36*100)","v":1.017857142857143},{"$f":"O$36*(F27/$F$36*100)","v":0.40714285714285714}]
[null,null,{"$f":"Т0!C30","v":"Електротехнички проект"},{"$f":"F28/F36","v":0.30158730158730157},null,200,{"$f":"F28/F13","v":3.225806451612903},60,{"$f":"H28/F13","v":0.967741935483871},30,{"$f":"J28/F13","v":0.4838709677419355},9,{"$f":"L28/F13","v":0.14516129032258066},0.75396825396825395,0.30158730158730157]
[null,null,{"$f":"Т0!C32","v":"Проект за водовод и канализација"},{"$f":"F29/F36","v":0.1130952380952381},null,75,{"$f":"F29/F13","v":1.2096774193548387},22.5,{"$f":"H29/F13","v":0.36290322580645162},11.25,{"$f":"J29/F13","v":0.18145161290322581},3.375,{"$f":"L29/F13","v":5.4435483870967742E-2},0.28273809523809529,0.11309523809523811]
[null,null,{"$f":"Т0!C44","v":"Проект за  партерно уредување и сообраќај"},{"$f":"F30/F36","v":7.5396825396825393E-2},null,50,{"$f":"F30/F13","v":0.80645161290322576},15,{"$f":"H30/F13","v":0.24193548387096775},7.5,{"$f":"J30/F13","v":0.12096774193548387},2.25,{"$f":"L30/F13","v":3.6290322580645164E-2},0.18849206349206349,7.5396825396825393E-2]
[null,null,{"$f":"Т0!C38","v":"Елаборат за заштита од пожари"},{"$f":"F31/F36","v":3.0158730158730159E-2},null,20,{"$f":"F31/F13","v":0.32258064516129031},6,{"$f":"H31/F13","v":9.6774193548387094E-2},3,{"$f":"J31/F13","v":4.8387096774193547E-2},0.89999999999999991,{"$f":"L31/F13","v":1.4516129032258063E-2},7.5396825396825407E-2,3.0158730158730159E-2]
[null,null,{"$f":"Т0!C43","v":"Елаборат за заштита на животната средина"},{"$f":"F32/F36","v":2.2619047619047618E-2},null,15,{"$f":"F32/F13","v":0.24193548387096775},4.5,{"$f":"H32/F13","v":7.2580645161290328E-2},{"$f":"F32*0.15","v":2.25},{"$f":"J32/F13","v":3.6290322580645164E-2},{"$f":"J32*0.3","v":0.67499999999999993},{"$f":"L32/F13","v":1.0887096774193547E-2},5.6547619047619048E-2,2.2619047619047618E-2]
[]
[null,null,{"$f":"Т0!C47","v":"Координација на проект"},{"$f":"F34/F36","v":4.9999999999999968E-2},null,{"$f":"SUM(F27:F32)/0.95-SUM(F27:F32)","v":33.157894736842081},{"$f":"F34/F13","v":0.53480475382003356},{"$f":"SUM(H27:H32)/0.95-SUM(H27:H32)","v":9.9473684210526301},{"$f":"H34/F13","v":0.16044142614601017},{"$f":"F34*0.15","v":4.9736842105263124},{"$f":"J34/F13","v":8.0220713073005032E-2},{"$f":"SUM(L27:L32)/0.95-SUM(L27:L32)","v":1.4921052631578959},{"$f":"L34/F13","v":2.4066213921901548E-2},{"$f":"N$36*(F34/$F$36*100)","v":0.12499999999999992},{"$f":"O$36*(F34/$F$36*100)","v":4.9999999999999968E-2}]
[]
[null,null,{"$f":"Т0!C49","v":"Вкупно:"},{"$f":"SUM(D27:D34)","v":0.99999999999999989},null,{"$f":"SUM(F26:F35)","v":663.15789473684208},{"$f":"F36/F13","v":10.696095076400679},{"$f":"SUM(H27:H34)","v":198.94736842105263},{"$f":"H36/F13","v":3.2088285229202036},{"$f":"SUM(J27:J34)","v":99.473684210526315},{"$f":"J36/F13","v":1.6044142614601018},{"$f":"SUM(L27:L34)","v":29.842105263157894},{"$f":"L36/F13","v":0.48132427843803055},2.5000000000000001E-2,0.01]

{"sheet":"Е2","index":53,"n_rows":41,"n_cols":15,"rows_kept":41,"cut":false,"hidden":true,"merged":[[23,5,23,6],[23,7,23,8],[23,9,23,10],[23,11,23,12],[21,5,22,6],[21,7,21,8],[21,9,22,10],[21,11,21,12],[21,13,22,13],[21,14,22,14],[22,7,22,8],[22,11,22,12],[17,3,17,5],[17,6,17,7],[17,9,17,12],[19,5,20,8],[19,9,19,12],[19,13,20,14],[20,9,20,12],[15,3,15,5],[15,6,15,7],[15,9,15,12],[16,3,16,5],[16,6,16,7],[16,9,16,12],[12,6,12,7],[12,9,12,12],[13,9,13,12],[14,3,14,5],[14,6,14,7],[14,9,14,12],[10,3,10,5],[10,6,10,7],[10,9,10,12],[11,3,11,5],[11,6,11,7],[11,9,11,12],[8,3,8,5],[8,6,8,7],[8,9,8,12],[9,3,9,5],[9,6,9,7],[9,9,9,12],[2,3,2,14],[4,2,4,14],[6,9,6,12],[6,13,6,14],[7,6,7,7],[7,9,7,12]]}
[]
[]
[null,null,{"$f":"' Помош - Каталог на намени'!D62","v":"Е2"},{"$f":"' Помош - Каталог на намени'!E62","v":"ЗГРАДИ И КОМПЛЕКСИ НА ИНФРАСТРУКТУРНИТЕ СИСТЕМИ"}]
[]
[null,null,{"$f":"' Помош - Каталог на намени'!F62","v":"E2.1. - Згради и комплекси на патниот сообраќај: автобуски станици, шпедиции, згради за изнајмување на автомобили, такси компании, катни и подземни гаражи, технички преглед на автомобили, гранични премини, царински терминали, бензински пумпи\nE2.2. - Згради и комплекси на железничкиот сообраќај: железнички станици, товарни станици, ранжирни станици, ремизи за локомотиви и вагони, железничарски сервиси и ремонт центри\nE2.3. - Згради и комплекси на жичниот сообраќај: станични згради на жичари со кабини, станични згради на седечки жичари, жичарнички депоа\nE3.4.- Згради и комплекси на воздушниот сообраќај: цивилни аеродроми, воени аеродроми, карго аеродроми, спортски аеродроми, земјоделски аеродроми, контролни кули, хангари\nE3.5. - Згради и комплекси на водениот сообраќај: пристанишни терминали, хангари за пловилата\nE3.6. - Згради и комплекси на поштенскиот сообраќај: пошти, диспечерски центри, центри за експедиција\nE3.7. - Згради и комплекси на телекомуникациите: телекомуникациски центри, телефонски централи, згради за радио и телевизиска продукција и емитување, атенски и релејни станици, згради за сателитска комуникација\nE3.8. - Гробишни градби - капели, мртовечници, крематориуми"}]
[]
[null,null,{"$f":"Т0!C8","v":"Површина на градба"},null,null,{"$f":"Калкулатор!D9","v":0},{"$f":"Т0!G8","v":"m²"},{"$f":"Т0!H8","v":"(варијабла)"},null,{"$f":"Т0!J8","v":"Вид на инженерска услуга"},null,null,null,{"$f":"Т0!N8","v":"Минимална вкупна цена"}]
[null,null,null,null,null,null,null,null,null,{"$f":"Т0!J9","v":"1. Изработка на проектна документација (1.1.+1.2)"},null,null,null,{"$f":"SUM(N9:N10)","v":0},{"$f":"SUM(O9:O10)","v":0}]
[null,null,{"$f":"Т0!C10","v":"Просечна цена на изведба за 1 m²"},{"$f":"G9*F13","v":60760},null,null,{"$f":"' Помош - Каталог на намени'!G62","v":980},null,null,{"$f":"Т0!J10","v":"1.1. Изработка на основен проект"},null,null,null,{"$f":"F7*F41","v":0},{"$f":"N9/F13","v":0}]
[null,null,null,null,null,null,null,null,null,{"$f":"Т0!J11","v":"1.2. Изработка на идеен проект"},null,null,null,{"$f":"F7*H41","v":0},{"$f":"N10/F13","v":0}]
[null,null,{"$f":"Т0!C12","v":"Вкупна инвестициона градежна  вредност"},{"$f":"F7*D9","v":0},null,null,{"$f":"D11/F13","v":0}]
[null,null,null,null,null,null,null,null,null,{"$f":"Т0!J13","v":"2. Ревизија на проектна документација (2.1.+2.2.)"},null,null,null,{"$f":"SUM(N13:N14)","v":0},{"$f":"SUM(O13:O14)","v":0}]
[null,null,{"$f":"Т0!C14","v":"Вредност на евро валута"},{"$f":"Т0!D14","v":1},{"$f":"Т0!E14","v":"="},{"$f":"Т0!F14","v":62},null,null,null,{"$f":"Т0!J14","v":"2.1. Ревизија на основен проект"},null,null,null,{"$f":"F7*J41","v":0},{"$f":"N13/F13","v":0}]
[null,null,null,null,null,null,null,null,null,{"$f":"Т0!J15","v":"2.2. Ревизија на идеен проект"},null,null,null,{"$f":"F7*L41","v":0},{"$f":"N14/F13","v":0}]
[null,null,{"$f":"Т0!C16","v":"Изработка на Основен проект"},{"$f":"Т0!D16:F16","v":"Ревизија на Основен проект"},null,null,{"$f":"Т0!G16:H16","v":"Надзор на изградба"}]
[null,null,{"$f":"G41/G9","v":2.7147361491285819E-2},{"$f":"K41/G9","v":4.0721042236928733E-3},null,null,{"$f":"N41","v":2.5000000000000001E-2},null,null,{"$f":"Т0!J17","v":"3. Надзор на градба (3.1.+3.2.)"},null,null,null,{"$f":"SUM(N17:N18)","v":0},{"$f":"SUM(O17:O18)","v":0}]
[null,null,{"$f":"Т0!C18","v":"Изработка на Идеен проект"},{"$f":"Т0!D18:F18","v":"Ревизија на Идеен проект"},null,null,{"$f":"Т0!G18:H18","v":"Проектантски надзор"},null,null,{"$f":"Т0!J18","v":"3.1. Надзор на градба"},null,null,null,{"$f":"F7*D9*N41","v":0},{"$f":"N17/F13","v":0}]
[null,null,{"$f":"I41/G9","v":8.1325144658882242E-3},{"$f":"M41/G9","v":1.2198771698832334E-3},null,null,{"$f":"O41","v":0.01},null,null,{"$f":"Т0!J19","v":"3.2. Проектантски надзор"},null,null,null,{"$f":"F7*D9*O41","v":0},{"$f":"N18/F13","v":0}]
[]
[null,null,null,null,null,{"$f":"Т0!F21","v":"Изработка на проектна документација"},null,null,null,{"$f":"Т0!J21","v":"Ревизија на проектна документација"},null,null,null,{"$f":"Т0!N21","v":"Надзор на изградба"}]
[null,null,null,null,null,null,null,null,null,{"$f":"Т0!J22","v":"(15% од вредноста на Изработка на проектна документација)"}]
[null,null,null,null,null,{"$f":"Т0!F23","v":"Основен проект"},null,{"$f":"Т0!H23","v":"Идеен проект"},null,{"$f":"Т0!J23","v":"Основен проект"},null,{"$f":"Т0!L23","v":"Идеен проект"},null,{"$f":"Т0!N23","v":"Надзор на изградба"},{"$f":"Т0!O23","v":"Проектантски надзор"}]
[null,null,null,null,null,null,null,{"$f":"Т0!H24","v":"(30% од вредноста на основниот проект)"},null,null,null,{"$f":"Т0!L24","v":"(30% од вредноста на ревизија на основниот проект)"}]
[null,null,{"$f":"Т0!C25","v":"Вид на проект"},{"$f":"Т0!D25","v":"Удел"},null,{"$f":"Т0!F25","v":"Минимална цена"},null,{"$f":"Т0!H25","v":"Минимална цена"},null,{"$f":"Т0!J25","v":"Минимална цена"},null,{"$f":"Т0!L25","v":"Минимална цена"},null,{"$f":"Т0!N25","v":"Минимален процент од инвестиција"},{"$f":"Т0!O25","v":"Минимален процент од инвестиција"}]
[null,null,{"$f":"Т0!C26","v":"(според намената)"},{"$f":"Т0!D26","v":"[%]"},null,{"$f":"Т0!F26","v":"[денари/m²]"},{"$f":"Т0!G26","v":"[€/m²]"},{"$f":"Т0!H26","v":"[денари/m²]"},{"$f":"Т0!I26","v":"[€/m²]"},{"$f":"Т0!J26","v":"[денари/m²]"},{"$f":"Т0!K26","v":"[€/m²]"},{"$f":"Т0!L26","v":"[денари/m²]"},{"$f":"Т0!M26","v":"[€/m²]"},{"$f":"Т0!N26","v":"[%]"},"[%]"]
[]
[null,null,{"$f":"Т0!C28","v":"Архитектонски проект"},{"$f":"F27/F41","v":0.33647096362476064},null,555,{"$f":"F27/F13","v":8.9516129032258061},{"$f":"F27*0.3","v":166.5},{"$f":"H27/F13","v":2.685483870967742},{"$f":"F27*0.15","v":83.25},{"$f":"J27/F13","v":1.342741935483871},{"$f":"J27*0.3","v":24.974999999999998},{"$f":"L27/F13","v":0.40282258064516124},{"$f":"N$41*(F27/$F$41*100)","v":0.84117740906190164},{"$f":"O$41*(F27/$F$41*100)","v":0.33647096362476064}]
[null,null,{"$f":"Т0!C29","v":"Градежно-конструктивен проект"},{"$f":"F28/F41","v":0.22431397574984044},null,370,{"$f":"F28/F13","v":5.967741935483871},111,{"$f":"H28/F13","v":1.7903225806451613},55.5,{"$f":"J28/F13","v":0.89516129032258063},16.649999999999999,{"$f":"L28/F13","v":0.26854838709677414},0.56078493937460105,0.22431397574984044]
[null,null,{"$f":"Т0!C30","v":"Електротехнички проект"},{"$f":"F29/F41","v":0.12125079770261646},null,200,{"$f":"F29/F13","v":3.225806451612903},60,{"$f":"H29/F13","v":0.967741935483871},30,{"$f":"J29/F13","v":0.4838709677419355},9,{"$f":"L29/F13","v":0.14516129032258066},0.30312699425654116,0.12125079770261646]
[null,null,{"$f":"Т0!C32","v":"Проект за водовод и канализација"},{"$f":"F30/F41","v":5.5775366943203571E-2},null,92,{"$f":"F30/F13","v":1.4838709677419355},27.599999999999998,{"$f":"H30/F13","v":0.44516129032258062},13.799999999999999,{"$f":"J30/F13","v":0.22258064516129031},4.1399999999999997,{"$f":"L30/F13","v":6.6774193548387095E-2},0.13943841735800894,5.5775366943203571E-2]
[null,null,{"$f":"Т0!C33","v":"Термотехнички проект"},{"$f":"F31/F41","v":0.10306317804722398},null,170,{"$f":"F31/F13","v":2.7419354838709675},51,{"$f":"H31/F13","v":0.82258064516129037},25.5,{"$f":"J31/F13","v":0.41129032258064518},7.6499999999999995,{"$f":"L31/F13","v":0.12338709677419354},0.25765794511805995,0.10306317804722398]
[null,null,{"$f":"Т0!C44","v":"Проект за  партерно уредување и сообраќај"},{"$f":"F32/F41","v":2.72814294830887E-2},null,45,{"$f":"F32/F13","v":0.72580645161290325},13.5,{"$f":"H32/F13","v":0.21774193548387097},6.75,{"$f":"J32/F13","v":0.10887096774193548},2.0249999999999999,{"$f":"L32/F13","v":3.2661290322580645E-2},6.820357370772176E-2,2.7281429483088704E-2]
[null,null,{"$f":"Т0!C38","v":"Елаборат за заштита од пожари"},{"$f":"F33/F41","v":2.72814294830887E-2},null,45,{"$f":"F33/F13","v":0.72580645161290325},13.5,{"$f":"H33/F13","v":0.21774193548387097},6.75,{"$f":"J33/F13","v":0.10887096774193548},2.0249999999999999,{"$f":"L33/F13","v":3.2661290322580645E-2},6.820357370772176E-2,2.7281429483088704E-2]
[null,null,{"$f":"Т0!C39","v":"Елаборат за заштита при работа"},{"$f":"F34/F41","v":1.8187619655392468E-2},null,30,{"$f":"F34/F13","v":0.4838709677419355},9,{"$f":"H34/F13","v":0.14516129032258066},4.5,{"$f":"J34/F13","v":7.2580645161290328E-2},1.3499999999999999,{"$f":"L34/F13","v":2.1774193548387093E-2},4.5469049138481175E-2,1.8187619655392468E-2]
[null,null,{"$f":"Т0!C42","v":"Елаборат за енергетска ефикасност"},{"$f":"F35/F41","v":9.093809827696234E-3},null,15,{"$f":"F35/F13","v":0.24193548387096775},4.5,{"$f":"H35/F13","v":7.2580645161290328E-2},2.25,{"$f":"J35/F13","v":3.6290322580645164E-2},0.67499999999999993,{"$f":"L35/F13","v":1.0887096774193547E-2},{"$f":"N$41*(F35/$F$41*100)","v":2.2734524569240588E-2},{"$f":"O$41*(F35/$F$41*100)","v":9.093809827696234E-3}]
[null,null,{"$f":"Т0!C43","v":"Елаборат за заштита на животната средина"},{"$f":"F36/F41","v":9.093809827696234E-3},null,15,{"$f":"F36/F13","v":0.24193548387096775},4.5,{"$f":"H36/F13","v":7.2580645161290328E-2},{"$f":"F36*0.15","v":2.25},{"$f":"J36/F13","v":3.6290322580645164E-2},{"$f":"J36*0.3","v":0.67499999999999993},{"$f":"L36/F13","v":1.0887096774193547E-2},{"$f":"N$41*(F36/$F$41*100)","v":2.2734524569240588E-2},{"$f":"O$41*(F36/$F$41*100)","v":9.093809827696234E-3}]
[null,null,{"$f":"Т0!C37","v":"Сообраќаен проект"},{"$f":"F37/F41","v":1.8187619655392468E-2},null,30,{"$f":"F37/F13","v":0.4838709677419355},{"$f":"F37*0.3","v":9},{"$f":"H37/F13","v":0.14516129032258066},{"$f":"F37*0.15","v":4.5},{"$f":"J37/F13","v":7.2580645161290328E-2},{"$f":"J37*0.3","v":1.3499999999999999},{"$f":"L37/F13","v":2.1774193548387093E-2},{"$f":"N$41*(F37/$F$41*100)","v":4.5469049138481175E-2},{"$f":"O$41*(F37/$F$41*100)","v":1.8187619655392468E-2}]
[]
[null,null,{"$f":"Т0!C47","v":"Координација на проект"},{"$f":"F39/F41","v":5.0000000000000093E-2},null,{"$f":"SUM(F27:F37)/0.95-SUM(F27:F37)","v":82.473684210526471},{"$f":"F39/F13","v":1.3302207130730077},{"$f":"SUM(H27:H35)/0.95-SUM(H27:H35)","v":24.031578947368473},{"$f":"H39/F13","v":0.38760611205433021},{"$f":"F39*0.15","v":12.371052631578971},{"$f":"J39/F13","v":0.19953310696095114},{"$f":"SUM(L27:L35)/0.95-SUM(L27:L35)","v":3.6047368421052681},{"$f":"L39/F13","v":5.8140916808149486E-2},{"$f":"N$41*(F39/$F$41*100)","v":0.12500000000000022},{"$f":"O$41*(F39/$F$41*100)","v":5.0000000000000093E-2}]
[]
[null,null,{"$f":"Т0!C49","v":"Вкупно:"},{"$f":"SUM(D27:D39)","v":1},null,{"$f":"SUM(F26:F40)","v":1649.4736842105265},{"$f":"F41/F13","v":26.604414261460104},{"$f":"SUM(H27:H39)","v":494.1315789473685},{"$f":"H41/F13","v":7.9698641765704599},{"$f":"SUM(J27:J39)","v":247.42105263157899},{"$f":"J41/F13","v":3.9906621392190158},{"$f":"SUM(L27:L39)","v":74.119736842105254},{"$f":"L41/F13","v":1.1954796264855687},2.5000000000000001E-2,0.01]

{"sheet":"Е3","index":54,"n_rows":43,"n_cols":15,"rows_kept":43,"cut":false,"hidden":true,"merged":[[24,5,24,6],[24,7,24,8],[24,9,24,10],[24,11,24,12],[22,5,23,6],[22,7,22,8],[22,9,23,10],[22,11,22,12],[22,13,23,13],[22,14,23,14],[23,7,23,8],[23,11,23,12],[18,3,18,5],[18,6,18,7],[18,9,18,12],[20,5,21,8],[20,9,20,12],[20,13,21,14],[21,9,21,12],[16,3,16,5],[16,6,16,7],[16,9,16,12],[17,3,17,5],[17,6,17,7],[17,9,17,12],[13,6,13,7],[13,9,13,12],[14,9,14,12],[15,3,15,5],[15,6,15,7],[15,9,15,12],[11,3,11,5],[11,6,11,7],[11,9,11,12],[12,3,12,5],[12,6,12,7],[12,9,12,12],[9,3,9,5],[9,6,9,7],[9,9,9,12],[10,3,10,5],[10,6,10,7],[10,9,10,12],[2,3,2,14],[4,2,4,14],[7,9,7,12],[7,13,7,14],[8,6,8,7],[8,9,8,12],[5,2,5,14]]}
[]
[]
[null,null,{"$f":"' Помош - Каталог на намени'!D63","v":"Е3"},{"$f":"' Помош - Каталог на намени'!E63","v":"СПЕЦИЈАЛНИ НЕКЛАСИФИКУВАНИ ИНФРАСТРУКТУРИ"}]
[]
[null,null,{"$f":"' Помош - Каталог на намени'!F63","v":"Е3.1. - Депонии и преработка на неопасен отпад: регионални и локални депонии за одлагање на неопасен отпад, постројки за термички, физичко-хемиски и хемиски третман на неопасен отпад, неопасни јаловишта и пепелишта\nЕ3.2. - Специјализирани депонии за одлагање на опасен отпад, постројки за термички, физичко-хемиски и хемиски третман на опасен отпад, складиштење на радиоактивни супстанци и опасни јаловишта, пепелишта, и отпадни материи\nЕ3.3. - Специјални инфраструктури за воени потреби: воени утврдувања, бункерски пунктови, воени стрелишта и полигони, подземни и надземни складишта за муниција и експлозивни средства"}]
[null,null,{"$f":"Т0!C6","v":"*Напомена: Одредувањето на цената за проектирање на секој од објектите се одредува според неговата основна намена. Доколку некој објект нема специфична јасно одредена класа на намена, цената за проектирање се одредува според групата на објекти во кои е класифициран"}]
[]
[null,null,{"$f":"Т0!C8","v":"Површина на градба"},null,null,{"$f":"Калкулатор!D9","v":0},{"$f":"Т0!G8","v":"m²"},{"$f":"Т0!H8","v":"(варијабла)"},null,{"$f":"Т0!J8","v":"Вид на инженерска услуга"},null,null,null,{"$f":"Т0!N8","v":"Минимална вкупна цена"}]
[null,null,null,null,null,null,null,null,null,{"$f":"Т0!J9","v":"1. Изработка на проектна документација (1.1.+1.2)"},null,null,null,{"$f":"SUM(N10:N11)","v":0},{"$f":"SUM(O10:O11)","v":0}]
[null,null,{"$f":"Т0!C10","v":"Просечна цена на изведба за 1 m²"},{"$f":"G10*F14","v":56730},null,null,{"$f":"' Помош - Каталог на намени'!G63","v":915},null,null,{"$f":"Т0!J10","v":"1.1. Изработка на основен проект"},null,null,null,{"$f":"F8*F43","v":0},{"$f":"N10/F14","v":0}]
[null,null,null,null,null,null,null,null,null,{"$f":"Т0!J11","v":"1.2. Изработка на идеен проект"},null,null,null,{"$f":"F8*H43","v":0},{"$f":"N11/F14","v":0}]
[null,null,{"$f":"Т0!C12","v":"Вкупна инвестициона градежна  вредност"},{"$f":"F8*D10","v":0},null,null,{"$f":"D12/F14","v":0}]
[null,null,null,null,null,null,null,null,null,{"$f":"Т0!J13","v":"2. Ревизија на проектна документација (2.1.+2.2.)"},null,null,null,{"$f":"SUM(N14:N15)","v":0},{"$f":"SUM(O14:O15)","v":0}]
[null,null,{"$f":"Т0!C14","v":"Вредност на евро валута"},{"$f":"Т0!D14","v":1},{"$f":"Т0!E14","v":"="},{"$f":"Т0!F14","v":62},null,null,null,{"$f":"Т0!J14","v":"2.1. Ревизија на основен проект"},null,null,null,{"$f":"F8*J43","v":0},{"$f":"N14/F14","v":0}]
[null,null,null,null,null,null,null,null,null,{"$f":"Т0!J15","v":"2.2. Ревизија на идеен проект"},null,null,null,{"$f":"F8*L43","v":0},{"$f":"N15/F14","v":0}]
[null,null,{"$f":"Т0!C16","v":"Изработка на Основен проект"},{"$f":"Т0!D16:F16","v":"Ревизија на Основен проект"},null,null,{"$f":"Т0!G16:H16","v":"Надзор на изградба"}]
[null,null,{"$f":"G43/G10","v":2.8203772254539045E-2},{"$f":"K43/G10","v":4.2305658381808567E-3},null,null,{"$f":"N43","v":2.5000000000000001E-2},null,null,{"$f":"Т0!J17","v":"3. Надзор на градба (3.1.+3.2.)"},null,null,null,{"$f":"SUM(N18:N19)","v":0},{"$f":"SUM(O18:O19)","v":0}]
[null,null,{"$f":"Т0!C18","v":"Изработка на Идеен проект"},{"$f":"Т0!D18:F18","v":"Ревизија на Идеен проект"},null,null,{"$f":"Т0!G18:H18","v":"Проектантски надзор"},null,null,{"$f":"Т0!J18","v":"3.1. Надзор на градба"},null,null,null,{"$f":"F8*D10*N43","v":0},{"$f":"N18/F14","v":0}]
[null,null,{"$f":"I43/G10","v":8.4499986083665015E-3},{"$f":"M43/G10","v":1.2674997912549754E-3},null,null,{"$f":"O43","v":0.01},null,null,{"$f":"Т0!J19","v":"3.2. Проектантски надзор"},null,null,null,{"$f":"F8*D10*O43","v":0},{"$f":"N19/F14","v":0}]
[]
[null,null,null,null,null,{"$f":"Т0!F21","v":"Изработка на проектна документација"},null,null,null,{"$f":"Т0!J21","v":"Ревизија на проектна документација"},null,null,null,{"$f":"Т0!N21","v":"Надзор на изградба"}]
[null,null,null,null,null,null,null,null,null,{"$f":"Т0!J22","v":"(15% од вредноста на Изработка на проектна документација)"}]
[null,null,null,null,null,{"$f":"Т0!F23","v":"Основен проект"},null,{"$f":"Т0!H23","v":"Идеен проект"},null,{"$f":"Т0!J23","v":"Основен проект"},null,{"$f":"Т0!L23","v":"Идеен проект"},null,{"$f":"Т0!N23","v":"Надзор на изградба"},{"$f":"Т0!O23","v":"Проектантски надзор"}]
[null,null,null,null,null,null,null,{"$f":"Т0!H24","v":"(30% од вредноста на основниот проект)"},null,null,null,{"$f":"Т0!L24","v":"(30% од вредноста на ревизија на основниот проект)"}]
[null,null,{"$f":"Т0!C25","v":"Вид на проект"},{"$f":"Т0!D25","v":"Удел"},null,{"$f":"Т0!F25","v":"Минимална цена"},null,{"$f":"Т0!H25","v":"Минимална цена"},null,{"$f":"Т0!J25","v":"Минимална цена"},null,{"$f":"Т0!L25","v":"Минимална цена"},null,{"$f":"Т0!N25","v":"Минимален процент од инвестиција"},{"$f":"Т0!O25","v":"Минимален процент од инвестиција"}]
[null,null,{"$f":"Т0!C26","v":"(според намената)"},{"$f":"Т0!D26","v":"[%]"},null,{"$f":"Т0!F26","v":"[денари/m²]"},{"$f":"Т0!G26","v":"[€/m²]"},{"$f":"Т0!H26","v":"[денари/m²]"},{"$f":"Т0!I26","v":"[€/m²]"},{"$f":"Т0!J26","v":"[денари/m²]"},{"$f":"Т0!K26","v":"[€/m²]"},{"$f":"Т0!L26","v":"[денари/m²]"},{"$f":"Т0!M26","v":"[€/m²]"},{"$f":"Т0!N26","v":"[%]"},"[%]"]
[]
[null,null,{"$f":"Т0!C28","v":"Архитектонски проект"},{"$f":"F28/F43","v":0.19375000000000001},null,310,{"$f":"F28/F14","v":5},{"$f":"F28*0.3","v":93},{"$f":"H28/F14","v":1.5},{"$f":"F28*0.15","v":46.5},{"$f":"J28/F14","v":0.75},{"$f":"J28*0.3","v":13.95},{"$f":"L28/F14","v":0.22499999999999998},{"$f":"N$43*(F28/$F$43*100)","v":0.484375},{"$f":"O$43*(F28/$F$43*100)","v":0.19375000000000001}]
[null,null,{"$f":"Т0!C29","v":"Градежно-конструктивен проект"},{"$f":"F29/F43","v":0.19375000000000001},null,310,{"$f":"F29/F14","v":5},93,{"$f":"H29/F14","v":1.5},46.5,{"$f":"J29/F14","v":0.75},13.95,{"$f":"L29/F14","v":0.22499999999999998},{"$f":"N$43*(F29/$F$43*100)","v":0.484375},{"$f":"O$43*(F29/$F$43*100)","v":0.19375000000000001}]
[null,null,{"$f":"Т0!C30","v":"Електротехнички проект"},{"$f":"F30/F43","v":0.125},null,200,{"$f":"F30/F14","v":3.225806451612903},60,{"$f":"H30/F14","v":0.967741935483871},30,{"$f":"J30/F14","v":0.4838709677419355},9,{"$f":"L30/F14","v":0.14516129032258066},{"$f":"N$43*(F30/$F$43*100)","v":0.3125},{"$f":"O$43*(F30/$F$43*100)","v":0.125}]
[null,null,{"$f":"Т0!C32","v":"Проект за водовод и канализација"},{"$f":"F31/F43","v":5.6250000000000001E-2},null,90,{"$f":"F31/F14","v":1.4516129032258065},27,{"$f":"H31/F14","v":0.43548387096774194},13.5,{"$f":"J31/F14","v":0.21774193548387097},4.05,{"$f":"L31/F14","v":6.5322580645161291E-2},{"$f":"N$43*(F31/$F$43*100)","v":0.140625},{"$f":"O$43*(F31/$F$43*100)","v":5.6250000000000001E-2}]
[null,null,{"$f":"Т0!C33","v":"Термотехнички проект"},{"$f":"F32/F43","v":0.125},null,200,{"$f":"F32/F14","v":3.225806451612903},60,{"$f":"H32/F14","v":0.967741935483871},30,{"$f":"J32/F14","v":0.4838709677419355},9,{"$f":"L32/F14","v":0.14516129032258066},{"$f":"N$43*(F32/$F$43*100)","v":0.3125},{"$f":"O$43*(F32/$F$43*100)","v":0.125}]
[null,null,{"$f":"Т0!C36","v":"Технолошки проект"},{"$f":"F33/F43","v":0.14374999999999999},null,230,{"$f":"F33/F14","v":3.7096774193548385},69,{"$f":"H33/F14","v":1.1129032258064515},34.5,{"$f":"J33/F14","v":0.55645161290322576},10.35,{"$f":"L33/F14","v":0.16693548387096774},{"$f":"N$43*(F33/$F$43*100)","v":0.359375},{"$f":"O$43*(F33/$F$43*100)","v":0.14374999999999999}]
[null,null,{"$f":"Т0!C44","v":"Проект за  партерно уредување и сообраќај"},{"$f":"F34/F43","v":2.8125000000000001E-2},null,45,{"$f":"F34/F14","v":0.72580645161290325},13.5,{"$f":"H34/F14","v":0.21774193548387097},6.75,{"$f":"J34/F14","v":0.10887096774193548},2.0249999999999999,{"$f":"L34/F14","v":3.2661290322580645E-2},{"$f":"N$43*(F34/$F$43*100)","v":7.03125E-2},{"$f":"O$43*(F34/$F$43*100)","v":2.8125000000000001E-2}]
[null,null,{"$f":"Т0!C38","v":"Елаборат за заштита од пожари"},{"$f":"F35/F43","v":2.8125000000000001E-2},null,45,{"$f":"F35/F14","v":0.72580645161290325},13.5,{"$f":"H35/F14","v":0.21774193548387097},6.75,{"$f":"J35/F14","v":0.10887096774193548},2.0249999999999999,{"$f":"L35/F14","v":3.2661290322580645E-2},7.03125E-2,2.8125000000000001E-2]
[null,null,{"$f":"Т0!C39","v":"Елаборат за заштита при работа"},{"$f":"F36/F43","v":1.8749999999999999E-2},null,30,{"$f":"F36/F14","v":0.4838709677419355},9,{"$f":"H36/F14","v":0.14516129032258066},4.5,{"$f":"J36/F14","v":7.2580645161290328E-2},1.3499999999999999,{"$f":"L36/F14","v":2.1774193548387093E-2},4.6875E-2,1.8749999999999999E-2]
[null,null,{"$f":"Т0!C42","v":"Елаборат за енергетска ефикасност"},{"$f":"F37/F43","v":1.2500000000000001E-2},null,20,{"$f":"F37/F14","v":0.32258064516129031},6,{"$f":"H37/F14","v":9.6774193548387094E-2},3,{"$f":"J37/F14","v":4.8387096774193547E-2},0.89999999999999991,{"$f":"L37/F14","v":1.4516129032258063E-2},3.125E-2,1.2500000000000001E-2]
[null,null,{"$f":"Т0!C43","v":"Елаборат за заштита на животната средина"},{"$f":"F38/F43","v":1.2500000000000001E-2},null,20,{"$f":"F38/F14","v":0.32258064516129031},6,{"$f":"H38/F14","v":9.6774193548387094E-2},{"$f":"F38*0.15","v":3},{"$f":"J38/F14","v":4.8387096774193547E-2},{"$f":"J38*0.3","v":0.89999999999999991},{"$f":"L38/F14","v":1.4516129032258063E-2},3.125E-2,1.2500000000000001E-2]
[null,null,{"$f":"Т0!C37","v":"Сообраќаен проект"},{"$f":"F39/F43","v":1.2500000000000001E-2},null,20,{"$f":"F39/F14","v":0.32258064516129031},6,{"$f":"H39/F14","v":9.6774193548387094E-2},3,{"$f":"J39/F14","v":4.8387096774193547E-2},0.89999999999999991,{"$f":"L39/F14","v":1.4516129032258063E-2},3.125E-2,1.2500000000000001E-2]
[]
[null,null,{"$f":"Т0!C47","v":"Координација на проект"},{"$f":"F41/F43","v":0.05},null,{"$f":"SUM(F27:F39)/0.95-SUM(F27:F39)","v":80},{"$f":"F41/F14","v":1.2903225806451613},{"$f":"SUM(H28:H37)/0.95-SUM(H28:H37)","v":23.368421052631618},{"$f":"H41/F14","v":0.37691001697792931},{"$f":"F41*0.15","v":12},{"$f":"J41/F14","v":0.19354838709677419},{"$f":"SUM(L28:L37)/0.95-SUM(L28:L37)","v":3.5052631578947455},{"$f":"L41/F14","v":5.6536502546689446E-2},{"$f":"N$43*(F41/$F$43*100)","v":0.125},{"$f":"O$43*(F41/$F$43*100)","v":0.05}]
[]
[null,null,{"$f":"Т0!C49","v":"Вкупно:"},{"$f":"SUM(D28:D41)","v":0.99999999999999978},null,{"$f":"SUM(F27:F42)","v":1600},{"$f":"F43/F14","v":25.806451612903224},{"$f":"SUM(H28:H41)","v":479.36842105263162},{"$f":"H43/F14","v":7.7317487266553488},{"$f":"SUM(J28:J41)","v":240},{"$f":"J43/F14","v":3.870967741935484},{"$f":"SUM(L28:L41)","v":71.905263157894751},{"$f":"L43/F14","v":1.1597623089983025},2.5000000000000001E-2,0.01]